| Back to Multiple platform build/check report for BioC 3.18: simplified long |
|
This page was generated on 2024-04-17 11:37:03 -0400 (Wed, 17 Apr 2024).
| Hostname | OS | Arch (*) | R version | Installed pkgs |
|---|---|---|---|---|
| nebbiolo2 | Linux (Ubuntu 22.04.3 LTS) | x86_64 | 4.3.3 (2024-02-29) -- "Angel Food Cake" | 4676 |
| palomino4 | Windows Server 2022 Datacenter | x64 | 4.3.3 (2024-02-29 ucrt) -- "Angel Food Cake" | 4414 |
| merida1 | macOS 12.7.1 Monterey | x86_64 | 4.3.3 (2024-02-29) -- "Angel Food Cake" | 4437 |
| Click on any hostname to see more info about the system (e.g. compilers) (*) as reported by 'uname -p', except on Windows and Mac OS X | ||||
| Package 1384/2266 | Hostname | OS / Arch | INSTALL | BUILD | CHECK | BUILD BIN | ||||||||
| NanoMethViz 2.8.1 (landing page) Shian Su
| nebbiolo2 | Linux (Ubuntu 22.04.3 LTS) / x86_64 | OK | OK | OK | |||||||||
| palomino4 | Windows Server 2022 Datacenter / x64 | OK | OK | OK | OK | |||||||||
| merida1 | macOS 12.7.1 Monterey / x86_64 | OK | OK | OK | OK | |||||||||
| kjohnson1 | macOS 13.6.1 Ventura / arm64 | see weekly results here | ||||||||||||
|
To the developers/maintainers of the NanoMethViz package: - Allow up to 24 hours (and sometimes 48 hours) for your latest push to git@git.bioconductor.org:packages/NanoMethViz.git to reflect on this report. See Troubleshooting Build Report for more information. - Use the following Renviron settings to reproduce errors and warnings. - If 'R CMD check' started to fail recently on the Linux builder(s) over a missing dependency, add the missing dependency to 'Suggests:' in your DESCRIPTION file. See Renviron.bioc for more information. |
| Package: NanoMethViz |
| Version: 2.8.1 |
| Command: F:\biocbuild\bbs-3.18-bioc\R\bin\R.exe CMD check --no-multiarch --install=check:NanoMethViz.install-out.txt --library=F:\biocbuild\bbs-3.18-bioc\R\library --no-vignettes --timings NanoMethViz_2.8.1.tar.gz |
| StartedAt: 2024-04-16 03:08:39 -0400 (Tue, 16 Apr 2024) |
| EndedAt: 2024-04-16 03:19:09 -0400 (Tue, 16 Apr 2024) |
| EllapsedTime: 630.0 seconds |
| RetCode: 0 |
| Status: OK |
| CheckDir: NanoMethViz.Rcheck |
| Warnings: 0 |
##############################################################################
##############################################################################
###
### Running command:
###
### F:\biocbuild\bbs-3.18-bioc\R\bin\R.exe CMD check --no-multiarch --install=check:NanoMethViz.install-out.txt --library=F:\biocbuild\bbs-3.18-bioc\R\library --no-vignettes --timings NanoMethViz_2.8.1.tar.gz
###
##############################################################################
##############################################################################
* using log directory 'F:/biocbuild/bbs-3.18-bioc/meat/NanoMethViz.Rcheck'
* using R version 4.3.3 (2024-02-29 ucrt)
* using platform: x86_64-w64-mingw32 (64-bit)
* R was compiled by
gcc.exe (GCC) 12.3.0
GNU Fortran (GCC) 12.3.0
* running under: Windows Server 2022 x64 (build 20348)
* using session charset: UTF-8
* using option '--no-vignettes'
* checking for file 'NanoMethViz/DESCRIPTION' ... OK
* checking extension type ... Package
* this is package 'NanoMethViz' version '2.8.1'
* package encoding: UTF-8
* checking package namespace information ... OK
* checking package dependencies ... OK
* checking if this is a source package ... OK
* checking if there is a namespace ... OK
* checking for hidden files and directories ... OK
* checking for portable file names ... OK
* checking whether package 'NanoMethViz' can be installed ... OK
* used C++ compiler: 'G__~1.EXE (GCC) 12.3.0'
* checking C++ specification ... OK
Not all R platforms support C++17
* checking installed package size ... NOTE
installed size is 6.1Mb
sub-directories of 1Mb or more:
libs 1.1Mb
* checking package directory ... OK
* checking 'build' directory ... OK
* checking DESCRIPTION meta-information ... OK
* checking top-level files ... OK
* checking for left-over files ... OK
* checking index information ... OK
* checking package subdirectories ... OK
* checking R files for non-ASCII characters ... OK
* checking R files for syntax errors ... OK
* checking whether the package can be loaded ... OK
* checking whether the package can be loaded with stated dependencies ... OK
* checking whether the package can be unloaded cleanly ... OK
* checking whether the namespace can be loaded with stated dependencies ... OK
* checking whether the namespace can be unloaded cleanly ... OK
* checking dependencies in R code ... OK
* checking S3 generic/method consistency ... OK
* checking replacement functions ... OK
* checking foreign function calls ... OK
* checking R code for possible problems ... OK
* checking Rd files ... OK
* checking Rd metadata ... OK
* checking Rd cross-references ... OK
* checking for missing documentation entries ... OK
* checking for code/documentation mismatches ... OK
* checking Rd \usage sections ... OK
* checking Rd contents ... OK
* checking for unstated dependencies in examples ... OK
* checking line endings in C/C++/Fortran sources/headers ... OK
* checking use of PKG_*FLAGS in Makefiles ... OK
* checking compiled code ... NOTE
Note: information on .o files for x64 is not available
File 'F:/biocbuild/bbs-3.18-bioc/R/library/NanoMethViz/libs/x64/NanoMethViz.dll':
Found 'abort', possibly from 'abort' (C), 'runtime' (Fortran)
Found 'exit', possibly from 'exit' (C), 'stop' (Fortran)
Compiled code should not call entry points which might terminate R nor
write to stdout/stderr instead of to the console, nor use Fortran I/O
nor system RNGs nor [v]sprintf. The detected symbols are linked into
the code but might come from libraries and not actually be called.
See 'Writing portable packages' in the 'Writing R Extensions' manual.
* checking files in 'vignettes' ... OK
* checking examples ... OK
Examples with CPU (user + system) or elapsed time > 5s
user system elapsed
get_exons 44.78 3.06 49.09
get_exons_mus_musculus 14.76 0.33 15.09
get_exons_homo_sapiens 12.58 0.83 13.41
plot_gene_heatmap 9.99 0.34 10.33
plot_region_heatmap 8.94 0.34 9.29
plot_grange_heatmap 7.86 0.14 8.00
NanoMethResult-class 5.90 1.81 7.72
plot_agg_regions 7.30 0.19 7.49
cluster_regions 4.89 0.11 5.11
* checking for unstated dependencies in 'tests' ... OK
* checking tests ...
Running 'testthat.R'
OK
* checking for unstated dependencies in vignettes ... OK
* checking package vignettes in 'inst/doc' ... OK
* checking running R code from vignettes ... SKIPPED
* checking re-building of vignette outputs ... SKIPPED
* checking PDF version of manual ... OK
* DONE
Status: 2 NOTEs
See
'F:/biocbuild/bbs-3.18-bioc/meat/NanoMethViz.Rcheck/00check.log'
for details.
NanoMethViz.Rcheck/00install.out
############################################################################## ############################################################################## ### ### Running command: ### ### F:\biocbuild\bbs-3.18-bioc\R\bin\R.exe CMD INSTALL NanoMethViz ### ############################################################################## ############################################################################## * installing to library 'F:/biocbuild/bbs-3.18-bioc/R/library' * installing *source* package 'NanoMethViz' ... ** using staged installation ** libs using C++ compiler: 'G__~1.EXE (GCC) 12.3.0' using C++17 g++ -std=gnu++17 -I"F:/biocbuild/bbs-3.18-bioc/R/library/zlibbioc/include" -I"F:/biocbuild/bbs-3.18-bioc/R/include" -DNDEBUG -I'F:/biocbuild/bbs-3.18-bioc/R/library/Rcpp/include' -I"C:/rtools43/x86_64-w64-mingw32.static.posix/include" -O2 -Wall -mfpmath=sse -msse2 -mstackrealign -c RcppExports.cpp -o RcppExports.o g++ -std=gnu++17 -I"F:/biocbuild/bbs-3.18-bioc/R/library/zlibbioc/include" -I"F:/biocbuild/bbs-3.18-bioc/R/include" -DNDEBUG -I'F:/biocbuild/bbs-3.18-bioc/R/library/Rcpp/include' -I"C:/rtools43/x86_64-w64-mingw32.static.posix/include" -O2 -Wall -mfpmath=sse -msse2 -mstackrealign -c convert_methy_to_dss.cpp -o convert_methy_to_dss.o g++ -std=gnu++17 -I"F:/biocbuild/bbs-3.18-bioc/R/library/zlibbioc/include" -I"F:/biocbuild/bbs-3.18-bioc/R/include" -DNDEBUG -I'F:/biocbuild/bbs-3.18-bioc/R/library/Rcpp/include' -I"C:/rtools43/x86_64-w64-mingw32.static.posix/include" -O2 -Wall -mfpmath=sse -msse2 -mstackrealign -c count_cg.cpp -o count_cg.o g++ -std=gnu++17 -I"F:/biocbuild/bbs-3.18-bioc/R/library/zlibbioc/include" -I"F:/biocbuild/bbs-3.18-bioc/R/include" -DNDEBUG -I'F:/biocbuild/bbs-3.18-bioc/R/library/Rcpp/include' -I"C:/rtools43/x86_64-w64-mingw32.static.posix/include" -O2 -Wall -mfpmath=sse -msse2 -mstackrealign -c modbam.cpp -o modbam.o g++ -std=gnu++17 -I"F:/biocbuild/bbs-3.18-bioc/R/library/zlibbioc/include" -I"F:/biocbuild/bbs-3.18-bioc/R/include" -DNDEBUG -I'F:/biocbuild/bbs-3.18-bioc/R/library/Rcpp/include' -I"C:/rtools43/x86_64-w64-mingw32.static.posix/include" -O2 -Wall -mfpmath=sse -msse2 -mstackrealign -c utils.cpp -o utils.o g++ -shared -s -static-libgcc -o NanoMethViz.dll tmp.def RcppExports.o convert_methy_to_dss.o count_cg.o modbam.o utils.o -LF:/biocbuild/bbs-3.18-bioc/R/library/zlibbioc/libs/x64 -lzlib1bioc -LC:/rtools43/x86_64-w64-mingw32.static.posix/lib/x64 -LC:/rtools43/x86_64-w64-mingw32.static.posix/lib -LF:/biocbuild/bbs-3.18-bioc/R/bin/x64 -lR installing to F:/biocbuild/bbs-3.18-bioc/R/library/00LOCK-NanoMethViz/00new/NanoMethViz/libs/x64 ** R ** inst ** byte-compile and prepare package for lazy loading ** help *** installing help indices ** building package indices ** installing vignettes ** testing if installed package can be loaded from temporary location ** testing if installed package can be loaded from final location ** testing if installed package keeps a record of temporary installation path * DONE (NanoMethViz)
NanoMethViz.Rcheck/tests/testthat.Rout
R version 4.3.3 (2024-02-29 ucrt) -- "Angel Food Cake"
Copyright (C) 2024 The R Foundation for Statistical Computing
Platform: x86_64-w64-mingw32/x64 (64-bit)
R is free software and comes with ABSOLUTELY NO WARRANTY.
You are welcome to redistribute it under certain conditions.
Type 'license()' or 'licence()' for distribution details.
R is a collaborative project with many contributors.
Type 'contributors()' for more information and
'citation()' on how to cite R or R packages in publications.
Type 'demo()' for some demos, 'help()' for on-line help, or
'help.start()' for an HTML browser interface to help.
Type 'q()' to quit R.
> library(testthat)
> library(NanoMethViz)
Loading required package: ggplot2
>
> test_check("NanoMethViz")
Starting 2 test processes
[ FAIL 0 | WARN 0 | SKIP 0 | PASS 572 ]
>
> proc.time()
user system elapsed
16.14 1.32 142.40
NanoMethViz.Rcheck/NanoMethViz-Ex.timings
| name | user | system | elapsed | |
| NanoMethResult-class | 5.90 | 1.81 | 7.72 | |
| bsseq_to_edger | 0.76 | 0.07 | 1.03 | |
| bsseq_to_log_methy_ratio | 1.29 | 0.06 | 1.42 | |
| cluster_regions | 4.89 | 0.11 | 5.11 | |
| create_tabix_file | 0.72 | 0.37 | 1.06 | |
| exons_to_genes | 0.42 | 0.02 | 0.43 | |
| filter_methy | 1.42 | 0.19 | 1.71 | |
| get_example_exons_mus_musculus | 0.27 | 0.01 | 0.28 | |
| get_exons | 44.78 | 3.06 | 49.09 | |
| get_exons_homo_sapiens | 12.58 | 0.83 | 13.41 | |
| get_exons_mus_musculus | 14.76 | 0.33 | 15.09 | |
| load_example_nanomethresult | 0.39 | 0.02 | 0.41 | |
| methy | 0.00 | 0.01 | 0.01 | |
| methy_col_names | 0 | 0 | 0 | |
| methy_to_bsseq | 1.14 | 0.08 | 1.25 | |
| methy_to_edger | 1.68 | 0.15 | 1.94 | |
| modbam_to_tabix | 2.20 | 0.74 | 2.61 | |
| plot_agg_genes | 2.42 | 0.09 | 2.51 | |
| plot_agg_regions | 7.30 | 0.19 | 7.49 | |
| plot_gene | 2.40 | 0.11 | 2.51 | |
| plot_gene_heatmap | 9.99 | 0.34 | 10.33 | |
| plot_grange | 2.51 | 0.06 | 2.58 | |
| plot_grange_heatmap | 7.86 | 0.14 | 8.00 | |
| plot_mds | 2.02 | 0.07 | 2.09 | |
| plot_pca | 2.06 | 0.12 | 2.21 | |
| plot_region | 2.56 | 0.11 | 2.67 | |
| plot_region_heatmap | 8.94 | 0.34 | 9.29 | |
| query_methy | 0.36 | 0.04 | 0.39 | |
| region_methy_stats | 1.31 | 0.04 | 1.36 | |