| Back to Multiple platform build/check report for BioC 3.18: simplified long |
|
This page was generated on 2024-04-17 11:36:09 -0400 (Wed, 17 Apr 2024).
| Hostname | OS | Arch (*) | R version | Installed pkgs |
|---|---|---|---|---|
| nebbiolo2 | Linux (Ubuntu 22.04.3 LTS) | x86_64 | 4.3.3 (2024-02-29) -- "Angel Food Cake" | 4676 |
| palomino4 | Windows Server 2022 Datacenter | x64 | 4.3.3 (2024-02-29 ucrt) -- "Angel Food Cake" | 4414 |
| merida1 | macOS 12.7.1 Monterey | x86_64 | 4.3.3 (2024-02-29) -- "Angel Food Cake" | 4437 |
| Click on any hostname to see more info about the system (e.g. compilers) (*) as reported by 'uname -p', except on Windows and Mac OS X | ||||
| Package 1346/2266 | Hostname | OS / Arch | INSTALL | BUILD | CHECK | BUILD BIN | ||||||||
| MSstatsLOBD 1.10.0 (landing page) Devon Kohler
| nebbiolo2 | Linux (Ubuntu 22.04.3 LTS) / x86_64 | OK | OK | OK | |||||||||
| palomino4 | Windows Server 2022 Datacenter / x64 | OK | OK | OK | OK | |||||||||
| merida1 | macOS 12.7.1 Monterey / x86_64 | OK | OK | OK | OK | |||||||||
| kjohnson1 | macOS 13.6.1 Ventura / arm64 | see weekly results here | ||||||||||||
|
To the developers/maintainers of the MSstatsLOBD package: - Allow up to 24 hours (and sometimes 48 hours) for your latest push to git@git.bioconductor.org:packages/MSstatsLOBD.git to reflect on this report. See Troubleshooting Build Report for more information. - Use the following Renviron settings to reproduce errors and warnings. - If 'R CMD check' started to fail recently on the Linux builder(s) over a missing dependency, add the missing dependency to 'Suggests:' in your DESCRIPTION file. See Renviron.bioc for more information. |
| Package: MSstatsLOBD |
| Version: 1.10.0 |
| Command: /home/biocbuild/bbs-3.18-bioc/R/bin/R CMD check --install=check:MSstatsLOBD.install-out.txt --library=/home/biocbuild/bbs-3.18-bioc/R/site-library --timings MSstatsLOBD_1.10.0.tar.gz |
| StartedAt: 2024-04-16 01:18:31 -0400 (Tue, 16 Apr 2024) |
| EndedAt: 2024-04-16 01:19:28 -0400 (Tue, 16 Apr 2024) |
| EllapsedTime: 57.2 seconds |
| RetCode: 0 |
| Status: OK |
| CheckDir: MSstatsLOBD.Rcheck |
| Warnings: 0 |
##############################################################################
##############################################################################
###
### Running command:
###
### /home/biocbuild/bbs-3.18-bioc/R/bin/R CMD check --install=check:MSstatsLOBD.install-out.txt --library=/home/biocbuild/bbs-3.18-bioc/R/site-library --timings MSstatsLOBD_1.10.0.tar.gz
###
##############################################################################
##############################################################################
* using log directory ‘/home/biocbuild/bbs-3.18-bioc/meat/MSstatsLOBD.Rcheck’
* using R version 4.3.3 (2024-02-29)
* using platform: x86_64-pc-linux-gnu (64-bit)
* R was compiled by
gcc (Ubuntu 11.4.0-1ubuntu1~22.04) 11.4.0
GNU Fortran (Ubuntu 11.4.0-1ubuntu1~22.04) 11.4.0
* running under: Ubuntu 22.04.4 LTS
* using session charset: UTF-8
* checking for file ‘MSstatsLOBD/DESCRIPTION’ ... OK
* checking extension type ... Package
* this is package ‘MSstatsLOBD’ version ‘1.10.0’
* package encoding: UTF-8
* checking package namespace information ... OK
* checking package dependencies ... OK
* checking if this is a source package ... OK
* checking if there is a namespace ... OK
* checking for hidden files and directories ... OK
* checking for portable file names ... OK
* checking for sufficient/correct file permissions ... OK
* checking whether package ‘MSstatsLOBD’ can be installed ... OK
* checking installed package size ... OK
* checking package directory ... OK
* checking ‘build’ directory ... OK
* checking DESCRIPTION meta-information ... NOTE
'LinkingTo' field is unused: package has no 'src' directory
* checking top-level files ... OK
* checking for left-over files ... OK
* checking index information ... OK
* checking package subdirectories ... OK
* checking R files for non-ASCII characters ... OK
* checking R files for syntax errors ... OK
* checking whether the package can be loaded ... OK
* checking whether the package can be loaded with stated dependencies ... OK
* checking whether the package can be unloaded cleanly ... OK
* checking whether the namespace can be loaded with stated dependencies ... OK
* checking whether the namespace can be unloaded cleanly ... OK
* checking loading without being on the library search path ... OK
* checking dependencies in R code ... OK
* checking S3 generic/method consistency ... OK
* checking replacement functions ... OK
* checking foreign function calls ... OK
* checking R code for possible problems ... OK
* checking Rd files ... OK
* checking Rd metadata ... OK
* checking Rd cross-references ... OK
* checking for missing documentation entries ... OK
* checking for code/documentation mismatches ... OK
* checking Rd \usage sections ... OK
* checking Rd contents ... OK
* checking for unstated dependencies in examples ... OK
* checking contents of ‘data’ directory ... OK
* checking data for non-ASCII characters ... OK
* checking LazyData ... OK
* checking data for ASCII and uncompressed saves ... OK
* checking files in ‘vignettes’ ... OK
* checking examples ... OK
* checking for unstated dependencies in ‘tests’ ... OK
* checking tests ...
Running ‘tinytest.R’
OK
* checking for unstated dependencies in vignettes ... OK
* checking package vignettes in ‘inst/doc’ ... OK
* checking running R code from vignettes ...
‘MSstatsLOBD_workflow.Rmd’ using ‘UTF-8’... OK
OK
* checking re-building of vignette outputs ... OK
* checking PDF version of manual ... OK
* DONE
Status: 1 NOTE
See
‘/home/biocbuild/bbs-3.18-bioc/meat/MSstatsLOBD.Rcheck/00check.log’
for details.
MSstatsLOBD.Rcheck/00install.out
############################################################################## ############################################################################## ### ### Running command: ### ### /home/biocbuild/bbs-3.18-bioc/R/bin/R CMD INSTALL MSstatsLOBD ### ############################################################################## ############################################################################## * installing to library ‘/home/biocbuild/bbs-3.18-bioc/R/site-library’ * installing *source* package ‘MSstatsLOBD’ ... ** using staged installation ** R ** data *** moving datasets to lazyload DB ** inst ** byte-compile and prepare package for lazy loading ** help *** installing help indices ** building package indices ** installing vignettes ** testing if installed package can be loaded from temporary location ** testing if installed package can be loaded from final location ** testing if installed package keeps a record of temporary installation path * DONE (MSstatsLOBD)
MSstatsLOBD.Rcheck/tests/tinytest.Rout
R version 4.3.3 (2024-02-29) -- "Angel Food Cake"
Copyright (C) 2024 The R Foundation for Statistical Computing
Platform: x86_64-pc-linux-gnu (64-bit)
R is free software and comes with ABSOLUTELY NO WARRANTY.
You are welcome to redistribute it under certain conditions.
Type 'license()' or 'licence()' for distribution details.
R is a collaborative project with many contributors.
Type 'contributors()' for more information and
'citation()' on how to cite R or R packages in publications.
Type 'demo()' for some demos, 'help()' for on-line help, or
'help.start()' for an HTML browser interface to help.
Type 'q()' to quit R.
>
> if ( requireNamespace("tinytest", quietly=TRUE) ){
+ tinytest::test_package("MSstatsLOBD")
+ }
test_MSstatsLOBD.R............ 0 tests %%%%
test_MSstatsLOBD.R............ 0 tests
test_MSstatsLOBD.R............ 1 tests [0;32mOK[0m
test_MSstatsLOBD.R............ 2 tests [0;32mOK[0m
test_MSstatsLOBD.R............ 3 tests [0;32mOK[0m
test_MSstatsLOBD.R............ 4 tests [0;32mOK[0m
test_MSstatsLOBD.R............ 5 tests [0;32mOK[0m
test_MSstatsLOBD.R............ 6 tests [0;32mOK[0m
test_MSstatsLOBD.R............ 7 tests [0;32mOK[0m
test_MSstatsLOBD.R............ 8 tests [0;32mOK[0m
test_MSstatsLOBD.R............ 9 tests [0;32mOK[0m
test_MSstatsLOBD.R............ 10 tests [0;32mOK[0m
test_MSstatsLOBD.R............ 11 tests [0;32mOK[0m %%%%
test_MSstatsLOBD.R............ 11 tests [0;32mOK[0m
test_MSstatsLOBD.R............ 12 tests [0;32mOK[0m
test_MSstatsLOBD.R............ 13 tests [0;32mOK[0m
test_MSstatsLOBD.R............ 14 tests [0;32mOK[0m
test_MSstatsLOBD.R............ 15 tests [0;32mOK[0m
test_MSstatsLOBD.R............ 16 tests [0;32mOK[0m
test_MSstatsLOBD.R............ 17 tests [0;32mOK[0m
test_MSstatsLOBD.R............ 18 tests [0;32mOK[0m
test_MSstatsLOBD.R............ 19 tests [0;32mOK[0m
test_MSstatsLOBD.R............ 20 tests [0;32mOK[0m
test_MSstatsLOBD.R............ 21 tests [0;32mOK[0m
test_MSstatsLOBD.R............ 22 tests [0;32mOK[0m
test_MSstatsLOBD.R............ 22 tests [0;32mOK[0m
test_MSstatsLOBD.R............ 23 tests [0;32mOK[0m
test_MSstatsLOBD.R............ 24 tests [0;32mOK[0m
test_MSstatsLOBD.R............ 25 tests [0;32mOK[0m
test_MSstatsLOBD.R............ 26 tests [0;32mOK[0m
test_MSstatsLOBD.R............ 27 tests [0;32mOK[0m
test_MSstatsLOBD.R............ 27 tests [0;32mOK[0m
test_MSstatsLOBD.R............ 28 tests [0;32mOK[0m
test_MSstatsLOBD.R............ 29 tests [0;32mOK[0m
test_MSstatsLOBD.R............ 30 tests [0;32mOK[0m
test_MSstatsLOBD.R............ 31 tests [0;32mOK[0m [0;34m0.9s[0m
All ok, 31 results (0.9s)
Warning messages:
1: The `panel.margin` argument of `theme()` is deprecated as of ggplot2 2.2.0.
ℹ Please use the `panel.spacing` argument instead.
ℹ The deprecated feature was likely used in the MSstatsLOBD package.
Please report the issue at <https://github.com/Vitek-Lab/MSstatsLODQ/issues>.
2: In geom_point(data = data.frame(x = LOD_pred, y = y_LOD_pred, shape = "LOD"), :
Ignoring unknown aesthetics: guide
3: In geom_point(data = data.frame(x = LOQ_pred, y = y_LOQ_pred, shape = "LOQ"), :
Ignoring unknown aesthetics: guide
4: The `<scale>` argument of `guides()` cannot be `FALSE`. Use "none" instead as
of ggplot2 3.3.4.
ℹ The deprecated feature was likely used in the MSstatsLOBD package.
Please report the issue at <https://github.com/Vitek-Lab/MSstatsLODQ/issues>.
5: In geom_point(data = data.frame(x = LOD_pred, y = y_LOD_pred, shape = "LOD"), :
Ignoring unknown aesthetics: guide
6: In geom_point(data = data.frame(x = LOQ_pred, y = y_LOQ_pred, shape = "LOQ"), :
Ignoring unknown aesthetics: guide
7: In geom_point(data = data.frame(x = LOD_pred, y = y_LOD_pred, shape = "LOD"), :
Ignoring unknown aesthetics: guide
8: In geom_point(data = data.frame(x = LOQ_pred, y = y_LOQ_pred, shape = "LOQ"), :
Ignoring unknown aesthetics: guide
9: In geom_point(data = data.frame(x = LOD_pred, y = y_LOD_pred, shape = "LOD"), :
Ignoring unknown aesthetics: guide
10: In geom_point(data = data.frame(x = LOQ_pred, y = y_LOQ_pred, shape = "LOQ"), :
Ignoring unknown aesthetics: guide
>
>
> proc.time()
user system elapsed
1.649 0.086 1.725
MSstatsLOBD.Rcheck/MSstatsLOBD-Ex.timings
| name | user | system | elapsed | |
| linear_quantlim | 0.100 | 0.008 | 0.108 | |
| nonlinear_quantlim | 0.139 | 0.004 | 0.142 | |
| plot_quantlim | 1.384 | 0.024 | 1.407 | |
| raw_data | 0.010 | 0.000 | 0.009 | |
| spikeindata | 0.014 | 0.003 | 0.017 | |