| Back to Multiple platform build/check report for BioC 3.18: simplified long |
|
This page was generated on 2024-04-17 11:36:05 -0400 (Wed, 17 Apr 2024).
| Hostname | OS | Arch (*) | R version | Installed pkgs |
|---|---|---|---|---|
| nebbiolo2 | Linux (Ubuntu 22.04.3 LTS) | x86_64 | 4.3.3 (2024-02-29) -- "Angel Food Cake" | 4676 |
| palomino4 | Windows Server 2022 Datacenter | x64 | 4.3.3 (2024-02-29 ucrt) -- "Angel Food Cake" | 4414 |
| merida1 | macOS 12.7.1 Monterey | x86_64 | 4.3.3 (2024-02-29) -- "Angel Food Cake" | 4437 |
| Click on any hostname to see more info about the system (e.g. compilers) (*) as reported by 'uname -p', except on Windows and Mac OS X | ||||
| Package 1134/2266 | Hostname | OS / Arch | INSTALL | BUILD | CHECK | BUILD BIN | ||||||||
| MAGeCKFlute 2.6.0 (landing page) Wubing Zhang
| nebbiolo2 | Linux (Ubuntu 22.04.3 LTS) / x86_64 | OK | OK | OK | |||||||||
| palomino4 | Windows Server 2022 Datacenter / x64 | OK | OK | OK | OK | |||||||||
| merida1 | macOS 12.7.1 Monterey / x86_64 | OK | OK | OK | OK | |||||||||
| kjohnson1 | macOS 13.6.1 Ventura / arm64 | see weekly results here | ||||||||||||
|
To the developers/maintainers of the MAGeCKFlute package: - Allow up to 24 hours (and sometimes 48 hours) for your latest push to git@git.bioconductor.org:packages/MAGeCKFlute.git to reflect on this report. See Troubleshooting Build Report for more information. - Use the following Renviron settings to reproduce errors and warnings. - If 'R CMD check' started to fail recently on the Linux builder(s) over a missing dependency, add the missing dependency to 'Suggests:' in your DESCRIPTION file. See Renviron.bioc for more information. |
| Package: MAGeCKFlute |
| Version: 2.6.0 |
| Command: /home/biocbuild/bbs-3.18-bioc/R/bin/R CMD check --install=check:MAGeCKFlute.install-out.txt --library=/home/biocbuild/bbs-3.18-bioc/R/site-library --timings MAGeCKFlute_2.6.0.tar.gz |
| StartedAt: 2024-04-16 00:25:04 -0400 (Tue, 16 Apr 2024) |
| EndedAt: 2024-04-16 00:34:38 -0400 (Tue, 16 Apr 2024) |
| EllapsedTime: 573.5 seconds |
| RetCode: 0 |
| Status: OK |
| CheckDir: MAGeCKFlute.Rcheck |
| Warnings: 0 |
##############################################################################
##############################################################################
###
### Running command:
###
### /home/biocbuild/bbs-3.18-bioc/R/bin/R CMD check --install=check:MAGeCKFlute.install-out.txt --library=/home/biocbuild/bbs-3.18-bioc/R/site-library --timings MAGeCKFlute_2.6.0.tar.gz
###
##############################################################################
##############################################################################
* using log directory ‘/home/biocbuild/bbs-3.18-bioc/meat/MAGeCKFlute.Rcheck’
* using R version 4.3.3 (2024-02-29)
* using platform: x86_64-pc-linux-gnu (64-bit)
* R was compiled by
gcc (Ubuntu 11.4.0-1ubuntu1~22.04) 11.4.0
GNU Fortran (Ubuntu 11.4.0-1ubuntu1~22.04) 11.4.0
* running under: Ubuntu 22.04.4 LTS
* using session charset: UTF-8
* checking for file ‘MAGeCKFlute/DESCRIPTION’ ... OK
* checking extension type ... Package
* this is package ‘MAGeCKFlute’ version ‘2.6.0’
* package encoding: UTF-8
* checking package namespace information ... OK
* checking package dependencies ... OK
* checking if this is a source package ... OK
* checking if there is a namespace ... OK
* checking for hidden files and directories ... OK
* checking for portable file names ... OK
* checking for sufficient/correct file permissions ... OK
* checking whether package ‘MAGeCKFlute’ can be installed ... OK
* checking installed package size ... NOTE
installed size is 20.7Mb
sub-directories of 1Mb or more:
extdata 20.3Mb
* checking package directory ... OK
* checking ‘build’ directory ... OK
* checking DESCRIPTION meta-information ... OK
* checking top-level files ... OK
* checking for left-over files ... OK
* checking index information ... OK
* checking package subdirectories ... OK
* checking R files for non-ASCII characters ... OK
* checking R files for syntax errors ... OK
* checking whether the package can be loaded ... OK
* checking whether the package can be loaded with stated dependencies ... OK
* checking whether the package can be unloaded cleanly ... OK
* checking whether the namespace can be loaded with stated dependencies ... OK
* checking whether the namespace can be unloaded cleanly ... OK
* checking loading without being on the library search path ... OK
* checking dependencies in R code ... OK
* checking S3 generic/method consistency ... OK
* checking replacement functions ... OK
* checking foreign function calls ... OK
* checking R code for possible problems ... NOTE
EnrichedFilter: no visible global function definition for ‘is’
EnrichedGeneView: no visible global function definition for ‘is’
EnrichedView: no visible global function definition for ‘is’
EnrichedView: no visible global function definition for ‘slot’
enrich.HGT: no visible global function definition for ‘new’
Undefined global functions or variables:
is new slot
Consider adding
importFrom("methods", "is", "new", "slot")
to your NAMESPACE file (and ensure that your DESCRIPTION Imports field
contains 'methods').
* checking Rd files ... OK
* checking Rd metadata ... OK
* checking Rd cross-references ... OK
* checking for missing documentation entries ... OK
* checking for code/documentation mismatches ... OK
* checking Rd \usage sections ... OK
* checking Rd contents ... OK
* checking for unstated dependencies in examples ... OK
* checking files in ‘vignettes’ ... OK
* checking examples ... OK
Examples with CPU (user + system) or elapsed time > 5s
user system elapsed
MAView 10.629 0.176 10.805
* checking for unstated dependencies in vignettes ... OK
* checking package vignettes in ‘inst/doc’ ... OK
* checking running R code from vignettes ...
‘MAGeCKFlute.Rmd’ using ‘UTF-8’... OK
‘MAGeCKFlute_enrichment.Rmd’ using ‘UTF-8’... OK
OK
* checking re-building of vignette outputs ... OK
* checking PDF version of manual ... OK
* DONE
Status: 2 NOTEs
See
‘/home/biocbuild/bbs-3.18-bioc/meat/MAGeCKFlute.Rcheck/00check.log’
for details.
MAGeCKFlute.Rcheck/00install.out
############################################################################## ############################################################################## ### ### Running command: ### ### /home/biocbuild/bbs-3.18-bioc/R/bin/R CMD INSTALL MAGeCKFlute ### ############################################################################## ############################################################################## * installing to library ‘/home/biocbuild/bbs-3.18-bioc/R/site-library’ * installing *source* package ‘MAGeCKFlute’ ... ** using staged installation ** R ** inst ** byte-compile and prepare package for lazy loading ** help *** installing help indices ** building package indices ** installing vignettes ** testing if installed package can be loaded from temporary location ** testing if installed package can be loaded from final location ** testing if installed package keeps a record of temporary installation path * DONE (MAGeCKFlute)
MAGeCKFlute.Rcheck/MAGeCKFlute-Ex.timings
| name | user | system | elapsed | |
| BarView | 0.167 | 0.012 | 0.180 | |
| BatchRemove | 3.311 | 0.100 | 3.411 | |
| ConsistencyView | 0.930 | 0.044 | 0.975 | |
| CutoffCalling | 0.003 | 0.000 | 0.003 | |
| DensityDiffView | 0.883 | 0.012 | 0.895 | |
| DensityView | 0.740 | 0.044 | 0.784 | |
| EnrichAnalyzer | 0.012 | 0.000 | 0.011 | |
| EnrichedFilter | 0.009 | 0.000 | 0.009 | |
| EnrichedGeneView | 0.009 | 0.000 | 0.009 | |
| EnrichedView | 0.009 | 0.000 | 0.009 | |
| FluteMLE | 0.001 | 0.000 | 0.000 | |
| FluteRRA | 0.001 | 0.000 | 0.001 | |
| HeatmapView | 0.271 | 0.000 | 0.271 | |
| IdentBarView | 0.115 | 0.000 | 0.115 | |
| IncorporateDepmap | 0.181 | 0.008 | 0.190 | |
| MAView | 10.629 | 0.176 | 10.805 | |
| MapRatesView | 0.390 | 0.008 | 0.398 | |
| NormalizeBeta | 0.875 | 0.012 | 0.888 | |
| OmitCommonEssential | 0 | 0 | 0 | |
| RankView | 0.677 | 0.044 | 0.721 | |
| ReadBeta | 0.264 | 0.000 | 0.265 | |
| ReadRRA | 0.191 | 0.000 | 0.191 | |
| ReadsgRRA | 0.009 | 0.004 | 0.012 | |
| ResembleDepmap | 0.152 | 0.000 | 0.152 | |
| ScatterView | 3.252 | 0.027 | 3.280 | |
| Selector | 0.552 | 0.008 | 0.560 | |
| SquareView | 1.107 | 0.004 | 1.112 | |
| TransGeneID | 1.679 | 0.019 | 1.699 | |
| ViolinView | 1.184 | 0.004 | 1.189 | |
| VolcanoView | 1.744 | 0.004 | 1.749 | |
| arrangePathview | 1.028 | 0.060 | 1.088 | |
| enrich.GSE | 0.009 | 0.000 | 0.008 | |
| enrich.HGT | 1.672 | 0.044 | 1.717 | |
| enrich.ORT | 3.806 | 0.040 | 3.847 | |
| getCols | 0.005 | 0.000 | 0.005 | |
| getGeneAnn | 0 | 0 | 0 | |
| getOrg | 0.001 | 0.000 | 0.001 | |
| getOrtAnn | 0 | 0 | 0 | |
| gsGetter | 0.3 | 0.0 | 0.3 | |
| hclustView | 0.419 | 0.008 | 0.427 | |
| loadDepmap | 0 | 0 | 0 | |
| normalize.loess | 0.986 | 0.000 | 0.986 | |
| sgRankView | 0.15 | 0.00 | 0.15 | |
| writeGMT | 0.024 | 0.000 | 0.025 | |