| Back to Multiple platform build/check report for BioC 3.18: simplified long |
|
This page was generated on 2024-04-17 11:37:53 -0400 (Wed, 17 Apr 2024).
| Hostname | OS | Arch (*) | R version | Installed pkgs |
|---|---|---|---|---|
| nebbiolo2 | Linux (Ubuntu 22.04.3 LTS) | x86_64 | 4.3.3 (2024-02-29) -- "Angel Food Cake" | 4676 |
| palomino4 | Windows Server 2022 Datacenter | x64 | 4.3.3 (2024-02-29 ucrt) -- "Angel Food Cake" | 4414 |
| merida1 | macOS 12.7.1 Monterey | x86_64 | 4.3.3 (2024-02-29) -- "Angel Food Cake" | 4437 |
| Click on any hostname to see more info about the system (e.g. compilers) (*) as reported by 'uname -p', except on Windows and Mac OS X | ||||
| Package 1122/2266 | Hostname | OS / Arch | INSTALL | BUILD | CHECK | BUILD BIN | ||||||||
| M3Drop 1.28.8 (landing page) Tallulah Andrews
| nebbiolo2 | Linux (Ubuntu 22.04.3 LTS) / x86_64 | OK | OK | OK | |||||||||
| palomino4 | Windows Server 2022 Datacenter / x64 | OK | OK | OK | OK | |||||||||
| merida1 | macOS 12.7.1 Monterey / x86_64 | OK | OK | OK | OK | |||||||||
| kjohnson1 | macOS 13.6.1 Ventura / arm64 | see weekly results here | ||||||||||||
|
To the developers/maintainers of the M3Drop package: - Allow up to 24 hours (and sometimes 48 hours) for your latest push to git@git.bioconductor.org:packages/M3Drop.git to reflect on this report. See Troubleshooting Build Report for more information. - Use the following Renviron settings to reproduce errors and warnings. - If 'R CMD check' started to fail recently on the Linux builder(s) over a missing dependency, add the missing dependency to 'Suggests:' in your DESCRIPTION file. See Renviron.bioc for more information. |
| Package: M3Drop |
| Version: 1.28.8 |
| Command: /Library/Frameworks/R.framework/Resources/bin/R CMD check --install=check:M3Drop.install-out.txt --library=/Library/Frameworks/R.framework/Resources/library --no-vignettes --timings M3Drop_1.28.8.tar.gz |
| StartedAt: 2024-04-16 04:43:00 -0400 (Tue, 16 Apr 2024) |
| EndedAt: 2024-04-16 04:53:35 -0400 (Tue, 16 Apr 2024) |
| EllapsedTime: 635.4 seconds |
| RetCode: 0 |
| Status: OK |
| CheckDir: M3Drop.Rcheck |
| Warnings: 0 |
##############################################################################
##############################################################################
###
### Running command:
###
### /Library/Frameworks/R.framework/Resources/bin/R CMD check --install=check:M3Drop.install-out.txt --library=/Library/Frameworks/R.framework/Resources/library --no-vignettes --timings M3Drop_1.28.8.tar.gz
###
##############################################################################
##############################################################################
* using log directory ‘/Users/biocbuild/bbs-3.18-bioc/meat/M3Drop.Rcheck’
* using R version 4.3.3 (2024-02-29)
* using platform: x86_64-apple-darwin20 (64-bit)
* R was compiled by
Apple clang version 14.0.0 (clang-1400.0.29.202)
GNU Fortran (GCC) 12.2.0
* running under: macOS Monterey 12.7.1
* using session charset: UTF-8
* using option ‘--no-vignettes’
* checking for file ‘M3Drop/DESCRIPTION’ ... OK
* this is package ‘M3Drop’ version ‘1.28.8’
* checking package namespace information ... OK
* checking package dependencies ... OK
* checking if this is a source package ... OK
* checking if there is a namespace ... OK
* checking for hidden files and directories ... OK
* checking for portable file names ... OK
* checking for sufficient/correct file permissions ... OK
* checking whether package ‘M3Drop’ can be installed ... OK
* checking installed package size ... OK
* checking package directory ... OK
* checking ‘build’ directory ... OK
* checking DESCRIPTION meta-information ... OK
* checking top-level files ... OK
* checking for left-over files ... OK
* checking index information ... OK
* checking package subdirectories ... OK
* checking R files for non-ASCII characters ... OK
* checking R files for syntax errors ... OK
* checking whether the package can be loaded ... OK
* checking whether the package can be loaded with stated dependencies ... OK
* checking whether the package can be unloaded cleanly ... OK
* checking whether the namespace can be loaded with stated dependencies ... OK
* checking whether the namespace can be unloaded cleanly ... OK
* checking dependencies in R code ... NOTE
Namespace in Imports field not imported from: ‘scater’
All declared Imports should be used.
* checking S3 generic/method consistency ... OK
* checking replacement functions ... OK
* checking foreign function calls ... OK
* checking R code for possible problems ... NOTE
M3DropConvertData: no visible global function definition for ‘assays’
NBumiConvertData: no visible global function definition for ‘assays’
bg__filter_cells: no visible binding for global variable ‘x’
bg__get_extreme_residuals: no visible binding for global variable ‘x’
Undefined global functions or variables:
assays x
* checking Rd files ... NOTE
prepare_Rd: NBumi_FSOther.Rd:8-10: Dropping empty section \usage
prepare_Rd: NBumi_TradDE.Rd:7-8: Dropping empty section \usage
* checking Rd metadata ... OK
* checking Rd cross-references ... OK
* checking for missing documentation entries ... OK
* checking for code/documentation mismatches ... OK
* checking Rd \usage sections ... OK
* checking Rd contents ... OK
* checking for unstated dependencies in examples ... OK
* checking sizes of PDF files under ‘inst/doc’ ... OK
* checking files in ‘vignettes’ ... OK
* checking examples ... OK
Examples with CPU (user + system) or elapsed time > 5s
user system elapsed
NewSimulations 195.754 13.414 258.859
Imputation 55.948 0.451 68.118
M3D_getmarkers 51.020 1.637 63.751
M3D_ConverData 7.780 0.289 9.821
Brennecke_getVariableGenes 4.049 0.295 5.024
* checking for unstated dependencies in vignettes ... OK
* checking package vignettes in ‘inst/doc’ ... OK
* checking running R code from vignettes ... SKIPPED
* checking re-building of vignette outputs ... SKIPPED
* checking PDF version of manual ... OK
* DONE
Status: 3 NOTEs
See
‘/Users/biocbuild/bbs-3.18-bioc/meat/M3Drop.Rcheck/00check.log’
for details.
M3Drop.Rcheck/00install.out
############################################################################## ############################################################################## ### ### Running command: ### ### /Library/Frameworks/R.framework/Resources/bin/R CMD INSTALL M3Drop ### ############################################################################## ############################################################################## * installing to library ‘/Library/Frameworks/R.framework/Versions/4.3-x86_64/Resources/library’ * installing *source* package ‘M3Drop’ ... ** using staged installation ** R ** inst ** byte-compile and prepare package for lazy loading ** help *** installing help indices ** building package indices ** installing vignettes ** testing if installed package can be loaded from temporary location ** testing if installed package can be loaded from final location ** testing if installed package keeps a record of temporary installation path * DONE (M3Drop)
M3Drop.Rcheck/M3Drop-Ex.timings
| name | user | system | elapsed | |
| Brennecke_getVariableGenes | 4.049 | 0.295 | 5.024 | |
| Consensus_FS | 0.356 | 0.017 | 0.450 | |
| Fitting_Dropout_Models | 0.001 | 0.000 | 0.000 | |
| Imputation | 55.948 | 0.451 | 68.118 | |
| M3D_Clean_Data | 1.749 | 0.104 | 2.216 | |
| M3D_ConverData | 7.780 | 0.289 | 9.821 | |
| M3D_Differential_Expression | 0.567 | 0.057 | 0.717 | |
| M3D_Dropout_Models | 1.573 | 0.071 | 1.940 | |
| M3D_Expression_Heatmap | 0.652 | 0.016 | 0.784 | |
| M3D_Get_Extremes | 1.651 | 0.127 | 2.116 | |
| M3D_Get_Heatmap_Cell_Clusters | 0.598 | 0.014 | 0.736 | |
| M3D_Simulations | 0.000 | 0.000 | 0.001 | |
| M3D_Test_Shift | 0.565 | 0.049 | 0.734 | |
| M3D_ThreeSet_Venn | 0.403 | 0.010 | 0.484 | |
| M3D_TraditionalDE | 0.013 | 0.001 | 0.019 | |
| M3D_getmarkers | 51.020 | 1.637 | 63.751 | |
| M3D_horz_res | 0.001 | 0.000 | 0.000 | |
| NBumi_CheckFit | 2.465 | 0.158 | 3.069 | |
| NBumi_CoExpression | 1.122 | 0.039 | 1.404 | |
| NBumi_CompareModels | 2.807 | 0.139 | 3.554 | |
| NBumi_ConvertToInteger | 0.001 | 0.001 | 0.001 | |
| NBumi_ConvrtData | 0.442 | 0.017 | 0.512 | |
| NBumi_FSDrop | 2.514 | 0.077 | 2.967 | |
| NBumi_FSHighVar | 1.104 | 0.035 | 1.383 | |
| NBumi_FSOther | 0.012 | 0.000 | 0.014 | |
| NBumi_FitDisp | 0 | 0 | 0 | |
| NBumi_FitDispVsMean | 0.954 | 0.033 | 1.200 | |
| NBumi_FitModel | 1.100 | 0.037 | 1.346 | |
| NBumi_HVG | 1.227 | 0.047 | 1.562 | |
| NBumi_PearsonResiduals | 1.756 | 0.063 | 2.162 | |
| NBumi_TradDE | 0.000 | 0.000 | 0.001 | |
| NewSimulations | 195.754 | 13.414 | 258.859 | |
| Other_FS | 1.365 | 0.072 | 1.679 | |
| PoissonUMIFeatureSelectionDropouts | 1.177 | 0.088 | 1.470 | |
| bg__fit_gamma | 0.001 | 0.001 | 0.001 | |
| bg__get_stats | 0 | 0 | 0 | |
| bg__mean2disp | 0.000 | 0.000 | 0.001 | |
| bg__shift_size | 0.000 | 0.000 | 0.006 | |
| bg__var_vs_drop | 0.000 | 0.000 | 0.001 | |