| Back to Multiple platform build/check report for BioC 3.18: simplified long |
|
This page was generated on 2024-04-17 11:36:54 -0400 (Wed, 17 Apr 2024).
| Hostname | OS | Arch (*) | R version | Installed pkgs |
|---|---|---|---|---|
| nebbiolo2 | Linux (Ubuntu 22.04.3 LTS) | x86_64 | 4.3.3 (2024-02-29) -- "Angel Food Cake" | 4676 |
| palomino4 | Windows Server 2022 Datacenter | x64 | 4.3.3 (2024-02-29 ucrt) -- "Angel Food Cake" | 4414 |
| merida1 | macOS 12.7.1 Monterey | x86_64 | 4.3.3 (2024-02-29) -- "Angel Food Cake" | 4437 |
| Click on any hostname to see more info about the system (e.g. compilers) (*) as reported by 'uname -p', except on Windows and Mac OS X | ||||
| Package 1036/2266 | Hostname | OS / Arch | INSTALL | BUILD | CHECK | BUILD BIN | ||||||||
| IntEREst 1.26.0 (landing page) Ali Oghabian
| nebbiolo2 | Linux (Ubuntu 22.04.3 LTS) / x86_64 | OK | OK | ERROR | |||||||||
| palomino4 | Windows Server 2022 Datacenter / x64 | OK | OK | OK | OK | |||||||||
| merida1 | macOS 12.7.1 Monterey / x86_64 | OK | OK | OK | OK | |||||||||
| kjohnson1 | macOS 13.6.1 Ventura / arm64 | see weekly results here | ||||||||||||
|
To the developers/maintainers of the IntEREst package: - Allow up to 24 hours (and sometimes 48 hours) for your latest push to git@git.bioconductor.org:packages/IntEREst.git to reflect on this report. See Troubleshooting Build Report for more information. - Use the following Renviron settings to reproduce errors and warnings. - If 'R CMD check' started to fail recently on the Linux builder(s) over a missing dependency, add the missing dependency to 'Suggests:' in your DESCRIPTION file. See Renviron.bioc for more information. |
| Package: IntEREst |
| Version: 1.26.0 |
| Command: F:\biocbuild\bbs-3.18-bioc\R\bin\R.exe CMD check --no-multiarch --install=check:IntEREst.install-out.txt --library=F:\biocbuild\bbs-3.18-bioc\R\library --no-vignettes --timings IntEREst_1.26.0.tar.gz |
| StartedAt: 2024-04-16 01:53:51 -0400 (Tue, 16 Apr 2024) |
| EndedAt: 2024-04-16 02:00:36 -0400 (Tue, 16 Apr 2024) |
| EllapsedTime: 405.2 seconds |
| RetCode: 0 |
| Status: OK |
| CheckDir: IntEREst.Rcheck |
| Warnings: 0 |
##############################################################################
##############################################################################
###
### Running command:
###
### F:\biocbuild\bbs-3.18-bioc\R\bin\R.exe CMD check --no-multiarch --install=check:IntEREst.install-out.txt --library=F:\biocbuild\bbs-3.18-bioc\R\library --no-vignettes --timings IntEREst_1.26.0.tar.gz
###
##############################################################################
##############################################################################
* using log directory 'F:/biocbuild/bbs-3.18-bioc/meat/IntEREst.Rcheck'
* using R version 4.3.3 (2024-02-29 ucrt)
* using platform: x86_64-w64-mingw32 (64-bit)
* R was compiled by
gcc.exe (GCC) 12.3.0
GNU Fortran (GCC) 12.3.0
* running under: Windows Server 2022 x64 (build 20348)
* using session charset: UTF-8
* using option '--no-vignettes'
* checking for file 'IntEREst/DESCRIPTION' ... OK
* this is package 'IntEREst' version '1.26.0'
* checking package namespace information ... OK
* checking package dependencies ... NOTE
Depends: includes the non-default packages:
'GenomicRanges', 'Rsamtools', 'SummarizedExperiment', 'edgeR',
'S4Vectors', 'GenomicFiles'
Adding so many packages to the search path is excessive and importing
selectively is preferable.
* checking if this is a source package ... OK
* checking if there is a namespace ... OK
* checking for hidden files and directories ... OK
* checking for portable file names ... OK
* checking whether package 'IntEREst' can be installed ... OK
* checking installed package size ... OK
* checking package directory ... OK
* checking 'build' directory ... OK
* checking DESCRIPTION meta-information ... OK
* checking top-level files ... OK
* checking for left-over files ... OK
* checking index information ... OK
* checking package subdirectories ... OK
* checking R files for non-ASCII characters ... OK
* checking R files for syntax errors ... OK
* checking whether the package can be loaded ... OK
* checking whether the package can be loaded with stated dependencies ... OK
* checking whether the package can be unloaded cleanly ... OK
* checking whether the namespace can be loaded with stated dependencies ... OK
* checking whether the namespace can be unloaded cleanly ... OK
* checking dependencies in R code ... OK
* checking S3 generic/method consistency ... OK
* checking replacement functions ... OK
* checking foreign function calls ... OK
* checking R code for possible problems ... NOTE
interestIntExAnalyseSingleStranded: no visible global function
definition for 'bamFlagAsBitMatrix'
Undefined global functions or variables:
bamFlagAsBitMatrix
* checking Rd files ... OK
* checking Rd metadata ... OK
* checking Rd cross-references ... OK
* checking for missing documentation entries ... OK
* checking for code/documentation mismatches ... OK
* checking Rd \usage sections ... OK
* checking Rd contents ... OK
* checking for unstated dependencies in examples ... OK
* checking contents of 'data' directory ... OK
* checking data for non-ASCII characters ... OK
* checking LazyData ... OK
* checking data for ASCII and uncompressed saves ... OK
* checking files in 'vignettes' ... OK
* checking examples ... OK
Examples with CPU (user + system) or elapsed time > 5s
user system elapsed
DEXSeqIntEREst 22.67 0.22 22.92
* checking for unstated dependencies in vignettes ... OK
* checking package vignettes in 'inst/doc' ... OK
* checking running R code from vignettes ... SKIPPED
* checking re-building of vignette outputs ... SKIPPED
* checking PDF version of manual ... OK
* DONE
Status: 2 NOTEs
See
'F:/biocbuild/bbs-3.18-bioc/meat/IntEREst.Rcheck/00check.log'
for details.
IntEREst.Rcheck/00install.out
############################################################################## ############################################################################## ### ### Running command: ### ### F:\biocbuild\bbs-3.18-bioc\R\bin\R.exe CMD INSTALL IntEREst ### ############################################################################## ############################################################################## * installing to library 'F:/biocbuild/bbs-3.18-bioc/R/library' * installing *source* package 'IntEREst' ... ** using staged installation ** R ** data *** moving datasets to lazyload DB ** inst ** byte-compile and prepare package for lazy loading ** help *** installing help indices ** building package indices ** installing vignettes ** testing if installed package can be loaded from temporary location ** testing if installed package can be loaded from final location ** testing if installed package keeps a record of temporary installation path * DONE (IntEREst)
IntEREst.Rcheck/IntEREst-Ex.timings
| name | user | system | elapsed | |
| DEXSeqIntEREst | 22.67 | 0.22 | 22.92 | |
| addAnnotation | 0.04 | 0.00 | 0.03 | |
| annotateU12 | 2.02 | 0.17 | 2.18 | |
| applyOverlap | 0.14 | 0.00 | 0.14 | |
| attributes | 0.03 | 0.00 | 0.04 | |
| boxplot-method | 0.08 | 0.00 | 0.07 | |
| buildSsTypePwms | 0 | 0 | 0 | |
| counts-method | 0.01 | 0.00 | 0.02 | |
| deseqInterest | 4.08 | 0.01 | 4.09 | |
| exactTestInterest | 0.13 | 0.00 | 0.12 | |
| getRepeatTable | 0 | 0 | 0 | |
| glmInterest | 0.21 | 0.00 | 0.22 | |
| interest | 1.57 | 0.03 | 1.61 | |
| interest.sequential | 1.34 | 0.02 | 1.36 | |
| interestResult | 0.02 | 0.00 | 0.02 | |
| interestResultIntEx | 0.22 | 0.00 | 0.22 | |
| intexIndex | 0 | 0 | 0 | |
| lfc | 0.23 | 0.00 | 0.23 | |
| mergeInterestResult | 0.06 | 0.00 | 0.06 | |
| plot-method | 0.30 | 0.03 | 0.33 | |
| psi | 1.05 | 0.01 | 1.06 | |
| qlfInterest | 0.28 | 0.00 | 0.28 | |
| readInterestResults | 0.03 | 0.00 | 0.05 | |
| referencePrepare | 1.23 | 0.02 | 1.25 | |
| subInterestResult | 0.03 | 0.00 | 0.03 | |
| treatInterest | 0.18 | 0.00 | 0.17 | |
| u12Boxplot | 0.04 | 0.00 | 0.05 | |
| u12BoxplotNb | 0.07 | 0.00 | 0.06 | |
| u12DensityPlot | 0.28 | 0.01 | 0.30 | |
| u12Index | 0 | 0 | 0 | |
| u12NbIndex | 0.06 | 0.00 | 0.06 | |
| unionRefTr | 0.03 | 0.00 | 0.03 | |
| updateRowDataCol | 0.06 | 0.00 | 0.07 | |