| Back to Multiple platform build/check report for BioC 3.18: simplified long |
|
This page was generated on 2024-04-12 11:37:41 -0400 (Fri, 12 Apr 2024).
| Hostname | OS | Arch (*) | R version | Installed pkgs |
|---|---|---|---|---|
| nebbiolo2 | Linux (Ubuntu 22.04.3 LTS) | x86_64 | 4.3.3 (2024-02-29) -- "Angel Food Cake" | 4675 |
| palomino4 | Windows Server 2022 Datacenter | x64 | 4.3.3 (2024-02-29 ucrt) -- "Angel Food Cake" | 4413 |
| merida1 | macOS 12.7.1 Monterey | x86_64 | 4.3.3 (2024-02-29) -- "Angel Food Cake" | 4436 |
| Click on any hostname to see more info about the system (e.g. compilers) (*) as reported by 'uname -p', except on Windows and Mac OS X | ||||
| Package 979/2266 | Hostname | OS / Arch | INSTALL | BUILD | CHECK | BUILD BIN | ||||||||
| HumanTranscriptomeCompendium 1.18.1 (landing page) VJ Carey
| nebbiolo2 | Linux (Ubuntu 22.04.3 LTS) / x86_64 | OK | ERROR | skipped | |||||||||
| palomino4 | Windows Server 2022 Datacenter / x64 | OK | OK | OK | OK | |||||||||
| merida1 | macOS 12.7.1 Monterey / x86_64 | OK | OK | OK | OK | |||||||||
| kjohnson1 | macOS 13.6.1 Ventura / arm64 | see weekly results here | ||||||||||||
|
To the developers/maintainers of the HumanTranscriptomeCompendium package: - Allow up to 24 hours (and sometimes 48 hours) for your latest push to git@git.bioconductor.org:packages/HumanTranscriptomeCompendium.git to reflect on this report. See Troubleshooting Build Report for more information. - Use the following Renviron settings to reproduce errors and warnings. - If 'R CMD check' started to fail recently on the Linux builder(s) over a missing dependency, add the missing dependency to 'Suggests:' in your DESCRIPTION file. See Renviron.bioc for more information. |
| Package: HumanTranscriptomeCompendium |
| Version: 1.18.1 |
| Command: /Library/Frameworks/R.framework/Resources/bin/R CMD check --install=check:HumanTranscriptomeCompendium.install-out.txt --library=/Library/Frameworks/R.framework/Resources/library --no-vignettes --timings HumanTranscriptomeCompendium_1.18.1.tar.gz |
| StartedAt: 2024-04-11 04:02:53 -0400 (Thu, 11 Apr 2024) |
| EndedAt: 2024-04-11 04:09:23 -0400 (Thu, 11 Apr 2024) |
| EllapsedTime: 389.9 seconds |
| RetCode: 0 |
| Status: OK |
| CheckDir: HumanTranscriptomeCompendium.Rcheck |
| Warnings: 0 |
##############################################################################
##############################################################################
###
### Running command:
###
### /Library/Frameworks/R.framework/Resources/bin/R CMD check --install=check:HumanTranscriptomeCompendium.install-out.txt --library=/Library/Frameworks/R.framework/Resources/library --no-vignettes --timings HumanTranscriptomeCompendium_1.18.1.tar.gz
###
##############################################################################
##############################################################################
* using log directory ‘/Users/biocbuild/bbs-3.18-bioc/meat/HumanTranscriptomeCompendium.Rcheck’
* using R version 4.3.3 (2024-02-29)
* using platform: x86_64-apple-darwin20 (64-bit)
* R was compiled by
Apple clang version 14.0.0 (clang-1400.0.29.202)
GNU Fortran (GCC) 12.2.0
* running under: macOS Monterey 12.7.1
* using session charset: UTF-8
* using option ‘--no-vignettes’
* checking for file ‘HumanTranscriptomeCompendium/DESCRIPTION’ ... OK
* this is package ‘HumanTranscriptomeCompendium’ version ‘1.18.1’
* package encoding: UTF-8
* checking package namespace information ... OK
* checking package dependencies ... OK
* checking if this is a source package ... OK
* checking if there is a namespace ... OK
* checking for hidden files and directories ... OK
* checking for portable file names ... OK
* checking for sufficient/correct file permissions ... OK
* checking whether package ‘HumanTranscriptomeCompendium’ can be installed ... OK
* checking installed package size ... OK
* checking package directory ... OK
* checking ‘build’ directory ... OK
* checking DESCRIPTION meta-information ... OK
* checking top-level files ... OK
* checking for left-over files ... OK
* checking index information ... OK
* checking package subdirectories ... OK
* checking R files for non-ASCII characters ... OK
* checking R files for syntax errors ... OK
* checking whether the package can be loaded ... OK
* checking whether the package can be loaded with stated dependencies ... OK
* checking whether the package can be unloaded cleanly ... OK
* checking whether the namespace can be loaded with stated dependencies ... OK
* checking whether the namespace can be unloaded cleanly ... OK
* checking dependencies in R code ... OK
* checking S3 generic/method consistency ... OK
* checking replacement functions ... OK
* checking foreign function calls ... OK
* checking R code for possible problems ... OK
* checking Rd files ... OK
* checking Rd metadata ... OK
* checking Rd cross-references ... OK
* checking for missing documentation entries ... OK
* checking for code/documentation mismatches ... OK
* checking Rd \usage sections ... OK
* checking Rd contents ... OK
* checking for unstated dependencies in examples ... OK
* checking contents of ‘data’ directory ... OK
* checking data for non-ASCII characters ... OK
* checking LazyData ... OK
* checking data for ASCII and uncompressed saves ... OK
* checking files in ‘vignettes’ ... OK
* checking examples ... OK
Examples with CPU (user + system) or elapsed time > 5s
user system elapsed
htx_query_by_study_accession 9.499 0.245 11.025
htx_query_by_text 8.339 0.286 9.205
get_ds4841 4.816 0.340 5.714
* checking for unstated dependencies in ‘tests’ ... OK
* checking tests ...
Running ‘testthat.R’
OK
* checking for unstated dependencies in vignettes ... OK
* checking package vignettes in ‘inst/doc’ ... OK
* checking running R code from vignettes ... SKIPPED
* checking re-building of vignette outputs ... SKIPPED
* checking PDF version of manual ... OK
* DONE
Status: OK
HumanTranscriptomeCompendium.Rcheck/00install.out
############################################################################## ############################################################################## ### ### Running command: ### ### /Library/Frameworks/R.framework/Resources/bin/R CMD INSTALL HumanTranscriptomeCompendium ### ############################################################################## ############################################################################## * installing to library ‘/Library/Frameworks/R.framework/Versions/4.3-x86_64/Resources/library’ * installing *source* package ‘HumanTranscriptomeCompendium’ ... ** using staged installation ** R ** data *** moving datasets to lazyload DB ** inst ** byte-compile and prepare package for lazy loading ** help *** installing help indices ** building package indices ** installing vignettes ** testing if installed package can be loaded from temporary location ** testing if installed package can be loaded from final location ** testing if installed package keeps a record of temporary installation path * DONE (HumanTranscriptomeCompendium)
HumanTranscriptomeCompendium.Rcheck/tests/testthat.Rout
R version 4.3.3 (2024-02-29) -- "Angel Food Cake"
Copyright (C) 2024 The R Foundation for Statistical Computing
Platform: x86_64-apple-darwin20 (64-bit)
R is free software and comes with ABSOLUTELY NO WARRANTY.
You are welcome to redistribute it under certain conditions.
Type 'license()' or 'licence()' for distribution details.
R is a collaborative project with many contributors.
Type 'contributors()' for more information and
'citation()' on how to cite R or R packages in publications.
Type 'demo()' for some demos, 'help()' for on-line help, or
'help.start()' for an HTML browser interface to help.
Type 'q()' to quit R.
> library(testthat)
> library(HumanTranscriptomeCompendium)
>
> test_check("HumanTranscriptomeCompendium")
[ FAIL 0 | WARN 0 | SKIP 0 | PASS 8 ]
>
> proc.time()
user system elapsed
54.119 2.827 66.688
HumanTranscriptomeCompendium.Rcheck/HumanTranscriptomeCompendium-Ex.timings
| name | user | system | elapsed | |
| HumanTranscriptomeCompendium.colnames | 0.124 | 0.012 | 0.142 | |
| addRD | 0.001 | 0.001 | 0.002 | |
| ca43k | 0.001 | 0.001 | 0.002 | |
| get_ds4841 | 4.816 | 0.340 | 5.714 | |
| htx_app | 0.001 | 0.000 | 0.000 | |
| htx_load | 0.001 | 0.001 | 0.002 | |
| htx_query_by_study_accession | 9.499 | 0.245 | 11.025 | |
| htx_query_by_text | 8.339 | 0.286 | 9.205 | |
| load_bigrnaFiles | 0.000 | 0.000 | 0.001 | |
| load_experTable | 0 | 0 | 0 | |
| load_studTable | 0 | 0 | 0 | |
| path_doc4842 | 0.317 | 0.023 | 0.343 | |
| procExpToGene | 0.001 | 0.000 | 0.001 | |
| tx2gene_gencode27 | 0.589 | 0.027 | 0.648 | |
| uniqueAcc_120518 | 0.074 | 0.002 | 0.084 | |