| Back to Multiple platform build/check report for BioC 3.18: simplified long |
|
This page was generated on 2024-04-17 11:36:02 -0400 (Wed, 17 Apr 2024).
| Hostname | OS | Arch (*) | R version | Installed pkgs |
|---|---|---|---|---|
| nebbiolo2 | Linux (Ubuntu 22.04.3 LTS) | x86_64 | 4.3.3 (2024-02-29) -- "Angel Food Cake" | 4676 |
| palomino4 | Windows Server 2022 Datacenter | x64 | 4.3.3 (2024-02-29 ucrt) -- "Angel Food Cake" | 4414 |
| merida1 | macOS 12.7.1 Monterey | x86_64 | 4.3.3 (2024-02-29) -- "Angel Food Cake" | 4437 |
| Click on any hostname to see more info about the system (e.g. compilers) (*) as reported by 'uname -p', except on Windows and Mac OS X | ||||
| Package 978/2266 | Hostname | OS / Arch | INSTALL | BUILD | CHECK | BUILD BIN | ||||||||
| HubPub 1.10.1 (landing page) Kayla Interdonato
| nebbiolo2 | Linux (Ubuntu 22.04.3 LTS) / x86_64 | OK | OK | OK | |||||||||
| palomino4 | Windows Server 2022 Datacenter / x64 | OK | OK | OK | OK | |||||||||
| merida1 | macOS 12.7.1 Monterey / x86_64 | OK | OK | OK | OK | |||||||||
| kjohnson1 | macOS 13.6.1 Ventura / arm64 | see weekly results here | ||||||||||||
|
To the developers/maintainers of the HubPub package: - Allow up to 24 hours (and sometimes 48 hours) for your latest push to git@git.bioconductor.org:packages/HubPub.git to reflect on this report. See Troubleshooting Build Report for more information. - Use the following Renviron settings to reproduce errors and warnings. - If 'R CMD check' started to fail recently on the Linux builder(s) over a missing dependency, add the missing dependency to 'Suggests:' in your DESCRIPTION file. See Renviron.bioc for more information. |
| Package: HubPub |
| Version: 1.10.1 |
| Command: /home/biocbuild/bbs-3.18-bioc/R/bin/R CMD check --install=check:HubPub.install-out.txt --library=/home/biocbuild/bbs-3.18-bioc/R/site-library --timings HubPub_1.10.1.tar.gz |
| StartedAt: 2024-04-15 23:51:28 -0400 (Mon, 15 Apr 2024) |
| EndedAt: 2024-04-15 23:54:00 -0400 (Mon, 15 Apr 2024) |
| EllapsedTime: 151.7 seconds |
| RetCode: 0 |
| Status: OK |
| CheckDir: HubPub.Rcheck |
| Warnings: 0 |
##############################################################################
##############################################################################
###
### Running command:
###
### /home/biocbuild/bbs-3.18-bioc/R/bin/R CMD check --install=check:HubPub.install-out.txt --library=/home/biocbuild/bbs-3.18-bioc/R/site-library --timings HubPub_1.10.1.tar.gz
###
##############################################################################
##############################################################################
* using log directory ‘/home/biocbuild/bbs-3.18-bioc/meat/HubPub.Rcheck’
* using R version 4.3.3 (2024-02-29)
* using platform: x86_64-pc-linux-gnu (64-bit)
* R was compiled by
gcc (Ubuntu 11.4.0-1ubuntu1~22.04) 11.4.0
GNU Fortran (Ubuntu 11.4.0-1ubuntu1~22.04) 11.4.0
* running under: Ubuntu 22.04.4 LTS
* using session charset: UTF-8
* checking for file ‘HubPub/DESCRIPTION’ ... OK
* this is package ‘HubPub’ version ‘1.10.1’
* package encoding: UTF-8
* checking package namespace information ... OK
* checking package dependencies ... OK
* checking if this is a source package ... OK
* checking if there is a namespace ... OK
* checking for hidden files and directories ... OK
* checking for portable file names ... OK
* checking for sufficient/correct file permissions ... OK
* checking whether package ‘HubPub’ can be installed ... OK
* checking installed package size ... OK
* checking package directory ... OK
* checking ‘build’ directory ... OK
* checking DESCRIPTION meta-information ... OK
* checking top-level files ... OK
* checking for left-over files ... OK
* checking index information ... OK
* checking package subdirectories ... OK
* checking R files for non-ASCII characters ... OK
* checking R files for syntax errors ... OK
* checking whether the package can be loaded ... OK
* checking whether the package can be loaded with stated dependencies ... OK
* checking whether the package can be unloaded cleanly ... OK
* checking whether the namespace can be loaded with stated dependencies ... OK
* checking whether the namespace can be unloaded cleanly ... OK
* checking loading without being on the library search path ... OK
* checking dependencies in R code ... OK
* checking S3 generic/method consistency ... OK
* checking replacement functions ... OK
* checking foreign function calls ... OK
* checking R code for possible problems ... OK
* checking Rd files ... OK
* checking Rd metadata ... OK
* checking Rd cross-references ... OK
* checking for missing documentation entries ... OK
* checking for code/documentation mismatches ... OK
* checking Rd \usage sections ... OK
* checking Rd contents ... OK
* checking for unstated dependencies in examples ... OK
* checking files in ‘vignettes’ ... OK
* checking examples ... OK
Examples with CPU (user + system) or elapsed time > 5s
user system elapsed
add_resource 23.011 1.115 25.917
* checking for unstated dependencies in ‘tests’ ... OK
* checking tests ...
Running ‘testthat.R’
OK
* checking for unstated dependencies in vignettes ... OK
* checking package vignettes in ‘inst/doc’ ... OK
* checking running R code from vignettes ...
‘CreateAHubPackage.Rmd’ using ‘UTF-8’... OK
‘HubPub.Rmd’ using ‘UTF-8’... OK
OK
* checking re-building of vignette outputs ... OK
* checking PDF version of manual ... OK
* DONE
Status: OK
HubPub.Rcheck/00install.out
############################################################################## ############################################################################## ### ### Running command: ### ### /home/biocbuild/bbs-3.18-bioc/R/bin/R CMD INSTALL HubPub ### ############################################################################## ############################################################################## * installing to library ‘/home/biocbuild/bbs-3.18-bioc/R/site-library’ * installing *source* package ‘HubPub’ ... ** using staged installation ** R ** inst ** byte-compile and prepare package for lazy loading ** help *** installing help indices ** building package indices ** installing vignettes ** testing if installed package can be loaded from temporary location ** testing if installed package can be loaded from final location ** testing if installed package keeps a record of temporary installation path * DONE (HubPub)
HubPub.Rcheck/tests/testthat.Rout
R version 4.3.3 (2024-02-29) -- "Angel Food Cake"
Copyright (C) 2024 The R Foundation for Statistical Computing
Platform: x86_64-pc-linux-gnu (64-bit)
R is free software and comes with ABSOLUTELY NO WARRANTY.
You are welcome to redistribute it under certain conditions.
Type 'license()' or 'licence()' for distribution details.
R is a collaborative project with many contributors.
Type 'contributors()' for more information and
'citation()' on how to cite R or R packages in publications.
Type 'demo()' for some demos, 'help()' for on-line help, or
'help.start()' for an HTML browser interface to help.
Type 'q()' to quit R.
> library(testthat)
> library(HubPub)
>
> test_check("HubPub")
Package: tstResourcePkg
Title: What the Package Does (One Line, Title Case)
Version: 0.99.0
Date: 2024-04-15
Authors@R (parsed):
* First Last <first.last@example.com> [aut, cre] (YOUR-ORCID-ID)
Description: What the package does (one paragraph).
License: Artistic-2.0
BugReports: https://support.bioconductor.org/t/tstResourcePkg
Imports:
AnnotationHub
Suggests:
AnnotationHubData
Encoding: UTF-8
Roxygen: list(markdown = TRUE)
RoxygenNote: 7.0.0
biocViews: AnnotationHub
Package: tstAHPkg
Title: What the Package Does (One Line, Title Case)
Version: 0.99.0
Date: 2024-04-15
Authors@R (parsed):
* First Last <first.last@example.com> [aut, cre] (YOUR-ORCID-ID)
Description: What the package does (one paragraph).
License: Artistic-2.0
BugReports: https://support.bioconductor.org/t/tstAHPkg
Imports:
AnnotationHub
Suggests:
AnnotationHubData
Encoding: UTF-8
Roxygen: list(markdown = TRUE)
RoxygenNote: 7.0.0
biocViews: AnnotationHub
Package: tstEHPkg
Title: What the Package Does (One Line, Title Case)
Version: 0.99.0
Date: 2024-04-15
Authors@R (parsed):
* First Last <first.last@example.com> [aut, cre] (YOUR-ORCID-ID)
Description: What the package does (one paragraph).
License: Artistic-2.0
BugReports: https://support.bioconductor.org/t/tstEHPkg
Imports:
ExperimentHub
Suggests:
ExperimentHubData
Encoding: UTF-8
Roxygen: list(markdown = TRUE)
RoxygenNote: 7.0.0
biocViews: ExperimentHub
[ FAIL 0 | WARN 0 | SKIP 0 | PASS 19 ]
>
> proc.time()
user system elapsed
19.837 1.055 25.536
HubPub.Rcheck/HubPub-Ex.timings
| name | user | system | elapsed | |
| add_resource | 23.011 | 1.115 | 25.917 | |
| create_pkg | 1.921 | 0.072 | 3.488 | |
| hub_metadata | 0.002 | 0.000 | 0.002 | |
| publish_resource | 0.007 | 0.000 | 0.006 | |