| Back to Multiple platform build/check report for BioC 3.18: simplified long |
|
This page was generated on 2024-03-04 11:37:26 -0500 (Mon, 04 Mar 2024).
| Hostname | OS | Arch (*) | R version | Installed pkgs |
|---|---|---|---|---|
| nebbiolo2 | Linux (Ubuntu 22.04.3 LTS) | x86_64 | 4.3.2 Patched (2023-11-13 r85521) -- "Eye Holes" | 4692 |
| palomino4 | Windows Server 2022 Datacenter | x64 | 4.3.2 (2023-10-31 ucrt) -- "Eye Holes" | 4445 |
| lconway | macOS 12.7.1 Monterey | x86_64 | 4.3.2 Patched (2023-11-01 r85457) -- "Eye Holes" | 4466 |
| Click on any hostname to see more info about the system (e.g. compilers) (*) as reported by 'uname -p', except on Windows and Mac OS X | ||||
| Package 954/2266 | Hostname | OS / Arch | INSTALL | BUILD | CHECK | BUILD BIN | ||||||||
| HiCool 1.2.0 (landing page) Jacques Serizay
| nebbiolo2 | Linux (Ubuntu 22.04.3 LTS) / x86_64 | OK | OK | OK | |||||||||
| palomino4 | Windows Server 2022 Datacenter / x64 | ... NOT SUPPORTED ... | ||||||||||||
| lconway | macOS 12.7.1 Monterey / x86_64 | OK | OK | OK | OK | |||||||||
| kjohnson1 | macOS 13.6.1 Ventura / arm64 | see weekly results here | ||||||||||||
|
To the developers/maintainers of the HiCool package: - Allow up to 24 hours (and sometimes 48 hours) for your latest push to git@git.bioconductor.org:packages/HiCool.git to reflect on this report. See Troubleshooting Build Report for more information. - Use the following Renviron settings to reproduce errors and warnings. - If 'R CMD check' started to fail recently on the Linux builder(s) over a missing dependency, add the missing dependency to 'Suggests:' in your DESCRIPTION file. See Renviron.bioc for more information. |
| Package: HiCool |
| Version: 1.2.0 |
| Command: /Library/Frameworks/R.framework/Resources/bin/R CMD check --install=check:HiCool.install-out.txt --library=/Library/Frameworks/R.framework/Resources/library --no-vignettes --timings HiCool_1.2.0.tar.gz |
| StartedAt: 2024-03-03 21:08:18 -0500 (Sun, 03 Mar 2024) |
| EndedAt: 2024-03-03 21:15:09 -0500 (Sun, 03 Mar 2024) |
| EllapsedTime: 410.9 seconds |
| RetCode: 0 |
| Status: OK |
| CheckDir: HiCool.Rcheck |
| Warnings: 0 |
##############################################################################
##############################################################################
###
### Running command:
###
### /Library/Frameworks/R.framework/Resources/bin/R CMD check --install=check:HiCool.install-out.txt --library=/Library/Frameworks/R.framework/Resources/library --no-vignettes --timings HiCool_1.2.0.tar.gz
###
##############################################################################
##############################################################################
* using log directory ‘/Users/biocbuild/bbs-3.18-bioc/meat/HiCool.Rcheck’
* using R version 4.3.2 Patched (2023-11-01 r85457)
* using platform: x86_64-apple-darwin20 (64-bit)
* R was compiled by
Apple clang version 14.0.3 (clang-1403.0.22.14.1)
GNU Fortran (GCC) 12.2.0
* running under: macOS Monterey 12.7.1
* using session charset: UTF-8
* using option ‘--no-vignettes’
* checking for file ‘HiCool/DESCRIPTION’ ... OK
* this is package ‘HiCool’ version ‘1.2.0’
* package encoding: UTF-8
* checking package namespace information ... OK
* checking package dependencies ... OK
* checking if this is a source package ... OK
* checking if there is a namespace ... OK
* checking for hidden files and directories ... NOTE
Found the following hidden files and directories:
.BBSoptions
These were most likely included in error. See section ‘Package
structure’ in the ‘Writing R Extensions’ manual.
* checking for portable file names ... OK
* checking for sufficient/correct file permissions ... OK
* checking whether package ‘HiCool’ can be installed ... NOTE
Found the following notes/warnings:
Non-staged installation was used
See ‘/Users/biocbuild/bbs-3.18-bioc/meat/HiCool.Rcheck/00install.out’ for details.
* checking installed package size ... OK
* checking package directory ... OK
* checking ‘build’ directory ... OK
* checking DESCRIPTION meta-information ... NOTE
Package listed in more than one of Depends, Imports, Suggests, Enhances:
‘rmarkdown’
A package should be listed in only one of these fields.
* checking top-level files ... OK
* checking for left-over files ... OK
* checking index information ... OK
* checking package subdirectories ... OK
* checking R files for non-ASCII characters ... OK
* checking R files for syntax errors ... OK
* checking whether the package can be loaded ... OK
* checking whether the package can be loaded with stated dependencies ... OK
* checking whether the package can be unloaded cleanly ... OK
* checking whether the namespace can be loaded with stated dependencies ... OK
* checking whether the namespace can be unloaded cleanly ... OK
* checking dependencies in R code ... OK
* checking S3 generic/method consistency ... OK
* checking replacement functions ... OK
* checking foreign function calls ... OK
* checking R code for possible problems ... OK
* checking Rd files ... OK
* checking Rd metadata ... OK
* checking Rd cross-references ... OK
* checking for missing documentation entries ... OK
* checking for code/documentation mismatches ... OK
* checking Rd \usage sections ... OK
* checking Rd contents ... OK
* checking for unstated dependencies in examples ... OK
* checking line endings in shell scripts ... OK
* checking files in ‘vignettes’ ... OK
* checking examples ... OK
Examples with CPU (user + system) or elapsed time > 5s
user system elapsed
HiCool 57.557 7.966 67.523
HiCReport 30.918 5.362 39.425
getLoops 6.444 0.753 7.568
* checking for unstated dependencies in ‘tests’ ... OK
* checking tests ...
Running ‘testthat.R’
OK
* checking for unstated dependencies in vignettes ... OK
* checking package vignettes in ‘inst/doc’ ... OK
* checking running R code from vignettes ... SKIPPED
* checking re-building of vignette outputs ... SKIPPED
* checking PDF version of manual ... OK
* DONE
Status: 3 NOTEs
See
‘/Users/biocbuild/bbs-3.18-bioc/meat/HiCool.Rcheck/00check.log’
for details.
HiCool.Rcheck/00install.out
############################################################################## ############################################################################## ### ### Running command: ### ### /Library/Frameworks/R.framework/Resources/bin/R CMD INSTALL HiCool ### ############################################################################## ############################################################################## * installing to library ‘/Library/Frameworks/R.framework/Versions/4.3-x86_64/Resources/library’ * installing *source* package ‘HiCool’ ... ** using non-staged installation via StagedInstall field ** R ** inst ** byte-compile and prepare package for lazy loading ** help *** installing help indices *** copying figures ** building package indices ** installing vignettes ** testing if installed package can be loaded * DONE (HiCool)
HiCool.Rcheck/tests/testthat.Rout
R version 4.3.2 Patched (2023-11-01 r85457) -- "Eye Holes"
Copyright (C) 2023 The R Foundation for Statistical Computing
Platform: x86_64-apple-darwin20 (64-bit)
R is free software and comes with ABSOLUTELY NO WARRANTY.
You are welcome to redistribute it under certain conditions.
Type 'license()' or 'licence()' for distribution details.
R is a collaborative project with many contributors.
Type 'contributors()' for more information and
'citation()' on how to cite R or R packages in publications.
Type 'demo()' for some demos, 'help()' for on-line help, or
'help.start()' for an HTML browser interface to help.
Type 'q()' to quit R.
> library(testthat)
> library(HiCool)
Loading required package: HiCExperiment
Consider using the `HiContacts` package to perform advanced genomic operations
on `HiCExperiment` objects.
Read "Orchestrating Hi-C analysis with Bioconductor" online book to learn more:
https://js2264.github.io/OHCA/
> test_check("HiCool")
see ?HiContactsData and browseVignettes('HiContactsData') for documentation
loading from cache
see ?HiContactsData and browseVignettes('HiContactsData') for documentation
loading from cache
HiCool :: Recovering bowtie2 genome index from AWS iGenomes...
HiCool :: Initiating processing of fastq files [tmp folder: /tmp/RtmprWfAc2/CW0G8G]...
HiCool :: Mapping fastq files...
[E::idx_find_and_load] Could not retrieve index file for '/tmp/RtmprWfAc2/CW0G8G/tmp/edadd558/temp_alignment.bam'
[E::idx_find_and_load] Could not retrieve index file for '/tmp/RtmprWfAc2/CW0G8G/tmp/edadd558/temp_alignment.bam'
[E::idx_find_and_load] Could not retrieve index file for '/tmp/RtmprWfAc2/CW0G8G/tmp/edadd558/temp_alignment.bam'
[E::idx_find_and_load] Could not retrieve index file for '/tmp/RtmprWfAc2/CW0G8G/tmp/b3f8c384/temp_alignment.bam'
[E::idx_find_and_load] Could not retrieve index file for '/tmp/RtmprWfAc2/CW0G8G/tmp/b3f8c384/temp_alignment.bam'
[E::idx_find_and_load] Could not retrieve index file for '/tmp/RtmprWfAc2/CW0G8G/tmp/b3f8c384/temp_alignment.bam'
[E::idx_find_and_load] Could not retrieve index file for '/tmp/RtmprWfAc2/CW0G8G/tmp/11b7f14226a2e_7833^mapped-R64-1-1^CW0G8G.for.bam'
[E::idx_find_and_load] Could not retrieve index file for '/tmp/RtmprWfAc2/CW0G8G/tmp/11b7f14226a2e_7833^mapped-R64-1-1^CW0G8G.rev.bam'
INFO:cooler.create:Writing chunk 0: /tmp/RtmprWfAc2/CW0G8G/tmp229i6vc2.multi.cool::0
INFO:cooler.create:Creating cooler at "/tmp/RtmprWfAc2/CW0G8G/tmp229i6vc2.multi.cool::/0"
INFO:cooler.create:Writing chroms
INFO:cooler.create:Writing bins
INFO:cooler.create:Writing pixels
INFO:cooler.create:Writing indexes
INFO:cooler.create:Writing info
INFO:cooler.create:Merging into /tmp/RtmprWfAc2/CW0G8G/11b7f14226a2e_7833^mapped-R64-1-1^CW0G8G.cool
INFO:cooler.create:Creating cooler at "/tmp/RtmprWfAc2/CW0G8G/11b7f14226a2e_7833^mapped-R64-1-1^CW0G8G.cool::/"
INFO:cooler.create:Writing chroms
INFO:cooler.create:Writing bins
INFO:cooler.create:Writing pixels
INFO:cooler.reduce:nnzs: [60531]
INFO:cooler.reduce:current: [60531]
INFO:cooler.create:Writing indexes
INFO:cooler.create:Writing info
HiCool :: Best-suited minimum resolution automatically inferred: 1000
HiCool :: Removing unwanted chromosomes...
HiCool :: Parsing pairs into .cool file...
HiCool :: Generating multi-resolution .mcool file...
HiCool :: Balancing .mcool file...
HiCool :: Tidying up everything for you...
HiCool :: .fastq to .mcool processing done!
HiCool :: Check ./HiCool/folder to find the generated files
HiCool :: Generating HiCool report. This might take a while.
HiCool :: Report generated and available @ /Users/biocbuild/bbs-3.18-bioc/meat/HiCool.Rcheck/tests/testthat/HiCool/11b7f14226a2e_7833^mapped-R64-1-1^CW0G8G.html
HiCool :: All processing successfully achieved. Congrats!
see ?HiContactsData and browseVignettes('HiContactsData') for documentation
loading from cache
[ FAIL 0 | WARN 0 | SKIP 0 | PASS 3 ]
>
> proc.time()
user system elapsed
75.923 9.811 84.516
HiCool.Rcheck/HiCool-Ex.timings
| name | user | system | elapsed | |
| HiCReport | 30.918 | 5.362 | 39.425 | |
| HiCool | 57.557 | 7.966 | 67.523 | |
| getLoops | 6.444 | 0.753 | 7.568 | |