| Back to Multiple platform build/check report for BioC 3.18: simplified long |
|
This page was generated on 2024-03-04 11:37:26 -0500 (Mon, 04 Mar 2024).
| Hostname | OS | Arch (*) | R version | Installed pkgs |
|---|---|---|---|---|
| nebbiolo2 | Linux (Ubuntu 22.04.3 LTS) | x86_64 | 4.3.2 Patched (2023-11-13 r85521) -- "Eye Holes" | 4692 |
| palomino4 | Windows Server 2022 Datacenter | x64 | 4.3.2 (2023-10-31 ucrt) -- "Eye Holes" | 4445 |
| lconway | macOS 12.7.1 Monterey | x86_64 | 4.3.2 Patched (2023-11-01 r85457) -- "Eye Holes" | 4466 |
| Click on any hostname to see more info about the system (e.g. compilers) (*) as reported by 'uname -p', except on Windows and Mac OS X | ||||
| Package 952/2266 | Hostname | OS / Arch | INSTALL | BUILD | CHECK | BUILD BIN | ||||||||
| HiCExperiment 1.2.0 (landing page) Jacques Serizay
| nebbiolo2 | Linux (Ubuntu 22.04.3 LTS) / x86_64 | OK | OK | OK | |||||||||
| palomino4 | Windows Server 2022 Datacenter / x64 | OK | OK | OK | OK | |||||||||
| lconway | macOS 12.7.1 Monterey / x86_64 | OK | OK | OK | OK | |||||||||
| kjohnson1 | macOS 13.6.1 Ventura / arm64 | see weekly results here | ||||||||||||
|
To the developers/maintainers of the HiCExperiment package: - Allow up to 24 hours (and sometimes 48 hours) for your latest push to git@git.bioconductor.org:packages/HiCExperiment.git to reflect on this report. See Troubleshooting Build Report for more information. - Use the following Renviron settings to reproduce errors and warnings. - If 'R CMD check' started to fail recently on the Linux builder(s) over a missing dependency, add the missing dependency to 'Suggests:' in your DESCRIPTION file. See Renviron.bioc for more information. |
| Package: HiCExperiment |
| Version: 1.2.0 |
| Command: /Library/Frameworks/R.framework/Resources/bin/R CMD check --install=check:HiCExperiment.install-out.txt --library=/Library/Frameworks/R.framework/Resources/library --no-vignettes --timings HiCExperiment_1.2.0.tar.gz |
| StartedAt: 2024-03-03 21:07:32 -0500 (Sun, 03 Mar 2024) |
| EndedAt: 2024-03-03 21:19:10 -0500 (Sun, 03 Mar 2024) |
| EllapsedTime: 698.3 seconds |
| RetCode: 0 |
| Status: OK |
| CheckDir: HiCExperiment.Rcheck |
| Warnings: 0 |
##############################################################################
##############################################################################
###
### Running command:
###
### /Library/Frameworks/R.framework/Resources/bin/R CMD check --install=check:HiCExperiment.install-out.txt --library=/Library/Frameworks/R.framework/Resources/library --no-vignettes --timings HiCExperiment_1.2.0.tar.gz
###
##############################################################################
##############################################################################
* using log directory ‘/Users/biocbuild/bbs-3.18-bioc/meat/HiCExperiment.Rcheck’
* using R version 4.3.2 Patched (2023-11-01 r85457)
* using platform: x86_64-apple-darwin20 (64-bit)
* R was compiled by
Apple clang version 14.0.3 (clang-1403.0.22.14.1)
GNU Fortran (GCC) 12.2.0
* running under: macOS Monterey 12.7.1
* using session charset: UTF-8
* using option ‘--no-vignettes’
* checking for file ‘HiCExperiment/DESCRIPTION’ ... OK
* this is package ‘HiCExperiment’ version ‘1.2.0’
* package encoding: UTF-8
* checking package namespace information ... OK
* checking package dependencies ... OK
* checking if this is a source package ... OK
* checking if there is a namespace ... OK
* checking for hidden files and directories ... OK
* checking for portable file names ... OK
* checking for sufficient/correct file permissions ... OK
* checking whether package ‘HiCExperiment’ can be installed ... OK
* checking installed package size ... OK
* checking package directory ... OK
* checking ‘build’ directory ... OK
* checking DESCRIPTION meta-information ... OK
* checking top-level files ... OK
* checking for left-over files ... OK
* checking index information ... OK
* checking package subdirectories ... OK
* checking R files for non-ASCII characters ... OK
* checking R files for syntax errors ... OK
* checking whether the package can be loaded ... OK
* checking whether the package can be loaded with stated dependencies ... OK
* checking whether the package can be unloaded cleanly ... OK
* checking whether the namespace can be loaded with stated dependencies ... OK
* checking whether the namespace can be unloaded cleanly ... OK
* checking startup messages can be suppressed ... OK
* checking dependencies in R code ... OK
* checking S3 generic/method consistency ... OK
* checking replacement functions ... OK
* checking foreign function calls ... NOTE
Foreign function call to a different package:
.Call("_H5Fis_hdf5", ..., PACKAGE = "rhdf5")
See chapter ‘System and foreign language interfaces’ in the ‘Writing R
Extensions’ manual.
* checking R code for possible problems ... NOTE
File ‘HiCExperiment/R/zzz.R’:
.onLoad calls:
packageStartupMessage("Consider using the `HiContacts` package to perform advanced genomic operations \non `HiCExperiment` objects.\n\nRead \"Orchestrating Hi-C analysis with Bioconductor\" online book to learn more:\nhttps://js2264.github.io/OHCA/")
See section ‘Good practice’ in '?.onAttach'.
* checking Rd files ... OK
* checking Rd metadata ... OK
* checking Rd cross-references ... OK
* checking for missing documentation entries ... OK
* checking for code/documentation mismatches ... OK
* checking Rd \usage sections ... OK
* checking Rd contents ... OK
* checking for unstated dependencies in examples ... OK
* checking contents of ‘data’ directory ... OK
* checking data for non-ASCII characters ... OK
* checking data for ASCII and uncompressed saves ... OK
* checking files in ‘vignettes’ ... OK
* checking examples ... OK
Examples with CPU (user + system) or elapsed time > 5s
user system elapsed
import-methods 62.825 7.548 68.338
HiCExperiment 17.474 1.843 20.128
AggrHiCExperiment 13.748 2.191 16.080
HicproFile-class 5.099 0.595 6.368
* checking for unstated dependencies in ‘tests’ ... OK
* checking tests ...
Running ‘testthat.R’
OK
* checking for unstated dependencies in vignettes ... OK
* checking package vignettes in ‘inst/doc’ ... OK
* checking running R code from vignettes ... SKIPPED
* checking re-building of vignette outputs ... SKIPPED
* checking PDF version of manual ... OK
* DONE
Status: 2 NOTEs
See
‘/Users/biocbuild/bbs-3.18-bioc/meat/HiCExperiment.Rcheck/00check.log’
for details.
HiCExperiment.Rcheck/00install.out
############################################################################## ############################################################################## ### ### Running command: ### ### /Library/Frameworks/R.framework/Resources/bin/R CMD INSTALL HiCExperiment ### ############################################################################## ############################################################################## * installing to library ‘/Library/Frameworks/R.framework/Versions/4.3-x86_64/Resources/library’ * installing *source* package ‘HiCExperiment’ ... ** using staged installation ** R ** data ** inst ** byte-compile and prepare package for lazy loading ** help *** installing help indices *** copying figures ** building package indices ** installing vignettes ** testing if installed package can be loaded from temporary location ** testing if installed package can be loaded from final location ** testing if installed package keeps a record of temporary installation path * DONE (HiCExperiment)
HiCExperiment.Rcheck/tests/testthat.Rout
R version 4.3.2 Patched (2023-11-01 r85457) -- "Eye Holes"
Copyright (C) 2023 The R Foundation for Statistical Computing
Platform: x86_64-apple-darwin20 (64-bit)
R is free software and comes with ABSOLUTELY NO WARRANTY.
You are welcome to redistribute it under certain conditions.
Type 'license()' or 'licence()' for distribution details.
R is a collaborative project with many contributors.
Type 'contributors()' for more information and
'citation()' on how to cite R or R packages in publications.
Type 'demo()' for some demos, 'help()' for on-line help, or
'help.start()' for an HTML browser interface to help.
Type 'q()' to quit R.
> # This file is part of the standard setup for testthat.
> # It is recommended that you do not modify it.
> #
> # Where should you do additional test configuration?
> # Learn more about the roles of various files in:
> # * https://r-pkgs.org/tests.html
> # * https://testthat.r-lib.org/reference/test_package.html#special-files
>
> library(testthat)
> library(HiCExperiment)
Consider using the `HiContacts` package to perform advanced genomic operations
on `HiCExperiment` objects.
Read "Orchestrating Hi-C analysis with Bioconductor" online book to learn more:
https://js2264.github.io/OHCA/
>
> test_check("HiCExperiment")
see ?HiContactsData and browseVignettes('HiContactsData') for documentation
loading from cache
see ?HiContactsData and browseVignettes('HiContactsData') for documentation
loading from cache
see ?HiContactsData and browseVignettes('HiContactsData') for documentation
loading from cache
see ?HiContactsData and browseVignettes('HiContactsData') for documentation
loading from cache
see ?HiContactsData and browseVignettes('HiContactsData') for documentation
loading from cache
see ?HiContactsData and browseVignettes('HiContactsData') for documentation
loading from cache
resolutions(1): 1000
resolutions(5): 1000 2000 4000 8000 16000
resolutions(1): 1000
resolutions(5): 1000 2000 4000 8000 16000
CoolFile object
.mcool file: /Users/biocbuild/Library/Caches/org.R-project.R/R/ExperimentHub/dcff24538dd3_7751
resolution: 1000
pairs file:
metadata(0):
see ?HiContactsData and browseVignettes('HiContactsData') for documentation
loading from cache
`HiCExperiment` object with 8,757,906 contacts over 763 regions
-------
fileName: "/Users/biocbuild/Library/Caches/org.R-project.R/R/ExperimentHub/dcff3d6eeb7_7752"
focus: "II"
resolutions(5): 1000 2000 4000 8000 16000
active resolution: 16000
interactions: 267709
scores(3): count balanced test
topologicalFeatures: compartments(0) borders(0) loops(0) viewpoints(0) centromeres(16) test(0)
pairsFile: /Users/biocbuild/Library/Caches/org.R-project.R/R/ExperimentHub/dcff16c7c86f_7753
metadata(1): test
resolutions(5): 1000 2000 4000 8000 16000
resolutions(5): 1000 2000 4000 8000 16000
HicFile object
.hic file: /Users/biocbuild/Library/Caches/org.R-project.R/R/ExperimentHub/11c187c43c67_7836
resolution: 1000
pairs file:
metadata(0):
HicproFile object
HiC-Pro files:
$ matrix: /Users/biocbuild/Library/Caches/org.R-project.R/R/ExperimentHub/11c186459922c_7837
$ regions: /Users/biocbuild/Library/Caches/org.R-project.R/R/ExperimentHub/11c18348bba2c_7838
resolution: 1000
pairs file:
metadata(0):
Going through preflight checklist...
Parsing the entire contact matrice as a sparse matrix...
Modeling distance decay...
Filtering for contacts within provided targets...
`AggrHiCExperiment` object over 2 targets
-------
fileName: "/Users/biocbuild/Library/Caches/org.R-project.R/R/ExperimentHub/dcff3d6eeb7_7752"
focus: 2 targets
resolutions(5): 1000 2000 4000 8000 16000
active resolution: 8000
interactions: 10201
scores(4): count balanced expected detrended
slices(4): count balanced expected detrended
topologicalFeatures: targets(2)
pairsFile: N/A
metadata(0):
[ FAIL 0 | WARN 0 | SKIP 0 | PASS 241 ]
>
> proc.time()
user system elapsed
319.403 37.205 340.501
HiCExperiment.Rcheck/HiCExperiment-Ex.timings
| name | user | system | elapsed | |
| AggrHiCExperiment | 13.748 | 2.191 | 16.080 | |
| CoolFile-class | 3.456 | 0.486 | 4.313 | |
| HiCExperiment | 17.474 | 1.843 | 20.128 | |
| HicFile-class | 3.328 | 0.443 | 4.385 | |
| HicproFile-class | 5.099 | 0.595 | 6.368 | |
| PairsFile-class | 1.626 | 0.196 | 2.009 | |
| as | 2.590 | 0.266 | 3.184 | |
| bin-methods | 1.606 | 0.198 | 1.994 | |
| data | 2.951 | 0.330 | 3.606 | |
| export-methods | 3.867 | 0.518 | 4.681 | |
| import-methods | 62.825 | 7.548 | 68.338 | |