| Back to Multiple platform build/check report for BioC 3.18: simplified long |
|
This page was generated on 2024-03-04 11:37:23 -0500 (Mon, 04 Mar 2024).
| Hostname | OS | Arch (*) | R version | Installed pkgs |
|---|---|---|---|---|
| nebbiolo2 | Linux (Ubuntu 22.04.3 LTS) | x86_64 | 4.3.2 Patched (2023-11-13 r85521) -- "Eye Holes" | 4692 |
| palomino4 | Windows Server 2022 Datacenter | x64 | 4.3.2 (2023-10-31 ucrt) -- "Eye Holes" | 4445 |
| lconway | macOS 12.7.1 Monterey | x86_64 | 4.3.2 Patched (2023-11-01 r85457) -- "Eye Holes" | 4466 |
| Click on any hostname to see more info about the system (e.g. compilers) (*) as reported by 'uname -p', except on Windows and Mac OS X | ||||
| Package 821/2266 | Hostname | OS / Arch | INSTALL | BUILD | CHECK | BUILD BIN | ||||||||
| GenomicDistributions 1.10.0 (landing page) Kristyna Kupkova
| nebbiolo2 | Linux (Ubuntu 22.04.3 LTS) / x86_64 | OK | OK | OK | |||||||||
| palomino4 | Windows Server 2022 Datacenter / x64 | OK | OK | OK | OK | |||||||||
| lconway | macOS 12.7.1 Monterey / x86_64 | OK | OK | OK | OK | |||||||||
| kjohnson1 | macOS 13.6.1 Ventura / arm64 | see weekly results here | ||||||||||||
|
To the developers/maintainers of the GenomicDistributions package: - Allow up to 24 hours (and sometimes 48 hours) for your latest push to git@git.bioconductor.org:packages/GenomicDistributions.git to reflect on this report. See Troubleshooting Build Report for more information. - Use the following Renviron settings to reproduce errors and warnings. - If 'R CMD check' started to fail recently on the Linux builder(s) over a missing dependency, add the missing dependency to 'Suggests:' in your DESCRIPTION file. See Renviron.bioc for more information. |
| Package: GenomicDistributions |
| Version: 1.10.0 |
| Command: /Library/Frameworks/R.framework/Resources/bin/R CMD check --install=check:GenomicDistributions.install-out.txt --library=/Library/Frameworks/R.framework/Resources/library --no-vignettes --timings GenomicDistributions_1.10.0.tar.gz |
| StartedAt: 2024-03-03 20:49:07 -0500 (Sun, 03 Mar 2024) |
| EndedAt: 2024-03-03 20:52:33 -0500 (Sun, 03 Mar 2024) |
| EllapsedTime: 206.0 seconds |
| RetCode: 0 |
| Status: OK |
| CheckDir: GenomicDistributions.Rcheck |
| Warnings: 0 |
##############################################################################
##############################################################################
###
### Running command:
###
### /Library/Frameworks/R.framework/Resources/bin/R CMD check --install=check:GenomicDistributions.install-out.txt --library=/Library/Frameworks/R.framework/Resources/library --no-vignettes --timings GenomicDistributions_1.10.0.tar.gz
###
##############################################################################
##############################################################################
* using log directory ‘/Users/biocbuild/bbs-3.18-bioc/meat/GenomicDistributions.Rcheck’
* using R version 4.3.2 Patched (2023-11-01 r85457)
* using platform: x86_64-apple-darwin20 (64-bit)
* R was compiled by
Apple clang version 14.0.3 (clang-1403.0.22.14.1)
GNU Fortran (GCC) 12.2.0
* running under: macOS Monterey 12.7.1
* using session charset: UTF-8
* using option ‘--no-vignettes’
* checking for file ‘GenomicDistributions/DESCRIPTION’ ... OK
* this is package ‘GenomicDistributions’ version ‘1.10.0’
* package encoding: UTF-8
* checking package namespace information ... OK
* checking package dependencies ... OK
* checking if this is a source package ... OK
* checking if there is a namespace ... OK
* checking for hidden files and directories ... OK
* checking for portable file names ... OK
* checking for sufficient/correct file permissions ... OK
* checking whether package ‘GenomicDistributions’ can be installed ... OK
* checking installed package size ... OK
* checking package directory ... OK
* checking ‘build’ directory ... OK
* checking DESCRIPTION meta-information ... OK
* checking top-level files ... OK
* checking for left-over files ... OK
* checking index information ... OK
* checking package subdirectories ... OK
* checking R files for non-ASCII characters ... OK
* checking R files for syntax errors ... OK
* checking whether the package can be loaded ... OK
* checking whether the package can be loaded with stated dependencies ... OK
* checking whether the package can be unloaded cleanly ... OK
* checking whether the namespace can be loaded with stated dependencies ... OK
* checking whether the namespace can be unloaded cleanly ... OK
* checking dependencies in R code ... OK
* checking S3 generic/method consistency ... OK
* checking replacement functions ... OK
* checking foreign function calls ... OK
* checking R code for possible problems ... OK
* checking Rd files ... OK
* checking Rd metadata ... OK
* checking Rd cross-references ... OK
* checking for missing documentation entries ... OK
* checking for code/documentation mismatches ... OK
* checking Rd \usage sections ... OK
* checking Rd contents ... OK
* checking for unstated dependencies in examples ... OK
* checking contents of ‘data’ directory ... OK
* checking data for non-ASCII characters ... OK
* checking LazyData ... OK
* checking data for ASCII and uncompressed saves ... OK
* checking files in ‘vignettes’ ... OK
* checking examples ... OK
Examples with CPU (user + system) or elapsed time > 5s
user system elapsed
getGeneModelsFromGTF 8.849 0.51 9.448
* checking for unstated dependencies in ‘tests’ ... OK
* checking tests ...
Running ‘testthat.R’
OK
* checking for unstated dependencies in vignettes ... OK
* checking package vignettes in ‘inst/doc’ ... OK
* checking running R code from vignettes ... SKIPPED
* checking re-building of vignette outputs ... SKIPPED
* checking PDF version of manual ... OK
* DONE
Status: OK
GenomicDistributions.Rcheck/00install.out
############################################################################## ############################################################################## ### ### Running command: ### ### /Library/Frameworks/R.framework/Resources/bin/R CMD INSTALL GenomicDistributions ### ############################################################################## ############################################################################## * installing to library ‘/Library/Frameworks/R.framework/Versions/4.3-x86_64/Resources/library’ * installing *source* package ‘GenomicDistributions’ ... ** using staged installation ** R ** data *** moving datasets to lazyload DB ** inst ** byte-compile and prepare package for lazy loading ** help *** installing help indices ** building package indices ** installing vignettes ** testing if installed package can be loaded from temporary location ** testing if installed package can be loaded from final location ** testing if installed package keeps a record of temporary installation path * DONE (GenomicDistributions)
GenomicDistributions.Rcheck/tests/testthat.Rout
R version 4.3.2 Patched (2023-11-01 r85457) -- "Eye Holes"
Copyright (C) 2023 The R Foundation for Statistical Computing
Platform: x86_64-apple-darwin20 (64-bit)
R is free software and comes with ABSOLUTELY NO WARRANTY.
You are welcome to redistribute it under certain conditions.
Type 'license()' or 'licence()' for distribution details.
R is a collaborative project with many contributors.
Type 'contributors()' for more information and
'citation()' on how to cite R or R packages in publications.
Type 'demo()' for some demos, 'help()' for on-line help, or
'help.start()' for an HTML browser interface to help.
Type 'q()' to quit R.
> library(testthat)
> library("GenomicDistributions")
Loading required package: IRanges
Loading required package: BiocGenerics
Attaching package: 'BiocGenerics'
The following objects are masked from 'package:stats':
IQR, mad, sd, var, xtabs
The following objects are masked from 'package:base':
Filter, Find, Map, Position, Reduce, anyDuplicated, aperm, append,
as.data.frame, basename, cbind, colnames, dirname, do.call,
duplicated, eval, evalq, get, grep, grepl, intersect, is.unsorted,
lapply, mapply, match, mget, order, paste, pmax, pmax.int, pmin,
pmin.int, rank, rbind, rownames, sapply, setdiff, sort, table,
tapply, union, unique, unsplit, which.max, which.min
Loading required package: S4Vectors
Loading required package: stats4
Attaching package: 'S4Vectors'
The following object is masked from 'package:utils':
findMatches
The following objects are masked from 'package:base':
I, expand.grid, unname
Loading required package: GenomicRanges
Loading required package: GenomeInfoDb
>
> test_check("GenomicDistributions")
[ FAIL 0 | WARN 0 | SKIP 1 | PASS 48 ]
══ Skipped tests (1) ═══════════════════════════════════════════════════════════
• empty test (1): 'test_all.R:139:1'
[ FAIL 0 | WARN 0 | SKIP 1 | PASS 48 ]
>
> proc.time()
user system elapsed
28.997 1.599 30.905
GenomicDistributions.Rcheck/GenomicDistributions-Ex.timings
| name | user | system | elapsed | |
| binBSGenome | 0.000 | 0.001 | 0.000 | |
| binChroms | 0.018 | 0.001 | 0.019 | |
| binRegion | 0.001 | 0.000 | 0.002 | |
| calcChromBins | 2.290 | 0.028 | 2.334 | |
| calcChromBinsRef | 0.019 | 0.002 | 0.021 | |
| calcChromBinsRefSlow | 0.019 | 0.003 | 0.022 | |
| calcCumulativePartitions | 2.583 | 0.131 | 2.736 | |
| calcCumulativePartitionsRef | 2.317 | 0.102 | 2.442 | |
| calcDinuclFreq | 0.001 | 0.000 | 0.000 | |
| calcDinuclFreqRef | 0.000 | 0.000 | 0.001 | |
| calcExpectedPartitions | 1.713 | 0.095 | 1.824 | |
| calcExpectedPartitionsRef | 1.615 | 0.087 | 1.715 | |
| calcFeatureDist | 0.112 | 0.017 | 0.130 | |
| calcFeatureDistRefTSS | 0.167 | 0.013 | 0.181 | |
| calcGCContent | 0 | 0 | 0 | |
| calcGCContentRef | 0 | 0 | 0 | |
| calcNearestNeighbors | 0.039 | 0.000 | 0.040 | |
| calcNeighborDist | 0.034 | 0.000 | 0.034 | |
| calcPartitions | 1.628 | 0.088 | 1.745 | |
| calcPartitionsRef | 1.871 | 0.101 | 1.991 | |
| calcSummarySignal | 0.025 | 0.002 | 0.027 | |
| calcWidth | 0.000 | 0.000 | 0.001 | |
| dot-validateInputs | 0.000 | 0.000 | 0.001 | |
| dtToGr | 0.013 | 0.000 | 0.014 | |
| genomePartitionList | 1.426 | 0.088 | 1.535 | |
| getChromSizes | 0.003 | 0.003 | 0.007 | |
| getChromSizesFromFasta | 0.022 | 0.002 | 0.024 | |
| getGeneModels | 0.074 | 0.004 | 0.079 | |
| getGeneModelsFromGTF | 8.849 | 0.510 | 9.448 | |
| getGenomeBins | 1.334 | 0.035 | 1.382 | |
| getTssFromGTF | 0.113 | 0.003 | 0.117 | |
| loadBSgenome | 0 | 0 | 0 | |
| loadEnsDb | 0 | 0 | 0 | |
| nlist | 0.001 | 0.000 | 0.000 | |
| plotChromBins | 0.063 | 0.002 | 0.067 | |
| plotCumulativePartitions | 2.995 | 0.097 | 3.125 | |
| plotDinuclFreq | 0.02 | 0.00 | 0.02 | |
| plotExpectedPartitions | 1.698 | 0.095 | 1.811 | |
| plotFeatureDist | 0.257 | 0.009 | 0.270 | |
| plotGCContent | 0.039 | 0.001 | 0.040 | |
| plotNeighborDist | 0.013 | 0.000 | 0.013 | |
| plotPartitions | 1.672 | 0.088 | 1.779 | |
| plotQTHist | 0.044 | 0.000 | 0.045 | |
| plotSummarySignal | 0.122 | 0.016 | 0.140 | |
| retrieveFile | 0.002 | 0.001 | 0.002 | |