| Back to Multiple platform build/check report for BioC 3.18: simplified long |
|
This page was generated on 2024-04-17 11:35:59 -0400 (Wed, 17 Apr 2024).
| Hostname | OS | Arch (*) | R version | Installed pkgs |
|---|---|---|---|---|
| nebbiolo2 | Linux (Ubuntu 22.04.3 LTS) | x86_64 | 4.3.3 (2024-02-29) -- "Angel Food Cake" | 4676 |
| palomino4 | Windows Server 2022 Datacenter | x64 | 4.3.3 (2024-02-29 ucrt) -- "Angel Food Cake" | 4414 |
| merida1 | macOS 12.7.1 Monterey | x86_64 | 4.3.3 (2024-02-29) -- "Angel Food Cake" | 4437 |
| Click on any hostname to see more info about the system (e.g. compilers) (*) as reported by 'uname -p', except on Windows and Mac OS X | ||||
| Package 810/2266 | Hostname | OS / Arch | INSTALL | BUILD | CHECK | BUILD BIN | ||||||||
| GeneTonic 2.6.0 (landing page) Federico Marini
| nebbiolo2 | Linux (Ubuntu 22.04.3 LTS) / x86_64 | OK | OK | OK | |||||||||
| palomino4 | Windows Server 2022 Datacenter / x64 | OK | OK | OK | OK | |||||||||
| merida1 | macOS 12.7.1 Monterey / x86_64 | OK | OK | ERROR | OK | |||||||||
| kjohnson1 | macOS 13.6.1 Ventura / arm64 | see weekly results here | ||||||||||||
|
To the developers/maintainers of the GeneTonic package: - Allow up to 24 hours (and sometimes 48 hours) for your latest push to git@git.bioconductor.org:packages/GeneTonic.git to reflect on this report. See Troubleshooting Build Report for more information. - Use the following Renviron settings to reproduce errors and warnings. - If 'R CMD check' started to fail recently on the Linux builder(s) over a missing dependency, add the missing dependency to 'Suggests:' in your DESCRIPTION file. See Renviron.bioc for more information. |
| Package: GeneTonic |
| Version: 2.6.0 |
| Command: /home/biocbuild/bbs-3.18-bioc/R/bin/R CMD check --install=check:GeneTonic.install-out.txt --library=/home/biocbuild/bbs-3.18-bioc/R/site-library --timings GeneTonic_2.6.0.tar.gz |
| StartedAt: 2024-04-15 23:05:00 -0400 (Mon, 15 Apr 2024) |
| EndedAt: 2024-04-15 23:15:35 -0400 (Mon, 15 Apr 2024) |
| EllapsedTime: 635.3 seconds |
| RetCode: 0 |
| Status: OK |
| CheckDir: GeneTonic.Rcheck |
| Warnings: 0 |
##############################################################################
##############################################################################
###
### Running command:
###
### /home/biocbuild/bbs-3.18-bioc/R/bin/R CMD check --install=check:GeneTonic.install-out.txt --library=/home/biocbuild/bbs-3.18-bioc/R/site-library --timings GeneTonic_2.6.0.tar.gz
###
##############################################################################
##############################################################################
* using log directory ‘/home/biocbuild/bbs-3.18-bioc/meat/GeneTonic.Rcheck’
* using R version 4.3.3 (2024-02-29)
* using platform: x86_64-pc-linux-gnu (64-bit)
* R was compiled by
gcc (Ubuntu 11.4.0-1ubuntu1~22.04) 11.4.0
GNU Fortran (Ubuntu 11.4.0-1ubuntu1~22.04) 11.4.0
* running under: Ubuntu 22.04.4 LTS
* using session charset: UTF-8
* checking for file ‘GeneTonic/DESCRIPTION’ ... OK
* this is package ‘GeneTonic’ version ‘2.6.0’
* package encoding: UTF-8
* checking package namespace information ... OK
* checking package dependencies ... OK
* checking if this is a source package ... OK
* checking if there is a namespace ... OK
* checking for hidden files and directories ... OK
* checking for portable file names ... OK
* checking for sufficient/correct file permissions ... OK
* checking whether package ‘GeneTonic’ can be installed ... OK
* checking installed package size ... OK
* checking package directory ... OK
* checking ‘build’ directory ... OK
* checking DESCRIPTION meta-information ... OK
* checking top-level files ... OK
* checking for left-over files ... OK
* checking index information ... OK
* checking package subdirectories ... OK
* checking R files for non-ASCII characters ... OK
* checking R files for syntax errors ... OK
* checking whether the package can be loaded ... OK
* checking whether the package can be loaded with stated dependencies ... OK
* checking whether the package can be unloaded cleanly ... OK
* checking whether the namespace can be loaded with stated dependencies ... OK
* checking whether the namespace can be unloaded cleanly ... OK
* checking loading without being on the library search path ... OK
* checking startup messages can be suppressed ... OK
* checking dependencies in R code ... OK
* checking S3 generic/method consistency ... OK
* checking replacement functions ... OK
* checking foreign function calls ... OK
* checking R code for possible problems ... OK
* checking Rd files ... OK
* checking Rd metadata ... OK
* checking Rd cross-references ... OK
* checking for missing documentation entries ... OK
* checking for code/documentation mismatches ... OK
* checking Rd \usage sections ... OK
* checking Rd contents ... OK
* checking for unstated dependencies in examples ... OK
* checking contents of ‘data’ directory ... OK
* checking data for non-ASCII characters ... OK
* checking data for ASCII and uncompressed saves ... OK
* checking files in ‘vignettes’ ... OK
* checking examples ... OK
Examples with CPU (user + system) or elapsed time > 5s
user system elapsed
gs_mds 7.155 0.076 7.230
GeneTonic 6.101 0.264 6.365
summarize_ggs_hubgenes 5.848 0.120 5.967
ggs_backbone 5.698 0.100 5.798
ggs_graph 5.545 0.188 5.732
gs_heatmap 5.581 0.112 5.693
gs_upset 5.505 0.056 5.562
gs_scores 5.162 0.104 5.266
* checking for unstated dependencies in ‘tests’ ... OK
* checking tests ...
Running ‘testthat.R’
OK
* checking for unstated dependencies in vignettes ... OK
* checking package vignettes in ‘inst/doc’ ... OK
* checking running R code from vignettes ...
‘GeneTonic_manual.Rmd’ using ‘UTF-8’... OK
OK
* checking re-building of vignette outputs ... OK
* checking PDF version of manual ... OK
* DONE
Status: OK
GeneTonic.Rcheck/00install.out
############################################################################## ############################################################################## ### ### Running command: ### ### /home/biocbuild/bbs-3.18-bioc/R/bin/R CMD INSTALL GeneTonic ### ############################################################################## ############################################################################## * installing to library ‘/home/biocbuild/bbs-3.18-bioc/R/site-library’ * installing *source* package ‘GeneTonic’ ... ** using staged installation ** R ** data ** inst ** byte-compile and prepare package for lazy loading ** help *** installing help indices *** copying figures ** building package indices ** installing vignettes ** testing if installed package can be loaded from temporary location ** testing if installed package can be loaded from final location ** testing if installed package keeps a record of temporary installation path * DONE (GeneTonic)
GeneTonic.Rcheck/tests/testthat.Rout
R version 4.3.3 (2024-02-29) -- "Angel Food Cake"
Copyright (C) 2024 The R Foundation for Statistical Computing
Platform: x86_64-pc-linux-gnu (64-bit)
R is free software and comes with ABSOLUTELY NO WARRANTY.
You are welcome to redistribute it under certain conditions.
Type 'license()' or 'licence()' for distribution details.
R is a collaborative project with many contributors.
Type 'contributors()' for more information and
'citation()' on how to cite R or R packages in publications.
Type 'demo()' for some demos, 'help()' for on-line help, or
'help.start()' for an HTML browser interface to help.
Type 'q()' to quit R.
> library(testthat)
> library(GeneTonic)
>
> test_check("GeneTonic")
--- Loading packages...
- Done!
--- Generating objects for the testing setup...
using counts and average transcript lengths from tximeta
'select()' returned 1:many mapping between keys and columns
estimating size factors
using 'avgTxLength' from assays(dds), correcting for library size
estimating dispersions
gene-wise dispersion estimates
mean-dispersion relationship
final dispersion estimates
fitting model and testing
- Done!
--- Running enrichGO...
--- Running gseGO...
preparing geneSet collections...
GSEA analysis...
leading edge analysis...
done...
Found 500 gene sets in `topGOtableResult` object.
Converting for usage in GeneTonic...
- Done!
---------------------------------
----- GeneTonicList object ------
---------------------------------
----- dds object -----
Providing an expression object (as DESeqDataset) of 17806 features over 24 samples
----- res_de object -----
Providing a DE result object (as DESeqResults), 17806 features tested, 928 found as DE
Upregulated: 599
Downregulated: 329
----- res_enrich object -----
Providing an enrichment result object, 200 reported
----- annotation_obj object -----
Providing an annotation object of 58294 features with information on 2 identifier types
--- Test setup script completed!
|
| | 0%
|
| | 1%
|
|= | 1%
|
|= | 2%
|
|== | 2%
|
|== | 3%
|
|== | 4%
|
|=== | 4%
|
|=== | 5%
|
|==== | 5%
|
|==== | 6%
|
|===== | 6%
|
|===== | 7%
|
|===== | 8%
|
|====== | 8%
|
|====== | 9%
|
|======= | 9%
|
|======= | 10%
|
|======= | 11%
|
|======== | 11%
|
|======== | 12%
|
|========= | 12%
|
|========= | 13%
|
|========= | 14%
|
|========== | 14%
|
|========== | 15%
|
|=========== | 15%
|
|=========== | 16%
|
|============ | 16%
|
|============ | 17%
|
|============ | 18%
|
|============= | 18%
|
|============= | 19%
|
|============== | 19%
|
|============== | 20%
|
|============== | 21%
|
|=============== | 21%
|
|=============== | 22%
|
|================ | 22%
|
|================ | 23%
|
|================ | 24%
|
|================= | 24%
|
|================= | 25%
|
|================== | 25%
|
|================== | 26%
|
|=================== | 26%
|
|=================== | 27%
|
|=================== | 28%
|
|==================== | 28%
|
|==================== | 29%
|
|===================== | 29%
|
|===================== | 30%
|
|===================== | 31%
|
|====================== | 31%
|
|====================== | 32%
|
|======================= | 32%
|
|======================= | 33%
|
|======================= | 34%
|
|======================== | 34%
|
|======================== | 35%
|
|========================= | 35%
|
|========================= | 36%
|
|========================== | 36%
|
|========================== | 37%
|
|========================== | 38%
|
|=========================== | 38%
|
|=========================== | 39%
|
|============================ | 39%
|
|============================ | 40%
|
|============================ | 41%
|
|============================= | 41%
|
|============================= | 42%
|
|============================== | 42%
|
|============================== | 43%
|
|============================== | 44%
|
|=============================== | 44%
|
|=============================== | 45%
|
|================================ | 45%
|
|================================ | 46%
|
|================================= | 46%
|
|================================= | 47%
|
|================================= | 48%
|
|================================== | 48%
|
|================================== | 49%
|
|=================================== | 49%
|
|=================================== | 50%
|
|=================================== | 51%
|
|==================================== | 51%
|
|==================================== | 52%
|
|===================================== | 52%
|
|===================================== | 53%
|
|===================================== | 54%
|
|====================================== | 54%
|
|====================================== | 55%
|
|======================================= | 55%
|
|======================================= | 56%
|
|======================================== | 56%
|
|======================================== | 57%
|
|======================================== | 58%
|
|========================================= | 58%
|
|========================================= | 59%
|
|========================================== | 59%
|
|========================================== | 60%
|
|========================================== | 61%
|
|=========================================== | 61%
|
|=========================================== | 62%
|
|============================================ | 62%
|
|============================================ | 63%
|
|============================================ | 64%
|
|============================================= | 64%
|
|============================================= | 65%
|
|============================================== | 65%
|
|============================================== | 66%
|
|=============================================== | 66%
|
|=============================================== | 67%
|
|=============================================== | 68%
|
|================================================ | 68%
|
|================================================ | 69%
|
|================================================= | 69%
|
|================================================= | 70%
|
|================================================= | 71%
|
|================================================== | 71%
|
|================================================== | 72%
|
|=================================================== | 72%
|
|=================================================== | 73%
|
|=================================================== | 74%
|
|==================================================== | 74%
|
|==================================================== | 75%
|
|===================================================== | 75%
|
|===================================================== | 76%
|
|====================================================== | 76%
|
|====================================================== | 77%
|
|====================================================== | 78%
|
|======================================================= | 78%
|
|======================================================= | 79%
|
|======================================================== | 79%
|
|======================================================== | 80%
|
|======================================================== | 81%
|
|========================================================= | 81%
|
|========================================================= | 82%
|
|========================================================== | 82%
|
|========================================================== | 83%
|
|========================================================== | 84%
|
|=========================================================== | 84%
|
|=========================================================== | 85%
|
|============================================================ | 85%
|
|============================================================ | 86%
|
|============================================================= | 86%
|
|============================================================= | 87%
|
|============================================================= | 88%
|
|============================================================== | 88%
|
|============================================================== | 89%
|
|=============================================================== | 89%
|
|=============================================================== | 90%
|
|=============================================================== | 91%
|
|================================================================ | 91%
|
|================================================================ | 92%
|
|================================================================= | 92%
|
|================================================================= | 93%
|
|================================================================= | 94%
|
|================================================================== | 94%
|
|================================================================== | 95%
|
|=================================================================== | 95%
|
|=================================================================== | 96%
|
|==================================================================== | 96%
|
|==================================================================== | 97%
|
|==================================================================== | 98%
|
|===================================================================== | 98%
|
|===================================================================== | 99%
|
|======================================================================| 99%
|
|======================================================================| 100%
[ FAIL 0 | WARN 10 | SKIP 0 | PASS 264 ]
[ FAIL 0 | WARN 10 | SKIP 0 | PASS 264 ]
>
> proc.time()
user system elapsed
185.494 9.409 163.071
GeneTonic.Rcheck/GeneTonic-Ex.timings
| name | user | system | elapsed | |
| GeneTonic | 6.101 | 0.264 | 6.365 | |
| GeneTonicList | 3.541 | 0.128 | 3.669 | |
| check_colors | 0.008 | 0.000 | 0.008 | |
| checkup_GeneTonic | 3.409 | 0.172 | 3.582 | |
| checkup_gtl | 3.474 | 0.088 | 3.563 | |
| cluster_markov | 0.117 | 0.000 | 0.117 | |
| create_jaccard_matrix | 0.775 | 0.008 | 0.783 | |
| create_kappa_matrix | 3.270 | 0.048 | 3.317 | |
| create_upsetdata | 0.028 | 0.012 | 0.040 | |
| deseqresult2df | 0.134 | 0.008 | 0.143 | |
| distill_enrichment | 3.944 | 0.204 | 4.147 | |
| enhance_table | 3.86 | 0.06 | 3.92 | |
| enrichment_map | 3.587 | 0.059 | 3.645 | |
| export_for_iSEE | 3.728 | 0.120 | 3.848 | |
| export_to_sif | 0.021 | 0.000 | 0.021 | |
| gene_plot | 4.001 | 0.104 | 4.105 | |
| geneinfo_2_html | 0.007 | 0.000 | 0.007 | |
| get_aggrscores | 3.598 | 0.096 | 3.694 | |
| get_expression_values | 2.949 | 0.092 | 3.041 | |
| ggs_backbone | 5.698 | 0.100 | 5.798 | |
| ggs_graph | 5.545 | 0.188 | 5.732 | |
| go_2_html | 0.02 | 0.00 | 0.02 | |
| gs_alluvial | 2.923 | 0.080 | 3.003 | |
| gs_dendro | 4.685 | 0.096 | 4.782 | |
| gs_fuzzyclustering | 0.854 | 0.000 | 0.854 | |
| gs_heatmap | 5.581 | 0.112 | 5.693 | |
| gs_horizon | 3.945 | 0.136 | 4.082 | |
| gs_mds | 7.155 | 0.076 | 7.230 | |
| gs_radar | 3.060 | 0.060 | 3.121 | |
| gs_scores | 5.162 | 0.104 | 5.266 | |
| gs_scoresheat | 4.125 | 0.036 | 4.160 | |
| gs_simplify | 1.014 | 0.008 | 1.022 | |
| gs_summary_heat | 3.660 | 0.044 | 3.704 | |
| gs_summary_overview | 3.278 | 0.080 | 3.357 | |
| gs_summary_overview_pair | 3.729 | 0.100 | 3.829 | |
| gs_upset | 5.505 | 0.056 | 5.562 | |
| gs_volcano | 4.021 | 0.032 | 4.053 | |
| happy_hour | 3.524 | 0.040 | 3.564 | |
| map2color | 0.012 | 0.000 | 0.012 | |
| overlap_coefficient | 0.001 | 0.001 | 0.001 | |
| overlap_jaccard_index | 0 | 0 | 0 | |
| shake_davidResult | 0.005 | 0.002 | 0.009 | |
| shake_enrichResult | 1.671 | 0.024 | 1.695 | |
| shake_enrichrResult | 0.047 | 0.000 | 0.048 | |
| shake_fgseaResult | 0.123 | 0.000 | 0.123 | |
| shake_gprofilerResult | 0.160 | 0.000 | 0.161 | |
| shake_gsenrichResult | 1.595 | 0.052 | 1.648 | |
| shake_topGOtableResult | 0.006 | 0.000 | 0.006 | |
| signature_volcano | 4.835 | 0.052 | 4.888 | |
| styleColorBar_divergent | 0.186 | 0.004 | 0.191 | |
| summarize_ggs_hubgenes | 5.848 | 0.120 | 5.967 | |