| Back to Multiple platform build/check report for BioC 3.18: simplified long |
|
This page was generated on 2024-03-04 11:37:22 -0500 (Mon, 04 Mar 2024).
| Hostname | OS | Arch (*) | R version | Installed pkgs |
|---|---|---|---|---|
| nebbiolo2 | Linux (Ubuntu 22.04.3 LTS) | x86_64 | 4.3.2 Patched (2023-11-13 r85521) -- "Eye Holes" | 4692 |
| palomino4 | Windows Server 2022 Datacenter | x64 | 4.3.2 (2023-10-31 ucrt) -- "Eye Holes" | 4445 |
| lconway | macOS 12.7.1 Monterey | x86_64 | 4.3.2 Patched (2023-11-01 r85457) -- "Eye Holes" | 4466 |
| Click on any hostname to see more info about the system (e.g. compilers) (*) as reported by 'uname -p', except on Windows and Mac OS X | ||||
| Package 807/2266 | Hostname | OS / Arch | INSTALL | BUILD | CHECK | BUILD BIN | ||||||||
| GeneStructureTools 1.22.0 (landing page) Beth Signal
| nebbiolo2 | Linux (Ubuntu 22.04.3 LTS) / x86_64 | OK | OK | OK | |||||||||
| palomino4 | Windows Server 2022 Datacenter / x64 | OK | OK | OK | OK | |||||||||
| lconway | macOS 12.7.1 Monterey / x86_64 | OK | OK | OK | OK | |||||||||
| kjohnson1 | macOS 13.6.1 Ventura / arm64 | see weekly results here | ||||||||||||
|
To the developers/maintainers of the GeneStructureTools package: - Allow up to 24 hours (and sometimes 48 hours) for your latest push to git@git.bioconductor.org:packages/GeneStructureTools.git to reflect on this report. See Troubleshooting Build Report for more information. - Use the following Renviron settings to reproduce errors and warnings. - If 'R CMD check' started to fail recently on the Linux builder(s) over a missing dependency, add the missing dependency to 'Suggests:' in your DESCRIPTION file. See Renviron.bioc for more information. |
| Package: GeneStructureTools |
| Version: 1.22.0 |
| Command: /Library/Frameworks/R.framework/Resources/bin/R CMD check --install=check:GeneStructureTools.install-out.txt --library=/Library/Frameworks/R.framework/Resources/library --no-vignettes --timings GeneStructureTools_1.22.0.tar.gz |
| StartedAt: 2024-03-03 20:47:49 -0500 (Sun, 03 Mar 2024) |
| EndedAt: 2024-03-03 20:55:34 -0500 (Sun, 03 Mar 2024) |
| EllapsedTime: 464.7 seconds |
| RetCode: 0 |
| Status: OK |
| CheckDir: GeneStructureTools.Rcheck |
| Warnings: 0 |
##############################################################################
##############################################################################
###
### Running command:
###
### /Library/Frameworks/R.framework/Resources/bin/R CMD check --install=check:GeneStructureTools.install-out.txt --library=/Library/Frameworks/R.framework/Resources/library --no-vignettes --timings GeneStructureTools_1.22.0.tar.gz
###
##############################################################################
##############################################################################
* using log directory ‘/Users/biocbuild/bbs-3.18-bioc/meat/GeneStructureTools.Rcheck’
* using R version 4.3.2 Patched (2023-11-01 r85457)
* using platform: x86_64-apple-darwin20 (64-bit)
* R was compiled by
Apple clang version 14.0.3 (clang-1403.0.22.14.1)
GNU Fortran (GCC) 12.2.0
* running under: macOS Monterey 12.7.1
* using session charset: UTF-8
* using option ‘--no-vignettes’
* checking for file ‘GeneStructureTools/DESCRIPTION’ ... OK
* checking extension type ... Package
* this is package ‘GeneStructureTools’ version ‘1.22.0’
* package encoding: UTF-8
* checking package namespace information ... OK
* checking package dependencies ... OK
* checking if this is a source package ... OK
* checking if there is a namespace ... OK
* checking for hidden files and directories ... OK
* checking for portable file names ... OK
* checking for sufficient/correct file permissions ... OK
* checking whether package ‘GeneStructureTools’ can be installed ... OK
* checking installed package size ... OK
* checking package directory ... OK
* checking ‘build’ directory ... OK
* checking DESCRIPTION meta-information ... OK
* checking top-level files ... OK
* checking for left-over files ... OK
* checking index information ... OK
* checking package subdirectories ... OK
* checking R files for non-ASCII characters ... OK
* checking R files for syntax errors ... OK
* checking whether the package can be loaded ... OK
* checking whether the package can be loaded with stated dependencies ... OK
* checking whether the package can be unloaded cleanly ... OK
* checking whether the namespace can be loaded with stated dependencies ... OK
* checking whether the namespace can be unloaded cleanly ... OK
* checking dependencies in R code ... OK
* checking S3 generic/method consistency ... OK
* checking replacement functions ... OK
* checking foreign function calls ... OK
* checking R code for possible problems ... OK
* checking Rd files ... OK
* checking Rd metadata ... OK
* checking Rd cross-references ... OK
* checking for missing documentation entries ... OK
* checking for code/documentation mismatches ... OK
* checking Rd \usage sections ... OK
* checking Rd contents ... OK
* checking for unstated dependencies in examples ... OK
* checking files in ‘vignettes’ ... OK
* checking examples ... OK
Examples with CPU (user + system) or elapsed time > 5s
user system elapsed
leafcutterTranscriptChangeSummary 28.401 1.346 30.046
whippetTranscriptChangeSummary 15.301 0.351 15.938
* checking for unstated dependencies in vignettes ... OK
* checking package vignettes in ‘inst/doc’ ... OK
* checking running R code from vignettes ... SKIPPED
* checking re-building of vignette outputs ... SKIPPED
* checking PDF version of manual ... OK
* DONE
Status: OK
GeneStructureTools.Rcheck/00install.out
############################################################################## ############################################################################## ### ### Running command: ### ### /Library/Frameworks/R.framework/Resources/bin/R CMD INSTALL GeneStructureTools ### ############################################################################## ############################################################################## * installing to library ‘/Library/Frameworks/R.framework/Versions/4.3-x86_64/Resources/library’ * installing *source* package ‘GeneStructureTools’ ... ** using staged installation ** R ** inst ** byte-compile and prepare package for lazy loading ** help *** installing help indices ** building package indices ** installing vignettes ** testing if installed package can be loaded from temporary location ** testing if installed package can be loaded from final location ** testing if installed package keeps a record of temporary installation path * DONE (GeneStructureTools)
GeneStructureTools.Rcheck/GeneStructureTools-Ex.timings
| name | user | system | elapsed | |
| DEXSeqIdsToGeneIds | 0.003 | 0.000 | 0.003 | |
| UTR2UTR53 | 3.669 | 0.129 | 3.818 | |
| addBroadTypes | 0.206 | 0.007 | 0.214 | |
| addIntronInTranscript | 2.083 | 0.122 | 2.327 | |
| alternativeIntronUsage | 4.795 | 0.048 | 4.877 | |
| annotateGeneModel | 0.827 | 0.012 | 0.843 | |
| attrChangeAltSpliced | 1.238 | 0.104 | 1.452 | |
| coordinates-methods | 0.078 | 0.083 | 0.271 | |
| diffSplicingResults-methods | 0.081 | 0.081 | 0.258 | |
| exonsToTranscripts | 0.295 | 0.010 | 0.307 | |
| filterGtfOverlap | 0.309 | 0.012 | 0.325 | |
| filterWhippetEvents | 0.085 | 0.084 | 0.268 | |
| findDEXexonType | 2.714 | 0.031 | 2.764 | |
| findExonContainingTranscripts | 0.522 | 0.090 | 0.725 | |
| findIntronContainingTranscripts | 0.778 | 0.092 | 0.991 | |
| findJunctionPairs | 1.604 | 0.100 | 1.819 | |
| formatWhippetEvents | 0.019 | 0.009 | 0.039 | |
| getOrfs | 0.840 | 0.023 | 0.870 | |
| getUOrfs | 0.638 | 0.017 | 0.660 | |
| junctions-methods | 0.085 | 0.094 | 0.287 | |
| leafcutterTranscriptChangeSummary | 28.401 | 1.346 | 30.046 | |
| makeGeneModel | 0.205 | 0.008 | 0.216 | |
| maxLocation | 0.003 | 0.001 | 0.004 | |
| orfDiff | 1.997 | 0.150 | 2.317 | |
| orfSimilarity | 0.001 | 0.001 | 0.002 | |
| overlapTypes | 2.581 | 0.028 | 2.627 | |
| readCounts-methods | 0.081 | 0.092 | 0.303 | |
| readWhippetDIFFfiles | 0.008 | 0.009 | 0.031 | |
| readWhippetDataSet | 0.077 | 0.089 | 0.290 | |
| readWhippetJNCfiles | 0.040 | 0.036 | 0.133 | |
| readWhippetPSIfiles | 0.021 | 0.041 | 0.117 | |
| removeDuplicateTranscripts | 0.312 | 0.010 | 0.326 | |
| removeSameExon | 0.265 | 0.007 | 0.276 | |
| removeVersion | 0.000 | 0.000 | 0.001 | |
| reorderExonNumbers | 0.208 | 0.008 | 0.220 | |
| replaceJunction | 4.256 | 0.123 | 4.535 | |
| skipExonInTranscript | 1.552 | 0.098 | 1.777 | |
| summariseExonTypes | 2.895 | 0.031 | 2.948 | |
| transcriptChangeSummary | 1.653 | 0.107 | 1.912 | |
| whippetTranscriptChangeSummary | 15.301 | 0.351 | 15.938 | |