| Back to Multiple platform build/check report for BioC 3.18: simplified long |
|
This page was generated on 2024-04-17 11:36:00 -0400 (Wed, 17 Apr 2024).
| Hostname | OS | Arch (*) | R version | Installed pkgs |
|---|---|---|---|---|
| nebbiolo2 | Linux (Ubuntu 22.04.3 LTS) | x86_64 | 4.3.3 (2024-02-29) -- "Angel Food Cake" | 4676 |
| palomino4 | Windows Server 2022 Datacenter | x64 | 4.3.3 (2024-02-29 ucrt) -- "Angel Food Cake" | 4414 |
| merida1 | macOS 12.7.1 Monterey | x86_64 | 4.3.3 (2024-02-29) -- "Angel Food Cake" | 4437 |
| Click on any hostname to see more info about the system (e.g. compilers) (*) as reported by 'uname -p', except on Windows and Mac OS X | ||||
| Package 894/2266 | Hostname | OS / Arch | INSTALL | BUILD | CHECK | BUILD BIN | ||||||||
| GRaNIE 1.6.1 (landing page) Christian Arnold
| nebbiolo2 | Linux (Ubuntu 22.04.3 LTS) / x86_64 | OK | OK | OK | |||||||||
| palomino4 | Windows Server 2022 Datacenter / x64 | OK | OK | ERROR | OK | |||||||||
| merida1 | macOS 12.7.1 Monterey / x86_64 | OK | OK | OK | OK | |||||||||
| kjohnson1 | macOS 13.6.1 Ventura / arm64 | see weekly results here | ||||||||||||
|
To the developers/maintainers of the GRaNIE package: - Allow up to 24 hours (and sometimes 48 hours) for your latest push to git@git.bioconductor.org:packages/GRaNIE.git to reflect on this report. See Troubleshooting Build Report for more information. - Use the following Renviron settings to reproduce errors and warnings. - If 'R CMD check' started to fail recently on the Linux builder(s) over a missing dependency, add the missing dependency to 'Suggests:' in your DESCRIPTION file. See Renviron.bioc for more information. |
| Package: GRaNIE |
| Version: 1.6.1 |
| Command: /home/biocbuild/bbs-3.18-bioc/R/bin/R CMD check --install=check:GRaNIE.install-out.txt --library=/home/biocbuild/bbs-3.18-bioc/R/site-library --timings GRaNIE_1.6.1.tar.gz |
| StartedAt: 2024-04-15 23:28:46 -0400 (Mon, 15 Apr 2024) |
| EndedAt: 2024-04-15 23:40:48 -0400 (Mon, 15 Apr 2024) |
| EllapsedTime: 722.9 seconds |
| RetCode: 0 |
| Status: OK |
| CheckDir: GRaNIE.Rcheck |
| Warnings: 0 |
##############################################################################
##############################################################################
###
### Running command:
###
### /home/biocbuild/bbs-3.18-bioc/R/bin/R CMD check --install=check:GRaNIE.install-out.txt --library=/home/biocbuild/bbs-3.18-bioc/R/site-library --timings GRaNIE_1.6.1.tar.gz
###
##############################################################################
##############################################################################
* using log directory ‘/home/biocbuild/bbs-3.18-bioc/meat/GRaNIE.Rcheck’
* using R version 4.3.3 (2024-02-29)
* using platform: x86_64-pc-linux-gnu (64-bit)
* R was compiled by
gcc (Ubuntu 11.4.0-1ubuntu1~22.04) 11.4.0
GNU Fortran (Ubuntu 11.4.0-1ubuntu1~22.04) 11.4.0
* running under: Ubuntu 22.04.4 LTS
* using session charset: UTF-8
* checking for file ‘GRaNIE/DESCRIPTION’ ... OK
* this is package ‘GRaNIE’ version ‘1.6.1’
* package encoding: UTF-8
* checking package namespace information ... OK
* checking package dependencies ... OK
* checking if this is a source package ... OK
* checking if there is a namespace ... OK
* checking for hidden files and directories ... OK
* checking for portable file names ... OK
* checking for sufficient/correct file permissions ... OK
* checking whether package ‘GRaNIE’ can be installed ... OK
* checking installed package size ... OK
* checking package directory ... OK
* checking ‘build’ directory ... OK
* checking DESCRIPTION meta-information ... OK
* checking top-level files ... OK
* checking for left-over files ... OK
* checking index information ... OK
* checking package subdirectories ... OK
* checking R files for non-ASCII characters ... OK
* checking R files for syntax errors ... OK
* checking whether the package can be loaded ... OK
* checking whether the package can be loaded with stated dependencies ... OK
* checking whether the package can be unloaded cleanly ... OK
* checking whether the namespace can be loaded with stated dependencies ... OK
* checking whether the namespace can be unloaded cleanly ... OK
* checking loading without being on the library search path ... OK
* checking startup messages can be suppressed ... OK
* checking dependencies in R code ... OK
* checking S3 generic/method consistency ... OK
* checking replacement functions ... OK
* checking foreign function calls ... OK
* checking R code for possible problems ... NOTE
.performIHW: no visible binding for global variable 'adj_pvalue'
Undefined global functions or variables:
adj_pvalue
* checking Rd files ... OK
* checking Rd metadata ... OK
* checking Rd cross-references ... OK
* checking for missing documentation entries ... OK
* checking for code/documentation mismatches ... OK
* checking Rd \usage sections ... OK
* checking Rd contents ... OK
* checking for unstated dependencies in examples ... OK
* checking files in ‘vignettes’ ... OK
* checking examples ... OK
Examples with CPU (user + system) or elapsed time > 5s
user system elapsed
plotPCA_all 7.793 0.364 8.989
generateStatsSummary 6.669 0.148 7.273
visualizeGRN 6.019 0.096 6.871
plotDiagnosticPlots_peakGene 5.922 0.175 7.839
addSNPData 5.142 0.528 8.791
plotCommunitiesStats 5.304 0.108 7.147
plotGeneralGraphStats 5.044 0.048 5.788
plotDiagnosticPlots_TFPeaks 4.929 0.108 6.792
calculateCommunitiesStats 4.151 0.300 5.325
plotGeneralEnrichment 4.031 0.024 5.356
plotTFEnrichment 4.011 0.040 5.403
plot_stats_connectionSummary 3.622 0.076 5.743
* checking for unstated dependencies in vignettes ... OK
* checking package vignettes in ‘inst/doc’ ... OK
* checking running R code from vignettes ...
‘GRaNIE_packageDetails.Rmd’ using ‘UTF-8’... OK
‘GRaNIE_singleCell_eGRNs.Rmd’ using ‘UTF-8’... OK
‘GRaNIE_workflow.Rmd’ using ‘UTF-8’... OK
OK
* checking re-building of vignette outputs ... OK
* checking PDF version of manual ... OK
* DONE
Status: 1 NOTE
See
‘/home/biocbuild/bbs-3.18-bioc/meat/GRaNIE.Rcheck/00check.log’
for details.
GRaNIE.Rcheck/00install.out
############################################################################## ############################################################################## ### ### Running command: ### ### /home/biocbuild/bbs-3.18-bioc/R/bin/R CMD INSTALL GRaNIE ### ############################################################################## ############################################################################## * installing to library ‘/home/biocbuild/bbs-3.18-bioc/R/site-library’ * installing *source* package ‘GRaNIE’ ... ** using staged installation ** R ** byte-compile and prepare package for lazy loading ** help *** installing help indices ** building package indices ** installing vignettes ** testing if installed package can be loaded from temporary location ** testing if installed package can be loaded from final location ** testing if installed package keeps a record of temporary installation path * DONE (GRaNIE)
GRaNIE.Rcheck/GRaNIE-Ex.timings
| name | user | system | elapsed | |
| AR_classification_wrapper | 0.001 | 0.001 | 0.000 | |
| addConnections_TF_peak | 2.925 | 0.280 | 4.316 | |
| addConnections_peak_gene | 2.490 | 0.244 | 3.211 | |
| addData | 0.000 | 0.000 | 0.001 | |
| addSNPData | 5.142 | 0.528 | 8.791 | |
| addTFBS | 0 | 0 | 0 | |
| add_TF_gene_correlation | 1.610 | 0.044 | 2.125 | |
| add_featureVariation | 0 | 0 | 0 | |
| build_eGRN_graph | 2.913 | 0.140 | 3.525 | |
| calculateCommunitiesEnrichment | 2.643 | 0.116 | 3.199 | |
| calculateCommunitiesStats | 4.151 | 0.300 | 5.325 | |
| calculateGeneralEnrichment | 1.910 | 0.036 | 2.391 | |
| calculateTFEnrichment | 3.021 | 0.147 | 4.566 | |
| changeOutputDirectory | 1.546 | 0.015 | 2.039 | |
| deleteIntermediateData | 2.416 | 0.116 | 3.331 | |
| filterConnectionsForPlotting | 2.173 | 0.051 | 2.899 | |
| filterData | 3.099 | 0.136 | 3.697 | |
| filterGRNAndConnectGenes | 1.559 | 0.024 | 2.053 | |
| generateStatsSummary | 6.669 | 0.148 | 7.273 | |
| getCounts | 1.698 | 0.044 | 2.231 | |
| getGRNConnections | 1.629 | 0.045 | 2.111 | |
| getGRNSummary | 3.173 | 0.160 | 3.778 | |
| getParameters | 1.768 | 0.020 | 2.284 | |
| getTopNodes | 1.706 | 0.035 | 2.203 | |
| initializeGRN | 0.012 | 0.008 | 0.020 | |
| loadExampleObject | 1.688 | 0.048 | 2.206 | |
| nGenes | 1.652 | 0.024 | 2.125 | |
| nPeaks | 2.578 | 0.152 | 3.170 | |
| nTFs | 1.575 | 0.040 | 2.091 | |
| overlapPeaksAndTFBS | 1.709 | 0.024 | 2.165 | |
| performAllNetworkAnalyses | 0 | 0 | 0 | |
| plotCommunitiesEnrichment | 3.216 | 0.076 | 3.752 | |
| plotCommunitiesStats | 5.304 | 0.108 | 7.147 | |
| plotCorrelations | 3.869 | 0.124 | 4.774 | |
| plotDiagnosticPlots_TFPeaks | 4.929 | 0.108 | 6.792 | |
| plotDiagnosticPlots_peakGene | 5.922 | 0.175 | 7.839 | |
| plotGeneralEnrichment | 4.031 | 0.024 | 5.356 | |
| plotGeneralGraphStats | 5.044 | 0.048 | 5.788 | |
| plotPCA_all | 7.793 | 0.364 | 8.989 | |
| plotTFEnrichment | 4.011 | 0.040 | 5.403 | |
| plot_stats_connectionSummary | 3.622 | 0.076 | 5.743 | |
| visualizeGRN | 6.019 | 0.096 | 6.871 | |