| Back to Multiple platform build/check report for BioC 3.18: simplified long |
|
This page was generated on 2024-04-17 11:37:44 -0400 (Wed, 17 Apr 2024).
| Hostname | OS | Arch (*) | R version | Installed pkgs |
|---|---|---|---|---|
| nebbiolo2 | Linux (Ubuntu 22.04.3 LTS) | x86_64 | 4.3.3 (2024-02-29) -- "Angel Food Cake" | 4676 |
| palomino4 | Windows Server 2022 Datacenter | x64 | 4.3.3 (2024-02-29 ucrt) -- "Angel Food Cake" | 4414 |
| merida1 | macOS 12.7.1 Monterey | x86_64 | 4.3.3 (2024-02-29) -- "Angel Food Cake" | 4437 |
| Click on any hostname to see more info about the system (e.g. compilers) (*) as reported by 'uname -p', except on Windows and Mac OS X | ||||
| Package 738/2266 | Hostname | OS / Arch | INSTALL | BUILD | CHECK | BUILD BIN | ||||||||
| FlowSOM 2.10.0 (landing page) Sofie Van Gassen
| nebbiolo2 | Linux (Ubuntu 22.04.3 LTS) / x86_64 | OK | OK | OK | |||||||||
| palomino4 | Windows Server 2022 Datacenter / x64 | OK | OK | OK | OK | |||||||||
| merida1 | macOS 12.7.1 Monterey / x86_64 | OK | OK | OK | OK | |||||||||
| kjohnson1 | macOS 13.6.1 Ventura / arm64 | see weekly results here | ||||||||||||
|
To the developers/maintainers of the FlowSOM package: - Allow up to 24 hours (and sometimes 48 hours) for your latest push to git@git.bioconductor.org:packages/FlowSOM.git to reflect on this report. See Troubleshooting Build Report for more information. - Use the following Renviron settings to reproduce errors and warnings. - If 'R CMD check' started to fail recently on the Linux builder(s) over a missing dependency, add the missing dependency to 'Suggests:' in your DESCRIPTION file. See Renviron.bioc for more information. |
| Package: FlowSOM |
| Version: 2.10.0 |
| Command: /Library/Frameworks/R.framework/Resources/bin/R CMD check --install=check:FlowSOM.install-out.txt --library=/Library/Frameworks/R.framework/Resources/library --no-vignettes --timings FlowSOM_2.10.0.tar.gz |
| StartedAt: 2024-04-16 02:55:57 -0400 (Tue, 16 Apr 2024) |
| EndedAt: 2024-04-16 03:15:45 -0400 (Tue, 16 Apr 2024) |
| EllapsedTime: 1188.1 seconds |
| RetCode: 0 |
| Status: OK |
| CheckDir: FlowSOM.Rcheck |
| Warnings: 0 |
##############################################################################
##############################################################################
###
### Running command:
###
### /Library/Frameworks/R.framework/Resources/bin/R CMD check --install=check:FlowSOM.install-out.txt --library=/Library/Frameworks/R.framework/Resources/library --no-vignettes --timings FlowSOM_2.10.0.tar.gz
###
##############################################################################
##############################################################################
* using log directory ‘/Users/biocbuild/bbs-3.18-bioc/meat/FlowSOM.Rcheck’
* using R version 4.3.3 (2024-02-29)
* using platform: x86_64-apple-darwin20 (64-bit)
* R was compiled by
Apple clang version 14.0.0 (clang-1400.0.29.202)
GNU Fortran (GCC) 12.2.0
* running under: macOS Monterey 12.7.1
* using session charset: UTF-8
* using option ‘--no-vignettes’
* checking for file ‘FlowSOM/DESCRIPTION’ ... OK
* this is package ‘FlowSOM’ version ‘2.10.0’
* package encoding: UTF-8
* checking package namespace information ... OK
* checking package dependencies ... OK
* checking if this is a source package ... OK
* checking if there is a namespace ... OK
* checking for hidden files and directories ... OK
* checking for portable file names ... OK
* checking for sufficient/correct file permissions ... OK
* checking whether package ‘FlowSOM’ can be installed ... OK
* used C compiler: ‘Apple clang version 14.0.0 (clang-1400.0.29.202)’
* used SDK: ‘MacOSX11.3.sdk’
* checking installed package size ... OK
* checking package directory ... OK
* checking ‘build’ directory ... OK
* checking DESCRIPTION meta-information ... OK
* checking top-level files ... OK
* checking for left-over files ... OK
* checking index information ... OK
* checking package subdirectories ... OK
* checking R files for non-ASCII characters ... OK
* checking R files for syntax errors ... OK
* checking whether the package can be loaded ... OK
* checking whether the package can be loaded with stated dependencies ... OK
* checking whether the package can be unloaded cleanly ... OK
* checking whether the namespace can be loaded with stated dependencies ... OK
* checking whether the namespace can be unloaded cleanly ... OK
* checking startup messages can be suppressed ... OK
* checking dependencies in R code ... OK
* checking S3 generic/method consistency ... OK
* checking replacement functions ... OK
* checking foreign function calls ... OK
* checking R code for possible problems ... OK
* checking Rd files ... OK
* checking Rd metadata ... OK
* checking Rd cross-references ... OK
* checking for missing documentation entries ... OK
* checking for code/documentation mismatches ... OK
* checking Rd \usage sections ... OK
* checking Rd contents ... OK
* checking for unstated dependencies in examples ... OK
* checking line endings in C/C++/Fortran sources/headers ... OK
* checking compiled code ... NOTE
Note: information on .o files is not available
* checking sizes of PDF files under ‘inst/doc’ ... OK
* checking files in ‘vignettes’ ... OK
* checking examples ... OK
Examples with CPU (user + system) or elapsed time > 5s
user system elapsed
FlowSOMmary 114.512 2.734 124.697
PlotDimRed 74.506 2.535 81.618
PlotMarker 48.978 1.179 53.684
UpdateMetaclusters 44.136 1.318 46.887
PlotStars 36.774 1.088 40.564
PlotOutliers 35.741 0.816 38.173
GroupStats 32.505 1.022 35.439
QueryMultiple 29.141 0.520 32.024
PlotGroups 27.352 1.029 30.448
query_multiple 27.399 0.719 31.921
FlowSOM 25.463 1.427 27.900
Plot2DScatters 21.604 0.669 23.306
AddAnnotation 21.233 0.756 22.558
QueryStarPlot 20.280 0.383 21.489
UpdateNodeSize 17.647 0.256 18.244
PlotNumbers 16.087 0.799 18.751
PlotNode 16.135 0.696 19.530
GetFlowJoLabels 15.474 0.682 17.198
PlotVariable 14.909 0.607 16.281
PlotManualBars 14.686 0.748 16.672
PlotPies 13.926 0.735 16.248
PlotFlowSOM 12.322 0.748 13.645
GetFeatures 12.067 0.428 13.069
CountGroups 11.351 0.806 12.362
PlotLabels 10.541 0.575 12.310
SaveClustersToFCS 9.371 0.876 10.363
NMetaclusters 8.972 0.809 10.573
MetaclusterMFIs 9.089 0.601 10.539
NClusters 8.988 0.636 10.212
TestOutliers 8.524 0.581 9.211
MetaclusterCVs 8.242 0.621 9.662
GetMetaclusterMFIs 8.120 0.563 9.588
FlowSOMSubset 7.967 0.549 8.691
PlotOverview2D 7.961 0.502 8.937
print.FlowSOM 7.597 0.820 10.367
GetPercentages 7.812 0.587 9.351
GetMetaclusters 7.692 0.702 8.792
GetMetaclusterPercentagesPositive 7.775 0.586 8.881
GetMFIs 7.780 0.569 8.829
GetMetaclusterCVs 7.797 0.548 8.770
GetCounts 7.547 0.514 8.432
GetClusterMFIs 7.442 0.469 8.626
GetClusterPercentagesPositive 7.421 0.477 8.345
GetClusters 7.366 0.454 8.348
NewData 7.244 0.466 8.035
ReadInput 6.521 0.675 7.474
MetaClustering 5.786 0.463 6.545
PlotSD 5.448 0.157 6.069
metaClustering_consensus 5.069 0.348 5.808
* checking for unstated dependencies in vignettes ... OK
* checking package vignettes in ‘inst/doc’ ... OK
* checking running R code from vignettes ... SKIPPED
* checking re-building of vignette outputs ... SKIPPED
* checking PDF version of manual ... OK
* DONE
Status: 1 NOTE
See
‘/Users/biocbuild/bbs-3.18-bioc/meat/FlowSOM.Rcheck/00check.log’
for details.
FlowSOM.Rcheck/00install.out
############################################################################## ############################################################################## ### ### Running command: ### ### /Library/Frameworks/R.framework/Resources/bin/R CMD INSTALL FlowSOM ### ############################################################################## ############################################################################## * installing to library ‘/Library/Frameworks/R.framework/Versions/4.3-x86_64/Resources/library’ * installing *source* package ‘FlowSOM’ ... ** using staged installation ** libs using C compiler: ‘Apple clang version 14.0.0 (clang-1400.0.29.202)’ using SDK: ‘MacOSX11.3.sdk’ clang -arch x86_64 -I"/Library/Frameworks/R.framework/Resources/include" -DNDEBUG -I/opt/R/x86_64/include -fPIC -falign-functions=64 -Wall -g -O2 -c som.c -o som.o clang -arch x86_64 -dynamiclib -Wl,-headerpad_max_install_names -undefined dynamic_lookup -L/Library/Frameworks/R.framework/Resources/lib -L/opt/R/x86_64/lib -o FlowSOM.so som.o -F/Library/Frameworks/R.framework/.. -framework R -Wl,-framework -Wl,CoreFoundation installing to /Library/Frameworks/R.framework/Versions/4.3-x86_64/Resources/library/00LOCK-FlowSOM/00new/FlowSOM/libs ** R ** inst ** byte-compile and prepare package for lazy loading ** help *** installing help indices ** building package indices ** installing vignettes ** testing if installed package can be loaded from temporary location ** checking absolute paths in shared objects and dynamic libraries ** testing if installed package can be loaded from final location ** testing if installed package keeps a record of temporary installation path * DONE (FlowSOM)
FlowSOM.Rcheck/FlowSOM-Ex.timings
| name | user | system | elapsed | |
| AddAnnotation | 21.233 | 0.756 | 22.558 | |
| AggregateFlowFrames | 0.163 | 0.010 | 0.173 | |
| BuildMST | 2.456 | 0.092 | 2.591 | |
| BuildSOM | 2.545 | 0.115 | 2.686 | |
| CountGroups | 11.351 | 0.806 | 12.362 | |
| FMeasure | 0.003 | 0.001 | 0.003 | |
| FlowSOM | 25.463 | 1.427 | 27.900 | |
| FlowSOMSubset | 7.967 | 0.549 | 8.691 | |
| FlowSOMmary | 114.512 | 2.734 | 124.697 | |
| GetChannels | 0.070 | 0.005 | 0.076 | |
| GetClusterMFIs | 7.442 | 0.469 | 8.626 | |
| GetClusterPercentagesPositive | 7.421 | 0.477 | 8.345 | |
| GetClusters | 7.366 | 0.454 | 8.348 | |
| GetCounts | 7.547 | 0.514 | 8.432 | |
| GetFeatures | 12.067 | 0.428 | 13.069 | |
| GetFlowJoLabels | 15.474 | 0.682 | 17.198 | |
| GetMFIs | 7.780 | 0.569 | 8.829 | |
| GetMarkers | 0.071 | 0.005 | 0.080 | |
| GetMetaclusterCVs | 7.797 | 0.548 | 8.770 | |
| GetMetaclusterMFIs | 8.120 | 0.563 | 9.588 | |
| GetMetaclusterPercentagesPositive | 7.775 | 0.586 | 8.881 | |
| GetMetaclusters | 7.692 | 0.702 | 8.792 | |
| GetPercentages | 7.812 | 0.587 | 9.351 | |
| GroupStats | 32.505 | 1.022 | 35.439 | |
| Initialize_KWSP | 0.012 | 0.001 | 0.013 | |
| Initialize_PCA | 0.002 | 0.000 | 0.002 | |
| MetaClustering | 5.786 | 0.463 | 6.545 | |
| MetaclusterCVs | 8.242 | 0.621 | 9.662 | |
| MetaclusterMFIs | 9.089 | 0.601 | 10.539 | |
| NClusters | 8.988 | 0.636 | 10.212 | |
| NMetaclusters | 8.972 | 0.809 | 10.573 | |
| NewData | 7.244 | 0.466 | 8.035 | |
| Plot2DScatters | 21.604 | 0.669 | 23.306 | |
| PlotCenters | 2.390 | 0.102 | 2.587 | |
| PlotClusters2D | 2.345 | 0.102 | 2.474 | |
| PlotDimRed | 74.506 | 2.535 | 81.618 | |
| PlotFileScatters | 2.069 | 0.056 | 2.158 | |
| PlotFlowSOM | 12.322 | 0.748 | 13.645 | |
| PlotGroups | 27.352 | 1.029 | 30.448 | |
| PlotLabels | 10.541 | 0.575 | 12.310 | |
| PlotManualBars | 14.686 | 0.748 | 16.672 | |
| PlotMarker | 48.978 | 1.179 | 53.684 | |
| PlotNode | 16.135 | 0.696 | 19.530 | |
| PlotNumbers | 16.087 | 0.799 | 18.751 | |
| PlotOutliers | 35.741 | 0.816 | 38.173 | |
| PlotOverview2D | 7.961 | 0.502 | 8.937 | |
| PlotPies | 13.926 | 0.735 | 16.248 | |
| PlotSD | 5.448 | 0.157 | 6.069 | |
| PlotStars | 36.774 | 1.088 | 40.564 | |
| PlotVariable | 14.909 | 0.607 | 16.281 | |
| Purity | 0.002 | 0.001 | 0.006 | |
| QueryMultiple | 29.141 | 0.520 | 32.024 | |
| QueryStarPlot | 20.280 | 0.383 | 21.489 | |
| ReadInput | 6.521 | 0.675 | 7.474 | |
| SaveClustersToFCS | 9.371 | 0.876 | 10.363 | |
| TestOutliers | 8.524 | 0.581 | 9.211 | |
| UpdateMetaclusters | 44.136 | 1.318 | 46.887 | |
| UpdateNodeSize | 17.647 | 0.256 | 18.244 | |
| get_channels | 0.069 | 0.004 | 0.080 | |
| get_markers | 0.070 | 0.005 | 0.078 | |
| metaClustering_consensus | 5.069 | 0.348 | 5.808 | |
| plotStarLegend | 1.775 | 0.016 | 1.907 | |
| print.FlowSOM | 7.597 | 0.820 | 10.367 | |
| query_multiple | 27.399 | 0.719 | 31.921 | |