| Back to Multiple platform build/check report for BioC 3.18: simplified long |
|
This page was generated on 2024-04-17 11:36:46 -0400 (Wed, 17 Apr 2024).
| Hostname | OS | Arch (*) | R version | Installed pkgs |
|---|---|---|---|---|
| nebbiolo2 | Linux (Ubuntu 22.04.3 LTS) | x86_64 | 4.3.3 (2024-02-29) -- "Angel Food Cake" | 4676 |
| palomino4 | Windows Server 2022 Datacenter | x64 | 4.3.3 (2024-02-29 ucrt) -- "Angel Food Cake" | 4414 |
| merida1 | macOS 12.7.1 Monterey | x86_64 | 4.3.3 (2024-02-29) -- "Angel Food Cake" | 4437 |
| Click on any hostname to see more info about the system (e.g. compilers) (*) as reported by 'uname -p', except on Windows and Mac OS X | ||||
| Package 711/2266 | Hostname | OS / Arch | INSTALL | BUILD | CHECK | BUILD BIN | ||||||||
| FindIT2 1.8.0 (landing page) Guandong Shang
| nebbiolo2 | Linux (Ubuntu 22.04.3 LTS) / x86_64 | OK | OK | OK | |||||||||
| palomino4 | Windows Server 2022 Datacenter / x64 | OK | OK | OK | OK | |||||||||
| merida1 | macOS 12.7.1 Monterey / x86_64 | OK | OK | OK | OK | |||||||||
| kjohnson1 | macOS 13.6.1 Ventura / arm64 | see weekly results here | ||||||||||||
|
To the developers/maintainers of the FindIT2 package: - Allow up to 24 hours (and sometimes 48 hours) for your latest push to git@git.bioconductor.org:packages/FindIT2.git to reflect on this report. See Troubleshooting Build Report for more information. - Use the following Renviron settings to reproduce errors and warnings. - If 'R CMD check' started to fail recently on the Linux builder(s) over a missing dependency, add the missing dependency to 'Suggests:' in your DESCRIPTION file. See Renviron.bioc for more information. |
| Package: FindIT2 |
| Version: 1.8.0 |
| Command: F:\biocbuild\bbs-3.18-bioc\R\bin\R.exe CMD check --no-multiarch --install=check:FindIT2.install-out.txt --library=F:\biocbuild\bbs-3.18-bioc\R\library --no-vignettes --timings FindIT2_1.8.0.tar.gz |
| StartedAt: 2024-04-16 00:47:58 -0400 (Tue, 16 Apr 2024) |
| EndedAt: 2024-04-16 00:54:27 -0400 (Tue, 16 Apr 2024) |
| EllapsedTime: 389.3 seconds |
| RetCode: 0 |
| Status: OK |
| CheckDir: FindIT2.Rcheck |
| Warnings: 0 |
##############################################################################
##############################################################################
###
### Running command:
###
### F:\biocbuild\bbs-3.18-bioc\R\bin\R.exe CMD check --no-multiarch --install=check:FindIT2.install-out.txt --library=F:\biocbuild\bbs-3.18-bioc\R\library --no-vignettes --timings FindIT2_1.8.0.tar.gz
###
##############################################################################
##############################################################################
* using log directory 'F:/biocbuild/bbs-3.18-bioc/meat/FindIT2.Rcheck'
* using R version 4.3.3 (2024-02-29 ucrt)
* using platform: x86_64-w64-mingw32 (64-bit)
* R was compiled by
gcc.exe (GCC) 12.3.0
GNU Fortran (GCC) 12.3.0
* running under: Windows Server 2022 x64 (build 20348)
* using session charset: UTF-8
* using option '--no-vignettes'
* checking for file 'FindIT2/DESCRIPTION' ... OK
* this is package 'FindIT2' version '1.8.0'
* package encoding: UTF-8
* checking package namespace information ... OK
* checking package dependencies ... OK
* checking if this is a source package ... OK
* checking if there is a namespace ... OK
* checking for hidden files and directories ... OK
* checking for portable file names ... OK
* checking whether package 'FindIT2' can be installed ... OK
* checking installed package size ... OK
* checking package directory ... OK
* checking 'build' directory ... OK
* checking DESCRIPTION meta-information ... OK
* checking top-level files ... OK
* checking for left-over files ... OK
* checking index information ... OK
* checking package subdirectories ... OK
* checking R files for non-ASCII characters ... OK
* checking R files for syntax errors ... OK
* checking whether the package can be loaded ... OK
* checking whether the package can be loaded with stated dependencies ... OK
* checking whether the package can be unloaded cleanly ... OK
* checking whether the namespace can be loaded with stated dependencies ... OK
* checking whether the namespace can be unloaded cleanly ... OK
* checking dependencies in R code ... OK
* checking S3 generic/method consistency ... OK
* checking replacement functions ... OK
* checking foreign function calls ... OK
* checking R code for possible problems ... OK
* checking Rd files ... OK
* checking Rd metadata ... OK
* checking Rd cross-references ... OK
* checking for missing documentation entries ... OK
* checking for code/documentation mismatches ... OK
* checking Rd \usage sections ... OK
* checking Rd contents ... OK
* checking for unstated dependencies in examples ... OK
* checking contents of 'data' directory ... OK
* checking data for non-ASCII characters ... OK
* checking data for ASCII and uncompressed saves ... OK
* checking files in 'vignettes' ... OK
* checking examples ... OK
Examples with CPU (user + system) or elapsed time > 5s
user system elapsed
findIT_regionRP 6.81 0.05 6.86
calcRP_region 6.05 0.14 6.20
* checking for unstated dependencies in 'tests' ... OK
* checking tests ...
Running 'testthat.R'
OK
* checking for unstated dependencies in vignettes ... OK
* checking package vignettes in 'inst/doc' ... OK
* checking running R code from vignettes ... SKIPPED
* checking re-building of vignette outputs ... SKIPPED
* checking PDF version of manual ... OK
* DONE
Status: OK
FindIT2.Rcheck/00install.out
############################################################################## ############################################################################## ### ### Running command: ### ### F:\biocbuild\bbs-3.18-bioc\R\bin\R.exe CMD INSTALL FindIT2 ### ############################################################################## ############################################################################## * installing to library 'F:/biocbuild/bbs-3.18-bioc/R/library' * installing *source* package 'FindIT2' ... ** using staged installation ** R ** data ** inst ** byte-compile and prepare package for lazy loading ** help *** installing help indices ** building package indices ** installing vignettes ** testing if installed package can be loaded from temporary location ** testing if installed package can be loaded from final location ** testing if installed package keeps a record of temporary installation path * DONE (FindIT2)
FindIT2.Rcheck/tests/testthat.Rout
R version 4.3.3 (2024-02-29 ucrt) -- "Angel Food Cake"
Copyright (C) 2024 The R Foundation for Statistical Computing
Platform: x86_64-w64-mingw32/x64 (64-bit)
R is free software and comes with ABSOLUTELY NO WARRANTY.
You are welcome to redistribute it under certain conditions.
Type 'license()' or 'licence()' for distribution details.
R is a collaborative project with many contributors.
Type 'contributors()' for more information and
'citation()' on how to cite R or R packages in publications.
Type 'demo()' for some demos, 'help()' for on-line help, or
'help.start()' for an HTML browser interface to help.
Type 'q()' to quit R.
> library(testthat)
> library(FindIT2)
Loading required package: GenomicRanges
Loading required package: stats4
Loading required package: BiocGenerics
Attaching package: 'BiocGenerics'
The following objects are masked from 'package:stats':
IQR, mad, sd, var, xtabs
The following objects are masked from 'package:base':
Filter, Find, Map, Position, Reduce, anyDuplicated, aperm, append,
as.data.frame, basename, cbind, colnames, dirname, do.call,
duplicated, eval, evalq, get, grep, grepl, intersect, is.unsorted,
lapply, mapply, match, mget, order, paste, pmax, pmax.int, pmin,
pmin.int, rank, rbind, rownames, sapply, setdiff, sort, table,
tapply, union, unique, unsplit, which.max, which.min
Loading required package: S4Vectors
Attaching package: 'S4Vectors'
The following object is masked from 'package:utils':
findMatches
The following objects are masked from 'package:base':
I, expand.grid, unname
Loading required package: IRanges
Attaching package: 'IRanges'
The following object is masked from 'package:grDevices':
windows
Loading required package: GenomeInfoDb
> if (!requireNamespace("TxDb.Athaliana.BioMart.plantsmart28")) {
+ stop("unable to load TxDb.Athaliana.BioMart.plantsmart28")
+ }
Loading required namespace: TxDb.Athaliana.BioMart.plantsmart28
>
> test_check("FindIT2")
>> checking seqlevels match... 2024-04-16 12:53:17 AM
>> your peak_GR seqlevel:Chr5...
>> your Txdb seqlevel:Chr1 Chr2 Chr3 Chr4 Chr5 ChrM ChrC...
Good, your Chrs in peak_GR is all in Txdb
------------
annotatePeak using geneScan mode begins
>> preparing gene features information and scan region... 2024-04-16 12:53:17 AM
>> some scan range may cross Chr bound, trimming... 2024-04-16 12:53:20 AM
>> finding overlap peak in gene scan region... 2024-04-16 12:53:20 AM
>> dealing with left peak not your gene scan region... 2024-04-16 12:53:20 AM
>> merging two set peaks... 2024-04-16 12:53:20 AM
>> calculating distance and dealing with gene strand... 2024-04-16 12:53:20 AM
>> merging all info together ... 2024-04-16 12:53:20 AM
>> done 2024-04-16 12:53:20 AM
>> calculating peakCenter to TSS using peak-gene pair... 2024-04-16 12:53:20 AM
>> pre-filling 1356 noAssoc peak gene's RP with 0... 2024-04-16 12:53:22 AM
>> calculating RP using centerToTSS and peak score2024-04-16 12:53:22 AM
>> merging all info together 2024-04-16 12:53:24 AM
>> done 2024-04-16 12:53:25 AM
>> calculating peakCenter to TSS using peak-gene pair... 2024-04-16 12:53:26 AM
>> pre-filling 1356 noAssoc peak gene's RP with 0... 2024-04-16 12:53:27 AM
>> calculating RP using centerToTSS and peak score2024-04-16 12:53:27 AM
>> merging all info together 2024-04-16 12:53:29 AM
>> done 2024-04-16 12:53:29 AM
>> checking seqlevels match... 2024-04-16 12:53:30 AM
>> your peak_GR seqlevel:Chr5...
>> your Txdb seqlevel:Chr1 Chr2 Chr3 Chr4 Chr5 ChrM ChrC...
Good, your Chrs in peak_GR is all in Txdb
------------
annotatePeak using geneScan mode begins
>> preparing gene features information and scan region... 2024-04-16 12:53:30 AM
>> some scan range may cross Chr bound, trimming... 2024-04-16 12:53:30 AM
>> finding overlap peak in gene scan region... 2024-04-16 12:53:31 AM
>> dealing with left peak not your gene scan region... 2024-04-16 12:53:31 AM
>> merging two set peaks... 2024-04-16 12:53:32 AM
>> calculating distance and dealing with gene strand... 2024-04-16 12:53:32 AM
>> merging all info together ... 2024-04-16 12:53:32 AM
>> done 2024-04-16 12:53:32 AM
>> calculating peakCenter to TSS using peak-gene pair... 2024-04-16 12:53:32 AM
>> calculating RP using centerToTSS and TF hit 2024-04-16 12:53:32 AM
>> merging all info together 2024-04-16 12:53:32 AM
>> done 2024-04-16 12:53:33 AM
>> calculating peakCenter to TSS using peak-gene pair... 2024-04-16 12:53:33 AM
>> calculating RP using centerToTSS and TF hit 2024-04-16 12:53:33 AM
>> merging all info together 2024-04-16 12:53:33 AM
>> done 2024-04-16 12:53:33 AM
>> checking seqlevels match... 2024-04-16 12:53:35 AM
>> your peak_GR seqlevel:Chr5...
>> your Txdb seqlevel:Chr1 Chr2 Chr3 Chr4 Chr5 ChrM ChrC...
Good, your Chrs in peak_GR is all in Txdb
------------
annotatePeak using geneScan mode begins
>> preparing gene features information and scan region... 2024-04-16 12:53:35 AM
>> some scan range may cross Chr bound, trimming... 2024-04-16 12:53:36 AM
>> finding overlap peak in gene scan region... 2024-04-16 12:53:36 AM
>> dealing with left peak not your gene scan region... 2024-04-16 12:53:36 AM
>> merging two set peaks... 2024-04-16 12:53:36 AM
>> calculating distance and dealing with gene strand... 2024-04-16 12:53:36 AM
>> merging all info together ... 2024-04-16 12:53:36 AM
>> done 2024-04-16 12:53:36 AM
>> calculating peakCenter to TSS using peak-gene pair... 2024-04-16 12:53:36 AM
>> pre-filling 1356 noAssoc peak gene's RP with 0... 2024-04-16 12:53:37 AM
>> calculating RP using centerToTSS and peak score2024-04-16 12:53:37 AM
>> merging all info together 2024-04-16 12:53:39 AM
>> done 2024-04-16 12:53:40 AM
>> extracting RP info from regionRP... 2024-04-16 12:53:40 AM
>> dealing with TF_GR_databse... 2024-04-16 12:53:40 AM
>> calculating percent and p-value... 2024-04-16 12:53:41 AM
>> dealing withE5_0h_R1... 2024-04-16 12:53:41 AM
>> dealing withE5_0h_R2... 2024-04-16 12:53:41 AM
>> dealing withE5_4h_R1... 2024-04-16 12:53:41 AM
>> dealing withE5_4h_R2... 2024-04-16 12:53:41 AM
>> dealing withE5_8h_R1... 2024-04-16 12:53:41 AM
>> dealing withE5_8h_R2... 2024-04-16 12:53:41 AM
>> dealing withE5_16h_R1... 2024-04-16 12:53:41 AM
>> dealing withE5_16h_R2... 2024-04-16 12:53:41 AM
>> dealing withE5_24h_R1... 2024-04-16 12:53:41 AM
>> dealing withE5_24h_R2... 2024-04-16 12:53:41 AM
>> dealing withE5_48h_R1... 2024-04-16 12:53:41 AM
>> dealing withE5_48h_R2... 2024-04-16 12:53:41 AM
>> dealing withE5_48h_R3... 2024-04-16 12:53:41 AM
>> dealing withE5_72h_R1... 2024-04-16 12:53:41 AM
>> dealing withE5_72h_R2... 2024-04-16 12:53:41 AM
>> dealing withE5_72h_R3... 2024-04-16 12:53:41 AM
>> merging all info together... 2024-04-16 12:53:41 AM
>> done 2024-04-16 12:53:41 AM
>> preparing gene features information... 2024-04-16 12:53:41 AM
>> some scan range may cross Chr bound, trimming... 2024-04-16 12:53:42 AM
>> calculating p-value for each TF, which may be time consuming... 2024-04-16 12:53:42 AM
>> merging all info together... 2024-04-16 12:53:42 AM
>> done 2024-04-16 12:53:42 AM
>> dealing with TF_GR_database... 2024-04-16 12:53:43 AM
>> calculating coef and converting into z-score using INT... 2024-04-16 12:53:43 AM
>> dealing with E5_0h_R1... 2024-04-16 12:53:43 AM
>> dealing with E5_0h_R2... 2024-04-16 12:53:44 AM
>> dealing with E5_4h_R1... 2024-04-16 12:53:44 AM
>> dealing with E5_4h_R2... 2024-04-16 12:53:44 AM
>> dealing with E5_8h_R1... 2024-04-16 12:53:44 AM
>> dealing with E5_8h_R2... 2024-04-16 12:53:44 AM
>> dealing with E5_16h_R1... 2024-04-16 12:53:44 AM
>> dealing with E5_16h_R2... 2024-04-16 12:53:44 AM
>> dealing with E5_24h_R1... 2024-04-16 12:53:44 AM
>> dealing with E5_24h_R2... 2024-04-16 12:53:45 AM
>> dealing with E5_48h_R1... 2024-04-16 12:53:45 AM
>> dealing with E5_48h_R2... 2024-04-16 12:53:45 AM
>> dealing with E5_48h_R3... 2024-04-16 12:53:45 AM
>> dealing with E5_72h_R1... 2024-04-16 12:53:45 AM
>> dealing with E5_72h_R2... 2024-04-16 12:53:45 AM
>> dealing with E5_72h_R3... 2024-04-16 12:53:45 AM
>> merging all info together... 2024-04-16 12:53:45 AM
>> done 2024-04-16 12:53:45 AM
>> checking seqlevels match... 2024-04-16 12:53:45 AM
>> your peak_GR seqlevel:Chr5...
>> your Txdb seqlevel:Chr1 Chr2 Chr3 Chr4 Chr5 ChrM ChrC...
Good, your Chrs in peak_GR is all in Txdb
------------
annotatePeak using geneScan mode begins
>> preparing gene features information and scan region... 2024-04-16 12:53:45 AM
>> some scan range may cross Chr bound, trimming... 2024-04-16 12:53:46 AM
>> finding overlap peak in gene scan region... 2024-04-16 12:53:46 AM
>> dealing with left peak not your gene scan region... 2024-04-16 12:53:46 AM
>> merging two set peaks... 2024-04-16 12:53:47 AM
>> calculating distance and dealing with gene strand... 2024-04-16 12:53:47 AM
>> merging all info together ... 2024-04-16 12:53:47 AM
>> done 2024-04-16 12:53:47 AM
>> calculating peakCenter to TSS using peak-gene pair... 2024-04-16 12:53:47 AM
>> calculating RP using centerToTSS and TF hit 2024-04-16 12:53:48 AM
>> merging all info together 2024-04-16 12:53:48 AM
>> done 2024-04-16 12:53:48 AM
>> checking seqlevels match... 2024-04-16 12:53:48 AM
>> your peak_GR seqlevel:5...
>> your Txdb seqlevel:Chr1 Chr2 Chr3 Chr4 Chr5 ChrM ChrC...
>> checking seqlevels match... 2024-04-16 12:53:48 AM
>> your peak_GR seqlevel:Chr5 Chr6...
>> your Txdb seqlevel:Chr1 Chr2 Chr3 Chr4 Chr5 ChrM ChrC...
>> checking seqlevels match... 2024-04-16 12:53:52 AM
>> your peak_GR seqlevel:Chr5...
>> your Txdb seqlevel:Chr1 Chr2 Chr3 Chr4 Chr5 ChrM ChrC...
Good, your Chrs in peak_GR is all in Txdb
>> checking seqlevels match... 2024-04-16 12:53:52 AM
>> your peak_GR seqlevel:Chr5...
>> your Txdb seqlevel:Chr1 Chr2 Chr3 Chr4 Chr5 ChrM ChrC...
Good, your Chrs in peak_GR is all in Txdb
------------
annotating Peak using nearest gene mode begins
>> preparing gene features information... 2024-04-16 12:53:52 AM
>> finding nearest gene and calculating distance... 2024-04-16 12:53:53 AM
>> dealing with gene strand ... 2024-04-16 12:53:54 AM
>> merging all info together ... 2024-04-16 12:53:54 AM
>> done 2024-04-16 12:53:54 AM
>> checking seqlevels match... 2024-04-16 12:53:54 AM
>> your peak_GR seqlevel:Chr5...
>> your Txdb seqlevel:Chr1 Chr2 Chr3 Chr4 Chr5 ChrM ChrC...
Good, your Chrs in peak_GR is all in Txdb
>> checking seqlevels match... 2024-04-16 12:53:54 AM
>> your peak_GR seqlevel:Chr5...
>> your Txdb seqlevel:Chr1 Chr2 Chr3 Chr4 Chr5 ChrM ChrC...
Good, your Chrs in peak_GR is all in Txdb
------------
annotating Peak using nearest gene mode begins
>> preparing gene features information... 2024-04-16 12:53:54 AM
>> finding nearest gene and calculating distance... 2024-04-16 12:53:55 AM
>> dealing with gene strand ... 2024-04-16 12:53:55 AM
>> merging all info together ... 2024-04-16 12:53:55 AM
>> done 2024-04-16 12:53:55 AM
>> checking seqlevels match... 2024-04-16 12:53:56 AM
>> your peak_GR seqlevel:Chr5...
>> your Txdb seqlevel:Chr1 Chr2 Chr3 Chr4 Chr5 ChrM ChrC...
Good, your Chrs in peak_GR is all in Txdb
>> checking seqlevels match... 2024-04-16 12:53:56 AM
>> your peak_GR seqlevel:Chr5...
>> your Txdb seqlevel:Chr1 Chr2 Chr3 Chr4 Chr5 ChrM ChrC...
Good, your Chrs in peak_GR is all in Txdb
------------
annotating Peak using nearest gene mode begins
>> preparing gene features information... 2024-04-16 12:53:56 AM
>> finding nearest gene and calculating distance... 2024-04-16 12:53:57 AM
>> dealing with gene strand ... 2024-04-16 12:53:57 AM
>> merging all info together ... 2024-04-16 12:53:57 AM
>> done 2024-04-16 12:53:57 AM
>> checking seqlevels match... 2024-04-16 12:53:58 AM
>> your peak_GR seqlevel:Chr5...
>> your Txdb seqlevel:Chr1 Chr2 Chr3 Chr4 Chr5 ChrM ChrC...
Good, your Chrs in peak_GR is all in Txdb
>> checking seqlevels match... 2024-04-16 12:53:58 AM
>> your peak_GR seqlevel:Chr5...
>> your Txdb seqlevel:Chr1 Chr2 Chr3 Chr4 Chr5 ChrM ChrC...
Good, your Chrs in peak_GR is all in Txdb
------------
annotating Peak using nearest gene mode begins
>> preparing gene features information... 2024-04-16 12:53:58 AM
>> finding nearest gene and calculating distance... 2024-04-16 12:53:59 AM
>> dealing with gene strand ... 2024-04-16 12:53:59 AM
>> merging all info together ... 2024-04-16 12:53:59 AM
>> done 2024-04-16 12:53:59 AM
It seems that there 1 genes have not been annotated by nearestGene mode
>> checking seqlevels match... 2024-04-16 12:54:00 AM
>> your peak_GR seqlevel:Chr5...
>> your Txdb seqlevel:Chr1 Chr2 Chr3 Chr4 Chr5 ChrM ChrC...
Good, your Chrs in peak_GR is all in Txdb
>> checking seqlevels match... 2024-04-16 12:54:00 AM
>> your peak_GR seqlevel:Chr5...
>> your Txdb seqlevel:Chr1 Chr2 Chr3 Chr4 Chr5 ChrM ChrC...
Good, your Chrs in peak_GR is all in Txdb
------------
annotating Peak using nearest gene mode begins
>> preparing gene features information... 2024-04-16 12:54:00 AM
>> finding nearest gene and calculating distance... 2024-04-16 12:54:01 AM
>> dealing with gene strand ... 2024-04-16 12:54:01 AM
>> merging all info together ... 2024-04-16 12:54:01 AM
>> done 2024-04-16 12:54:01 AM
It seems that there 1 genes have not been annotated by nearestGene mode
>> checking seqlevels match... 2024-04-16 12:54:02 AM
>> your peak_GR seqlevel:Chr5...
>> your Txdb seqlevel:Chr1 Chr2 Chr3 Chr4 Chr5 ChrM ChrC...
Good, your Chrs in peak_GR is all in Txdb
>> checking seqlevels match... 2024-04-16 12:54:03 AM
>> your peak_GR seqlevel:Chr5...
>> your Txdb seqlevel:Chr1 Chr2 Chr3 Chr4 Chr5 ChrM ChrC...
Good, your Chrs in peak_GR is all in Txdb
>> some scan range may cross Chr bound, trimming... 2024-04-16 12:54:04 AM
>> checking seqlevels match... 2024-04-16 12:54:05 AM
>> your peak_GR seqlevel:Chr5...
>> your Txdb seqlevel:Chr1 Chr2 Chr3 Chr4 Chr5 ChrM ChrC...
Good, your Chrs in peak_GR is all in Txdb
>> some scan range may cross Chr bound, trimming... 2024-04-16 12:54:06 AM
Good, your two matrix colnames matchs
>> calculating cor and pvalue, which may be time consuming... 2024-04-16 12:54:08 AM
>> merging all info together... 2024-04-16 12:54:08 AM
>> done 2024-04-16 12:54:08 AM
>> checking seqlevels match... 2024-04-16 12:54:08 AM
>> your peak_GR seqlevel:Chr5...
>> your Txdb seqlevel:Chr1 Chr2 Chr3 Chr4 Chr5 ChrM ChrC...
Good, your Chrs in peak_GR is all in Txdb
>> using scanPromoter parameter to scan promoter for each gene... 2024-04-16 12:54:08 AM
>> checking seqlevels match... 2024-04-16 12:54:08 AM
>> your peak_GR seqlevel:Chr5...
>> your Txdb seqlevel:Chr1 Chr2 Chr3 Chr4 Chr5 ChrM ChrC...
Good, your Chrs in peak_GR is all in Txdb
>> some scan range may cross Chr bound, trimming... 2024-04-16 12:54:10 AM
>> there are 85 gene have scaned promoter
>> using scanEnhancer parameter to scan Enhancer for each gene... 2024-04-16 12:54:10 AM
>> checking seqlevels match... 2024-04-16 12:54:10 AM
>> your peak_GR seqlevel:Chr5...
>> your Txdb seqlevel:Chr1 Chr2 Chr3 Chr4 Chr5 ChrM ChrC...
Good, your Chrs in peak_GR is all in Txdb
>> some scan range may cross Chr bound, trimming... 2024-04-16 12:54:11 AM
>> calculating cor and pvalue, which may be time consuming... 2024-04-16 12:54:11 AM
>> merging all info together... 2024-04-16 12:54:11 AM
>> done 2024-04-16 12:54:11 AM
Good, your two matrix colnames matchs
>> calculating cor and pvalue, which may be time consuming... 2024-04-16 12:54:11 AM
>> merging all info together... 2024-04-16 12:54:11 AM
>> done 2024-04-16 12:54:11 AM
>> checking seqlevels match... 2024-04-16 12:54:11 AM
>> your peak_GR seqlevel:Chr5...
>> your Txdb seqlevel:Chr1 Chr2 Chr3 Chr4 Chr5 ChrM ChrC...
Good, your Chrs in peak_GR is all in Txdb
------------
annotatePeak using geneScan mode begins
>> preparing gene features information and scan region... 2024-04-16 12:54:11 AM
>> some scan range may cross Chr bound, trimming... 2024-04-16 12:54:12 AM
>> finding overlap peak in gene scan region... 2024-04-16 12:54:12 AM
>> dealing with left peak not your gene scan region... 2024-04-16 12:54:12 AM
>> merging two set peaks... 2024-04-16 12:54:12 AM
>> calculating distance and dealing with gene strand... 2024-04-16 12:54:12 AM
>> merging all info together ... 2024-04-16 12:54:12 AM
>> done 2024-04-16 12:54:12 AM
Good, your two matrix colnames matchs
>> calculating cor and pvalue, which may be time consuming... 2024-04-16 12:54:13 AM
>> merging all info together... 2024-04-16 12:54:13 AM
>> done 2024-04-16 12:54:13 AM
>> checking seqlevels match... 2024-04-16 12:54:13 AM
>> your peak_GR seqlevel:Chr5...
>> your Txdb seqlevel:Chr1 Chr2 Chr3 Chr4 Chr5 ChrM ChrC...
Good, your Chrs in peak_GR is all in Txdb
>> using scanPromoter parameter to scan promoter for each gene... 2024-04-16 12:54:13 AM
>> checking seqlevels match... 2024-04-16 12:54:14 AM
>> your peak_GR seqlevel:Chr5...
>> your Txdb seqlevel:Chr1 Chr2 Chr3 Chr4 Chr5 ChrM ChrC...
Good, your Chrs in peak_GR is all in Txdb
>> some scan range may cross Chr bound, trimming... 2024-04-16 12:54:14 AM
>> there are 85 gene have scaned promoter
>> using scanEnhancer parameter to scan Enhancer for each gene... 2024-04-16 12:54:14 AM
>> checking seqlevels match... 2024-04-16 12:54:15 AM
>> your peak_GR seqlevel:Chr5...
>> your Txdb seqlevel:Chr1 Chr2 Chr3 Chr4 Chr5 ChrM ChrC...
Good, your Chrs in peak_GR is all in Txdb
>> some scan range may cross Chr bound, trimming... 2024-04-16 12:54:15 AM
>> calculating cor and pvalue, which may be time consuming... 2024-04-16 12:54:15 AM
>> merging all info together... 2024-04-16 12:54:16 AM
>> done 2024-04-16 12:54:16 AM
Joining with `by = join_by(feature_id)`
Joining with `by = join_by(feature_id)`
`geom_smooth()` using formula = 'y ~ x'
Joining with `by = join_by(feature_id)`
Joining with `by = join_by(feature_id)`
`geom_smooth()` using formula = 'y ~ x'
[ FAIL 0 | WARN 0 | SKIP 0 | PASS 63 ]
>
> proc.time()
user system elapsed
70.35 3.18 73.95
FindIT2.Rcheck/FindIT2-Ex.timings
| name | user | system | elapsed | |
| TF_target_database | 0 | 0 | 0 | |
| calcRP_TFHit | 4.47 | 0.22 | 4.78 | |
| calcRP_coverage | 0.09 | 0.02 | 0.11 | |
| calcRP_region | 6.05 | 0.14 | 6.20 | |
| enhancerPromoterCor | 3.25 | 0.11 | 3.36 | |
| findIT_MARA | 0.44 | 0.02 | 0.45 | |
| findIT_TFHit | 1.09 | 0.00 | 1.10 | |
| findIT_TTPair | 0.16 | 0.09 | 0.25 | |
| findIT_enrichFisher | 0.17 | 0.00 | 0.17 | |
| findIT_enrichWilcox | 0.19 | 0.03 | 0.22 | |
| findIT_regionRP | 6.81 | 0.05 | 6.86 | |
| getAssocPairNumber | 1.35 | 0.01 | 1.37 | |
| integrate_ChIP_RNA | 2.32 | 0.08 | 2.41 | |
| integrate_replicates | 0 | 0 | 0 | |
| jaccard_findIT_TTpair | 0.13 | 0.10 | 0.22 | |
| jaccard_findIT_enrichFisher | 0.21 | 0.01 | 0.22 | |
| loadPeakFile | 0.06 | 0.00 | 0.07 | |
| mm_geneBound | 1.19 | 0.06 | 1.25 | |
| mm_geneScan | 1.33 | 0.00 | 1.32 | |
| mm_nearestGene | 1.45 | 0.05 | 1.50 | |
| peakGeneCor | 2.73 | 0.15 | 2.89 | |
| plot_annoDistance | 1.49 | 0.08 | 1.56 | |
| plot_peakGeneAlias_summary | 1.33 | 0.05 | 1.38 | |
| plot_peakGeneCor | 3.09 | 0.14 | 3.23 | |
| test_geneSet | 0 | 0 | 0 | |