| Back to Multiple platform build/check report for BioC 3.18: simplified long |
|
This page was generated on 2024-03-06 11:33:36 -0500 (Wed, 06 Mar 2024).
| Hostname | OS | Arch (*) | R version | Installed pkgs |
|---|---|---|---|---|
| nebbiolo2 | Linux (Ubuntu 22.04.3 LTS) | x86_64 | 4.3.2 Patched (2023-11-13 r85521) -- "Eye Holes" | 4692 |
| palomino4 | Windows Server 2022 Datacenter | x64 | 4.3.2 (2023-10-31 ucrt) -- "Eye Holes" | 4445 |
| Click on any hostname to see more info about the system (e.g. compilers) (*) as reported by 'uname -p', except on Windows and Mac OS X | ||||
| Package 590/2266 | Hostname | OS / Arch | INSTALL | BUILD | CHECK | BUILD BIN | ||||||||
| DominoEffect 1.22.0 (landing page) Marija Buljan
| nebbiolo2 | Linux (Ubuntu 22.04.3 LTS) / x86_64 | OK | OK | OK | |||||||||
| palomino4 | Windows Server 2022 Datacenter / x64 | OK | OK | OK | OK | |||||||||
| kjohnson1 | macOS 13.6.1 Ventura / arm64 | see weekly results here | ||||||||||||
|
To the developers/maintainers of the DominoEffect package: - Allow up to 24 hours (and sometimes 48 hours) for your latest push to git@git.bioconductor.org:packages/DominoEffect.git to reflect on this report. See Troubleshooting Build Report for more information. - Use the following Renviron settings to reproduce errors and warnings. - If 'R CMD check' started to fail recently on the Linux builder(s) over a missing dependency, add the missing dependency to 'Suggests:' in your DESCRIPTION file. See Renviron.bioc for more information. |
| Package: DominoEffect |
| Version: 1.22.0 |
| Command: rm -rf DominoEffect.buildbin-libdir && mkdir DominoEffect.buildbin-libdir && F:\biocbuild\bbs-3.18-bioc\R\bin\R.exe CMD INSTALL --build --library=DominoEffect.buildbin-libdir DominoEffect_1.22.0.tar.gz |
| StartedAt: 2024-03-06 08:34:53 -0500 (Wed, 06 Mar 2024) |
| EndedAt: 2024-03-06 08:35:40 -0500 (Wed, 06 Mar 2024) |
| EllapsedTime: 47.5 seconds |
| RetCode: 0 |
| Status: OK |
| PackageFile: DominoEffect_1.22.0.zip |
| PackageFileSize: 587.3 KiB |
############################################################################## ############################################################################## ### ### Running command: ### ### rm -rf DominoEffect.buildbin-libdir && mkdir DominoEffect.buildbin-libdir && F:\biocbuild\bbs-3.18-bioc\R\bin\R.exe CMD INSTALL --build --library=DominoEffect.buildbin-libdir DominoEffect_1.22.0.tar.gz ### ############################################################################## ############################################################################## * installing *source* package 'DominoEffect' ... ** using staged installation ** R ** data *** moving datasets to lazyload DB ** inst ** byte-compile and prepare package for lazy loading ** help *** installing help indices ** building package indices ** installing vignettes ** testing if installed package can be loaded from temporary location ** testing if installed package can be loaded from final location ** testing if installed package keeps a record of temporary installation path * MD5 sums packaged installation of 'DominoEffect' as DominoEffect_1.22.0.zip * DONE (DominoEffect)