| Back to Multiple platform build/check report for BioC 3.18: simplified long | 
 | 
This page was generated on 2024-04-17 11:35:54 -0400 (Wed, 17 Apr 2024).
| Hostname | OS | Arch (*) | R version | Installed pkgs | 
|---|---|---|---|---|
| nebbiolo2 | Linux (Ubuntu 22.04.3 LTS) | x86_64 | 4.3.3 (2024-02-29) -- "Angel Food Cake" | 4676 | 
| palomino4 | Windows Server 2022 Datacenter | x64 | 4.3.3 (2024-02-29 ucrt) -- "Angel Food Cake" | 4414 | 
| merida1 | macOS 12.7.1 Monterey | x86_64 | 4.3.3 (2024-02-29) -- "Angel Food Cake" | 4437 | 
| Click on any hostname to see more info about the system (e.g. compilers) (*) as reported by 'uname -p', except on Windows and Mac OS X | ||||
| Package 523/2266 | Hostname | OS / Arch | INSTALL | BUILD | CHECK | BUILD BIN | ||||||||
| DegNorm 1.12.0  (landing page) Ji-Ping Wang 
 | nebbiolo2 | Linux (Ubuntu 22.04.3 LTS) / x86_64 | OK | OK | OK |  | ||||||||
| palomino4 | Windows Server 2022 Datacenter / x64 | OK | OK | OK | OK |  | ||||||||
| merida1 | macOS 12.7.1 Monterey / x86_64 | OK | OK | OK | OK |  | ||||||||
| kjohnson1 | macOS 13.6.1 Ventura / arm64 | see weekly results here | ||||||||||||
| To the developers/maintainers of the DegNorm package: - Allow up to 24 hours (and sometimes 48 hours) for your latest push to git@git.bioconductor.org:packages/DegNorm.git to reflect on this report. See Troubleshooting Build Report for more information. - Use the following Renviron settings to reproduce errors and warnings. - If 'R CMD check' started to fail recently on the Linux builder(s) over a missing dependency, add the missing dependency to 'Suggests:' in your DESCRIPTION file. See Renviron.bioc for more information. | 
| Package: DegNorm | 
| Version: 1.12.0 | 
| Command: /home/biocbuild/bbs-3.18-bioc/R/bin/R CMD check --install=check:DegNorm.install-out.txt --library=/home/biocbuild/bbs-3.18-bioc/R/site-library --timings DegNorm_1.12.0.tar.gz | 
| StartedAt: 2024-04-15 21:54:52 -0400 (Mon, 15 Apr 2024) | 
| EndedAt: 2024-04-15 22:09:41 -0400 (Mon, 15 Apr 2024) | 
| EllapsedTime: 888.3 seconds | 
| RetCode: 0 | 
| Status: OK | 
| CheckDir: DegNorm.Rcheck | 
| Warnings: 0 | 
##############################################################################
##############################################################################
###
### Running command:
###
###   /home/biocbuild/bbs-3.18-bioc/R/bin/R CMD check --install=check:DegNorm.install-out.txt --library=/home/biocbuild/bbs-3.18-bioc/R/site-library --timings DegNorm_1.12.0.tar.gz
###
##############################################################################
##############################################################################
* using log directory ‘/home/biocbuild/bbs-3.18-bioc/meat/DegNorm.Rcheck’
* using R version 4.3.3 (2024-02-29)
* using platform: x86_64-pc-linux-gnu (64-bit)
* R was compiled by
    gcc (Ubuntu 11.4.0-1ubuntu1~22.04) 11.4.0
    GNU Fortran (Ubuntu 11.4.0-1ubuntu1~22.04) 11.4.0
* running under: Ubuntu 22.04.4 LTS
* using session charset: UTF-8
* checking for file ‘DegNorm/DESCRIPTION’ ... OK
* checking extension type ... Package
* this is package ‘DegNorm’ version ‘1.12.0’
* checking package namespace information ... OK
* checking package dependencies ... OK
* checking if this is a source package ... OK
* checking if there is a namespace ... OK
* checking for hidden files and directories ... OK
* checking for portable file names ... OK
* checking for sufficient/correct file permissions ... OK
* checking whether package ‘DegNorm’ can be installed ... OK
* used C++ compiler: ‘g++ (Ubuntu 11.4.0-1ubuntu1~22.04) 11.4.0’
* checking C++ specification ... NOTE
  Specified C++11: please drop specification unless essential
* checking installed package size ... NOTE
  installed size is 10.7Mb
  sub-directories of 1Mb or more:
    doc       4.9Mb
    extdata   2.1Mb
    libs      2.9Mb
* checking package directory ... OK
* checking ‘build’ directory ... OK
* checking DESCRIPTION meta-information ... OK
* checking top-level files ... OK
* checking for left-over files ... OK
* checking index information ... OK
* checking package subdirectories ... OK
* checking R files for non-ASCII characters ... OK
* checking R files for syntax errors ... OK
* checking whether the package can be loaded ... OK
* checking whether the package can be loaded with stated dependencies ... OK
* checking whether the package can be unloaded cleanly ... OK
* checking whether the namespace can be loaded with stated dependencies ... OK
* checking whether the namespace can be unloaded cleanly ... OK
* checking loading without being on the library search path ... OK
* checking dependencies in R code ... OK
* checking S3 generic/method consistency ... OK
* checking replacement functions ... OK
* checking foreign function calls ... OK
* checking R code for possible problems ... OK
* checking Rd files ... OK
* checking Rd metadata ... OK
* checking Rd cross-references ... OK
* checking for missing documentation entries ... OK
* checking for code/documentation mismatches ... OK
* checking Rd \usage sections ... OK
* checking Rd contents ... OK
* checking for unstated dependencies in examples ... OK
* checking contents of ‘data’ directory ... OK
* checking data for non-ASCII characters ... OK
* checking data for ASCII and uncompressed saves ... OK
* checking line endings in C/C++/Fortran sources/headers ... OK
* checking line endings in Makefiles ... OK
* checking compilation flags in Makevars ... OK
* checking for GNU extensions in Makefiles ... OK
* checking for portable use of $(BLAS_LIBS) and $(LAPACK_LIBS) ... OK
* checking use of PKG_*FLAGS in Makefiles ... OK
* checking compiled code ... OK
* checking installed files from ‘inst/doc’ ... OK
* checking files in ‘vignettes’ ... OK
* checking examples ... OK
Examples with CPU (user + system) or elapsed time > 5s
                     user system elapsed
read_coverage_batch 4.212  0.321  91.501
degnorm             1.430  0.097  52.033
* checking for unstated dependencies in vignettes ... OK
* checking package vignettes in ‘inst/doc’ ... OK
* checking running R code from vignettes ...
  ‘DegNorm.Rmd’ using ‘UTF-8’... OK
 OK
* checking re-building of vignette outputs ... OK
* checking PDF version of manual ... OK
* DONE
Status: 2 NOTEs
See
  ‘/home/biocbuild/bbs-3.18-bioc/meat/DegNorm.Rcheck/00check.log’
for details.
DegNorm.Rcheck/00install.out
############################################################################## ############################################################################## ### ### Running command: ### ### /home/biocbuild/bbs-3.18-bioc/R/bin/R CMD INSTALL DegNorm ### ############################################################################## ############################################################################## * installing to library ‘/home/biocbuild/bbs-3.18-bioc/R/site-library’ * installing *source* package ‘DegNorm’ ... ** using staged installation ** libs using C++ compiler: ‘g++ (Ubuntu 11.4.0-1ubuntu1~22.04) 11.4.0’ using C++11 g++ -std=gnu++11 -I"/home/biocbuild/bbs-3.18-bioc/R/include" -DNDEBUG -I'/home/biocbuild/bbs-3.18-bioc/R/site-library/Rcpp/include' -I'/home/biocbuild/bbs-3.18-bioc/R/site-library/RcppArmadillo/include' -I'/home/biocbuild/bbs-3.18-bioc/R/site-library/S4Vectors/include' -I'/home/biocbuild/bbs-3.18-bioc/R/site-library/IRanges/include' -I/usr/local/include -fopenmp -fpic -g -O2 -Wall -c RcppExports.cpp -o RcppExports.o g++ -std=gnu++11 -I"/home/biocbuild/bbs-3.18-bioc/R/include" -DNDEBUG -I'/home/biocbuild/bbs-3.18-bioc/R/site-library/Rcpp/include' -I'/home/biocbuild/bbs-3.18-bioc/R/site-library/RcppArmadillo/include' -I'/home/biocbuild/bbs-3.18-bioc/R/site-library/S4Vectors/include' -I'/home/biocbuild/bbs-3.18-bioc/R/site-library/IRanges/include' -I/usr/local/include -fopenmp -fpic -g -O2 -Wall -c degnormCPP.cpp -o degnormCPP.o g++ -std=gnu++11 -shared -L/home/biocbuild/bbs-3.18-bioc/R/lib -L/usr/local/lib -o DegNorm.so RcppExports.o degnormCPP.o -fopenmp -llapack -L/home/biocbuild/bbs-3.18-bioc/R/lib -lRblas -lgfortran -lm -lquadmath -L/home/biocbuild/bbs-3.18-bioc/R/lib -lR installing to /home/biocbuild/bbs-3.18-bioc/R/site-library/00LOCK-DegNorm/00new/DegNorm/libs ** R ** data ** inst ** byte-compile and prepare package for lazy loading ** help *** installing help indices ** building package indices ** installing vignettes ** testing if installed package can be loaded from temporary location ** checking absolute paths in shared objects and dynamic libraries ** testing if installed package can be loaded from final location ** testing if installed package keeps a record of temporary installation path * DONE (DegNorm)
DegNorm.Rcheck/DegNorm-Ex.timings
| name | user | system | elapsed | |
| PlotFunctions | 1.852 | 0.104 | 1.957 | |
| coverage_res_chr21 | 0.084 | 0.012 | 0.096 | |
| degnorm | 1.430 | 0.097 | 52.033 | |
| plot_coverage | 0.484 | 0.072 | 0.556 | |
| read_coverage_batch | 4.212 | 0.321 | 91.501 | |
| res_DegNorm_chr21 | 0.067 | 0.008 | 0.075 | |
| summary_CoverageClass | 0.089 | 0.012 | 0.101 | |
| summary_DegNormClass | 0.041 | 0.008 | 0.049 | |