| Back to Multiple platform build/check report for BioC 3.18: simplified long |
|
This page was generated on 2023-05-30 11:05:43 -0400 (Tue, 30 May 2023).
| Hostname | OS | Arch (*) | R version | Installed pkgs |
|---|---|---|---|---|
| nebbiolo2 | Linux (Ubuntu 22.04.2 LTS) | x86_64 | 4.3.0 RC (2023-04-18 r84287) -- "Already Tomorrow" | 4587 |
| palomino4 | Windows Server 2022 Datacenter | x64 | 4.3.0 RC (2023-04-18 r84287 ucrt) -- "Already Tomorrow" | 4336 |
| lconway | macOS 12.6.5 Monterey | x86_64 | 4.3.0 RC (2023-04-13 r84266) -- "Already Tomorrow" | 4337 |
| Click on any hostname to see more info about the system (e.g. compilers) (*) as reported by 'uname -p', except on Windows and Mac OS X | ||||
|
To the developers/maintainers of the DeepBlueR package: - Allow up to 24 hours (and sometimes 48 hours) for your latest push to git@git.bioconductor.org:packages/DeepBlueR.git to reflect on this report. See Troubleshooting Build Report for more information. - Use the following Renviron settings to reproduce errors and warnings. Note: If "R CMD check" recently failed on the Linux builder over a missing dependency, add the missing dependency to "Suggests" in your DESCRIPTION file. See the Renviron.bioc for details. |
| Package 503/2197 | Hostname | OS / Arch | INSTALL | BUILD | CHECK | BUILD BIN | ||||||||
| DeepBlueR 1.27.0 (landing page) Felipe Albrecht
| nebbiolo2 | Linux (Ubuntu 22.04.2 LTS) / x86_64 | OK | OK | OK | |||||||||
| palomino4 | Windows Server 2022 Datacenter / x64 | OK | OK | OK | OK | |||||||||
| lconway | macOS 12.6.5 Monterey / x86_64 | OK | OK | OK | OK | |||||||||
| Package: DeepBlueR |
| Version: 1.27.0 |
| Command: /home/biocbuild/bbs-3.18-bioc/R/bin/R CMD check --install=check:DeepBlueR.install-out.txt --library=/home/biocbuild/bbs-3.18-bioc/R/site-library --timings DeepBlueR_1.27.0.tar.gz |
| StartedAt: 2023-05-29 20:29:19 -0400 (Mon, 29 May 2023) |
| EndedAt: 2023-05-29 20:44:27 -0400 (Mon, 29 May 2023) |
| EllapsedTime: 907.7 seconds |
| RetCode: 0 |
| Status: OK |
| CheckDir: DeepBlueR.Rcheck |
| Warnings: 0 |
##############################################################################
##############################################################################
###
### Running command:
###
### /home/biocbuild/bbs-3.18-bioc/R/bin/R CMD check --install=check:DeepBlueR.install-out.txt --library=/home/biocbuild/bbs-3.18-bioc/R/site-library --timings DeepBlueR_1.27.0.tar.gz
###
##############################################################################
##############################################################################
* using log directory ‘/home/biocbuild/bbs-3.18-bioc/meat/DeepBlueR.Rcheck’
* using R version 4.3.0 RC (2023-04-18 r84287)
* using platform: x86_64-pc-linux-gnu (64-bit)
* R was compiled by
gcc (Ubuntu 11.3.0-1ubuntu1~22.04) 11.3.0
GNU Fortran (Ubuntu 11.3.0-1ubuntu1~22.04) 11.3.0
* running under: Ubuntu 22.04.2 LTS
* using session charset: UTF-8
* checking for file ‘DeepBlueR/DESCRIPTION’ ... OK
* checking extension type ... Package
* this is package ‘DeepBlueR’ version ‘1.27.0’
* checking package namespace information ... OK
* checking package dependencies ... OK
* checking if this is a source package ... OK
* checking if there is a namespace ... OK
* checking for hidden files and directories ... OK
* checking for portable file names ... OK
* checking for sufficient/correct file permissions ... OK
* checking whether package ‘DeepBlueR’ can be installed ... OK
* checking installed package size ... OK
* checking package directory ... OK
* checking ‘build’ directory ... OK
* checking DESCRIPTION meta-information ... OK
* checking top-level files ... OK
* checking for left-over files ... OK
* checking index information ... OK
* checking package subdirectories ... NOTE
Problems with news in ‘NEWS’:
Cannot process chunk/lines:
v0.99.0 Initial Bioconductor submission
Cannot process chunk/lines:
v1.0.0 Bioconductor 3.4 release
Cannot process chunk/lines:
v1.2.0 Bioconductor 3.5 release
Cannot process chunk/lines:
v1.4.0 Bioconductor 3.6 release
Cannot process chunk/lines:
v1.4.1 Bugfixes following changes in the DeepBlue API
* checking R files for non-ASCII characters ... OK
* checking R files for syntax errors ... OK
* checking whether the package can be loaded ... OK
* checking whether the package can be loaded with stated dependencies ... OK
* checking whether the package can be unloaded cleanly ... OK
* checking whether the namespace can be loaded with stated dependencies ... OK
* checking whether the namespace can be unloaded cleanly ... OK
* checking loading without being on the library search path ... OK
* checking startup messages can be suppressed ... OK
* checking dependencies in R code ... OK
* checking S3 generic/method consistency ... OK
* checking replacement functions ... OK
* checking foreign function calls ... OK
* checking R code for possible problems ... OK
* checking Rd files ... NOTE
prepare_Rd: deepblue_enrich_regions_fast.Rd:35-38: Dropping empty section \examples
* checking Rd metadata ... OK
* checking Rd cross-references ... OK
* checking for missing documentation entries ... OK
* checking for code/documentation mismatches ... OK
* checking Rd \usage sections ... OK
* checking Rd contents ... OK
* checking for unstated dependencies in examples ... OK
* checking files in ‘vignettes’ ... OK
* checking examples ... OK
* checking for unstated dependencies in vignettes ... OK
* checking package vignettes in ‘inst/doc’ ... OK
* checking running R code from vignettes ...
‘DeepBlueR.Rmd’ using ‘UTF-8’... OK
NONE
* checking re-building of vignette outputs ... OK
* checking PDF version of manual ... OK
* DONE
Status: 2 NOTEs
See
‘/home/biocbuild/bbs-3.18-bioc/meat/DeepBlueR.Rcheck/00check.log’
for details.
DeepBlueR.Rcheck/00install.out
############################################################################## ############################################################################## ### ### Running command: ### ### /home/biocbuild/bbs-3.18-bioc/R/bin/R CMD INSTALL DeepBlueR ### ############################################################################## ############################################################################## * installing to library ‘/home/biocbuild/bbs-3.18-bioc/R/site-library’ * installing *source* package ‘DeepBlueR’ ... ** using staged installation ** R ** demo ** inst ** byte-compile and prepare package for lazy loading Called method: deepblue_list_column_types Reported status was: okay Called method: deepblue_info Reported status was: okay ** help *** installing help indices ** building package indices ** installing vignettes ** testing if installed package can be loaded from temporary location ** testing if installed package can be loaded from final location ** testing if installed package keeps a record of temporary installation path * DONE (DeepBlueR)
DeepBlueR.Rcheck/DeepBlueR-Ex.timings
| name | user | system | elapsed | |
| deepblue_aggregate | 0.096 | 0.020 | 0.952 | |
| deepblue_batch_export_results | 1.295 | 0.248 | 4.387 | |
| deepblue_binning | 0.033 | 0.000 | 0.625 | |
| deepblue_cache_status | 0.004 | 0.000 | 0.004 | |
| deepblue_cancel_request | 0.023 | 0.000 | 0.312 | |
| deepblue_chromosomes | 0.083 | 0.000 | 0.390 | |
| deepblue_clear_cache | 0.002 | 0.000 | 0.002 | |
| deepblue_collection_experiments_count | 0.073 | 0.000 | 0.561 | |
| deepblue_commands | 0.113 | 0.008 | 1.414 | |
| deepblue_count_gene_ontology_terms | 0.102 | 0.000 | 0.398 | |
| deepblue_count_regions | 0.020 | 0.011 | 0.563 | |
| deepblue_coverage | 0.051 | 0.012 | 0.628 | |
| deepblue_delete_request_from_cache | 0.004 | 0.000 | 0.004 | |
| deepblue_diff | 0.155 | 0.040 | 0.780 | |
| deepblue_distinct_column_values | 0.038 | 0.008 | 0.628 | |
| deepblue_download_request_data | 0.243 | 0.016 | 1.662 | |
| deepblue_echo | 0.010 | 0.000 | 0.298 | |
| deepblue_enrich_regions_go_terms | 0.062 | 0.012 | 0.926 | |
| deepblue_enrich_regions_overlap | 0.444 | 0.064 | 4.873 | |
| deepblue_export_bed | 0.263 | 0.060 | 2.310 | |
| deepblue_export_meta_data | 0.212 | 0.012 | 0.634 | |
| deepblue_export_tab | 0.093 | 0.011 | 1.354 | |
| deepblue_extend | 0.028 | 0.008 | 0.600 | |
| deepblue_extract_ids | 0 | 0 | 0 | |
| deepblue_extract_names | 0 | 0 | 0 | |
| deepblue_faceting_experiments | 0.021 | 0.007 | 0.688 | |
| deepblue_filter_regions | 0.029 | 0.001 | 0.322 | |
| deepblue_find_motif | 0.032 | 0.000 | 0.321 | |
| deepblue_flank | 0.055 | 0.000 | 0.618 | |
| deepblue_get_biosource_children | 0.023 | 0.000 | 0.318 | |
| deepblue_get_biosource_parents | 0.019 | 0.000 | 0.309 | |
| deepblue_get_biosource_related | 0.028 | 0.000 | 0.326 | |
| deepblue_get_biosource_synonyms | 0.013 | 0.006 | 0.311 | |
| deepblue_get_experiments_by_query | 0.01 | 0.00 | 0.30 | |
| deepblue_get_regions | 0.026 | 0.000 | 0.585 | |
| deepblue_get_request_data | 0.042 | 0.000 | 1.175 | |
| deepblue_info | 0.034 | 0.000 | 0.328 | |
| deepblue_input_regions | 0.020 | 0.000 | 0.325 | |
| deepblue_intersection | 0.059 | 0.008 | 0.906 | |
| deepblue_is_biosource | 0.024 | 0.000 | 0.312 | |
| deepblue_liftover | 0.391 | 0.048 | 2.830 | |
| deepblue_list_annotations | 0.017 | 0.000 | 0.308 | |
| deepblue_list_biosources | 0.016 | 0.000 | 0.305 | |
| deepblue_list_cached_requests | 0.003 | 0.000 | 0.002 | |
| deepblue_list_column_types | 0.078 | 0.000 | 0.480 | |
| deepblue_list_epigenetic_marks | 0.328 | 0.012 | 1.636 | |
| deepblue_list_experiments | 0.099 | 0.012 | 0.763 | |
| deepblue_list_expressions | 0.097 | 0.000 | 0.615 | |
| deepblue_list_gene_models | 0.015 | 0.000 | 0.304 | |
| deepblue_list_genes | 0.292 | 0.000 | 2.034 | |
| deepblue_list_genomes | 0.016 | 0.000 | 0.313 | |
| deepblue_list_in_use | 0.369 | 0.080 | 2.092 | |
| deepblue_list_projects | 0.012 | 0.008 | 0.313 | |
| deepblue_list_recent_experiments | 0.029 | 0.004 | 0.326 | |
| deepblue_list_requests | 0.022 | 0.000 | 0.274 | |
| deepblue_list_samples | 0.152 | 0.008 | 1.046 | |
| deepblue_list_similar_biosources | 0.016 | 0.004 | 0.472 | |
| deepblue_list_similar_epigenetic_marks | 0.015 | 0.004 | 0.320 | |
| deepblue_list_similar_experiments | 0.015 | 0.004 | 0.848 | |
| deepblue_list_similar_genomes | 0.010 | 0.004 | 0.302 | |
| deepblue_list_similar_projects | 0.019 | 0.004 | 0.331 | |
| deepblue_list_similar_techniques | 0.028 | 0.004 | 0.327 | |
| deepblue_list_techniques | 0.043 | 0.004 | 0.336 | |
| deepblue_merge_queries | 0.095 | 0.004 | 1.056 | |
| deepblue_meta_data_to_table | 0.260 | 0.036 | 0.972 | |
| deepblue_name_to_id | 0.043 | 0.019 | 1.048 | |
| deepblue_overlap | 0.075 | 0.008 | 0.932 | |
| deepblue_preview_experiment | 0.019 | 0.004 | 0.322 | |
| deepblue_query_cache | 0.100 | 0.012 | 1.181 | |
| deepblue_query_experiment_type | 0.078 | 0.001 | 0.676 | |
| deepblue_reset_options | 0.001 | 0.000 | 0.000 | |
| deepblue_score_matrix | 0.046 | 0.004 | 0.665 | |
| deepblue_search | 0.039 | 0.004 | 0.649 | |
| deepblue_select_annotations | 0.016 | 0.004 | 0.315 | |
| deepblue_select_column | 0.313 | 0.012 | 1.649 | |
| deepblue_select_experiments | 0.015 | 0.000 | 0.310 | |
| deepblue_select_expressions | 0.027 | 0.000 | 0.280 | |
| deepblue_select_genes | 0.042 | 0.000 | 0.455 | |
| deepblue_select_regions | 0.037 | 0.012 | 0.342 | |
| deepblue_tiling_regions | 0.026 | 0.000 | 0.318 | |