| Back to Multiple platform build/check report for BioC 3.18: simplified long | 
 | 
This page was generated on 2024-03-04 11:37:16 -0500 (Mon, 04 Mar 2024).
| Hostname | OS | Arch (*) | R version | Installed pkgs | 
|---|---|---|---|---|
| nebbiolo2 | Linux (Ubuntu 22.04.3 LTS) | x86_64 | 4.3.2 Patched (2023-11-13 r85521) -- "Eye Holes" | 4692 | 
| palomino4 | Windows Server 2022 Datacenter | x64 | 4.3.2 (2023-10-31 ucrt) -- "Eye Holes" | 4445 | 
| lconway | macOS 12.7.1 Monterey | x86_64 | 4.3.2 Patched (2023-11-01 r85457) -- "Eye Holes" | 4466 | 
| Click on any hostname to see more info about the system (e.g. compilers) (*) as reported by 'uname -p', except on Windows and Mac OS X | ||||
| Package 526/2266 | Hostname | OS / Arch | INSTALL | BUILD | CHECK | BUILD BIN | ||||||||
| DEGseq 1.56.1  (landing page) Likun Wang 
 | nebbiolo2 | Linux (Ubuntu 22.04.3 LTS) / x86_64 | OK | OK | WARNINGS |  | ||||||||
| palomino4 | Windows Server 2022 Datacenter / x64 | OK | OK | OK | OK |  | ||||||||
| lconway | macOS 12.7.1 Monterey / x86_64 | OK | OK | WARNINGS | OK |  | ||||||||
| kjohnson1 | macOS 13.6.1 Ventura / arm64 | see weekly results here | ||||||||||||
| To the developers/maintainers of the DEGseq package: - Allow up to 24 hours (and sometimes 48 hours) for your latest push to git@git.bioconductor.org:packages/DEGseq.git to reflect on this report. See Troubleshooting Build Report for more information. - Use the following Renviron settings to reproduce errors and warnings. - If 'R CMD check' started to fail recently on the Linux builder(s) over a missing dependency, add the missing dependency to 'Suggests:' in your DESCRIPTION file. See Renviron.bioc for more information. | 
| Package: DEGseq | 
| Version: 1.56.1 | 
| Command: rm -rf DEGseq.buildbin-libdir && mkdir DEGseq.buildbin-libdir && /Users/biocbuild/BBS/utils/build-universal.sh DEGseq_1.56.1.tar.gz /Library/Frameworks/R.framework/Resources/bin/R DEGseq.buildbin-libdir | 
| StartedAt: 2024-03-04 00:37:27 -0500 (Mon, 04 Mar 2024) | 
| EndedAt: 2024-03-04 00:37:47 -0500 (Mon, 04 Mar 2024) | 
| EllapsedTime: 20.4 seconds | 
| RetCode: 0 | 
| Status: OK | 
| PackageFile: DEGseq_1.56.1.tgz | 
| PackageFileSize: 2.249 MiB | 
##############################################################################
##############################################################################
###
### Running command:
###
###   rm -rf DEGseq.buildbin-libdir && mkdir DEGseq.buildbin-libdir && /Users/biocbuild/BBS/utils/build-universal.sh DEGseq_1.56.1.tar.gz /Library/Frameworks/R.framework/Resources/bin/R DEGseq.buildbin-libdir
###
##############################################################################
##############################################################################
>>>>>>> 
>>>>>>> INSTALLATION WITH 'R CMD INSTALL --preclean --no-multiarch --library=DEGseq.buildbin-libdir DEGseq_1.56.1.tar.gz'
>>>>>>> 
* installing *source* package ‘DEGseq’ ...
** using staged installation
** libs
using C++ compiler: ‘Apple clang version 14.0.0 (clang-1400.0.29.202)’
using SDK: ‘MacOSX11.3.sdk’
clang++ -arch x86_64 -std=gnu++17 -I"/Library/Frameworks/R.framework/Resources/include" -DNDEBUG   -I/opt/R/x86_64/include    -fPIC  -falign-functions=64 -Wall -g -O2  -c getGeneExp.cpp -o getGeneExp.o
getGeneExp.cpp:670:9: warning: variable 'total_reads' set but not used [-Wunused-but-set-variable]
    int total_reads = 0;
        ^
getGeneExp.cpp:697:9: warning: variable 'total_reads' set but not used [-Wunused-but-set-variable]
    int total_reads = 0;
        ^
2 warnings generated.
clang++ -arch x86_64 -std=gnu++17 -dynamiclib -Wl,-headerpad_max_install_names -undefined dynamic_lookup -L/Library/Frameworks/R.framework/Resources/lib -L/opt/R/x86_64/lib -o DEGseq.so getGeneExp.o -F/Library/Frameworks/R.framework/.. -framework R -Wl,-framework -Wl,CoreFoundation
installing to /Users/biocbuild/bbs-3.18-bioc/meat/DEGseq.buildbin-libdir/00LOCK-DEGseq/00new/DEGseq/libs
** R
** inst
** byte-compile and prepare package for lazy loading
** help
*** installing help indices
** building package indices
** installing vignettes
** testing if installed package can be loaded from temporary location
** checking absolute paths in shared objects and dynamic libraries
** testing if installed package can be loaded from final location
** testing if installed package keeps a record of temporary installation path
* DONE (DEGseq)
>>>>>>> 
>>>>>>> FIXING PATHS TO DYNAMIC LIBRARIES FOR DEGseq.buildbin-libdir/DEGseq/libs/DEGseq.so
>>>>>>> 
>>>>>>> Paths before fix:
DEGseq.buildbin-libdir/DEGseq/libs/DEGseq.so:
	DEGseq.so (compatibility version 0.0.0, current version 0.0.0)
	/Library/Frameworks/R.framework/Versions/4.3-x86_64/Resources/lib/libR.dylib (compatibility version 4.3.0, current version 4.3.2)
	/System/Library/Frameworks/CoreFoundation.framework/Versions/A/CoreFoundation (compatibility version 150.0.0, current version 1775.118.101)
	/usr/lib/libc++.1.dylib (compatibility version 1.0.0, current version 905.6.0)
	/usr/lib/libSystem.B.dylib (compatibility version 1.0.0, current version 1292.100.5)
>>>>>>> Fix with install_name_tool:
install_name_tool -change "/usr/local/lib/libgcc_s.1.1.dylib" "/Library/Frameworks/R.framework/Versions/4.3-x86_64/Resources/lib/libgcc_s.1.1.dylib" "DEGseq.buildbin-libdir/DEGseq/libs/DEGseq.so"
install_name_tool -change "/usr/local/lib/libgfortran.5.dylib" "/Library/Frameworks/R.framework/Versions/4.3-x86_64/Resources/lib/libgfortran.5.dylib" "DEGseq.buildbin-libdir/DEGseq/libs/DEGseq.so"
install_name_tool -change "/usr/local/lib/libquadmath.0.dylib" "/Library/Frameworks/R.framework/Versions/4.3-x86_64/Resources/lib/libquadmath.0.dylib" "DEGseq.buildbin-libdir/DEGseq/libs/DEGseq.so"
>>>>>>> Paths after fix:
DEGseq.buildbin-libdir/DEGseq/libs/DEGseq.so:
	DEGseq.so (compatibility version 0.0.0, current version 0.0.0)
	/Library/Frameworks/R.framework/Versions/4.3-x86_64/Resources/lib/libR.dylib (compatibility version 4.3.0, current version 4.3.2)
	/System/Library/Frameworks/CoreFoundation.framework/Versions/A/CoreFoundation (compatibility version 150.0.0, current version 1775.118.101)
	/usr/lib/libc++.1.dylib (compatibility version 1.0.0, current version 905.6.0)
	/usr/lib/libSystem.B.dylib (compatibility version 1.0.0, current version 1292.100.5)