| Back to Multiple platform build/check report for BioC 3.18: simplified long | 
 | 
This page was generated on 2024-03-04 11:37:14 -0500 (Mon, 04 Mar 2024).
| Hostname | OS | Arch (*) | R version | Installed pkgs | 
|---|---|---|---|---|
| nebbiolo2 | Linux (Ubuntu 22.04.3 LTS) | x86_64 | 4.3.2 Patched (2023-11-13 r85521) -- "Eye Holes" | 4692 | 
| palomino4 | Windows Server 2022 Datacenter | x64 | 4.3.2 (2023-10-31 ucrt) -- "Eye Holes" | 4445 | 
| lconway | macOS 12.7.1 Monterey | x86_64 | 4.3.2 Patched (2023-11-01 r85457) -- "Eye Holes" | 4466 | 
| Click on any hostname to see more info about the system (e.g. compilers) (*) as reported by 'uname -p', except on Windows and Mac OS X | ||||
| Package 433/2266 | Hostname | OS / Arch | INSTALL | BUILD | CHECK | BUILD BIN | ||||||||
| CopyNumberPlots 1.18.0  (landing page) Bernat Gel 
 | nebbiolo2 | Linux (Ubuntu 22.04.3 LTS) / x86_64 | OK | OK | OK |  | ||||||||
| palomino4 | Windows Server 2022 Datacenter / x64 | OK | OK | OK | OK |  | ||||||||
| lconway | macOS 12.7.1 Monterey / x86_64 | OK | OK | OK | OK |  | ||||||||
| kjohnson1 | macOS 13.6.1 Ventura / arm64 | see weekly results here | ||||||||||||
| To the developers/maintainers of the CopyNumberPlots package: - Allow up to 24 hours (and sometimes 48 hours) for your latest push to git@git.bioconductor.org:packages/CopyNumberPlots.git to reflect on this report. See Troubleshooting Build Report for more information. - Use the following Renviron settings to reproduce errors and warnings. - If 'R CMD check' started to fail recently on the Linux builder(s) over a missing dependency, add the missing dependency to 'Suggests:' in your DESCRIPTION file. See Renviron.bioc for more information. | 
| Package: CopyNumberPlots | 
| Version: 1.18.0 | 
| Command: /Library/Frameworks/R.framework/Resources/bin/R CMD check --install=check:CopyNumberPlots.install-out.txt --library=/Library/Frameworks/R.framework/Resources/library --no-vignettes --timings CopyNumberPlots_1.18.0.tar.gz | 
| StartedAt: 2024-03-03 19:50:58 -0500 (Sun, 03 Mar 2024) | 
| EndedAt: 2024-03-03 19:57:21 -0500 (Sun, 03 Mar 2024) | 
| EllapsedTime: 383.6 seconds | 
| RetCode: 0 | 
| Status: OK | 
| CheckDir: CopyNumberPlots.Rcheck | 
| Warnings: 0 | 
##############################################################################
##############################################################################
###
### Running command:
###
###   /Library/Frameworks/R.framework/Resources/bin/R CMD check --install=check:CopyNumberPlots.install-out.txt --library=/Library/Frameworks/R.framework/Resources/library --no-vignettes --timings CopyNumberPlots_1.18.0.tar.gz
###
##############################################################################
##############################################################################
* using log directory ‘/Users/biocbuild/bbs-3.18-bioc/meat/CopyNumberPlots.Rcheck’
* using R version 4.3.2 Patched (2023-11-01 r85457)
* using platform: x86_64-apple-darwin20 (64-bit)
* R was compiled by
    Apple clang version 14.0.3 (clang-1403.0.22.14.1)
    GNU Fortran (GCC) 12.2.0
* running under: macOS Monterey 12.7.1
* using session charset: UTF-8
* using option ‘--no-vignettes’
* checking for file ‘CopyNumberPlots/DESCRIPTION’ ... OK
* checking extension type ... Package
* this is package ‘CopyNumberPlots’ version ‘1.18.0’
* package encoding: UTF-8
* checking package namespace information ... OK
* checking package dependencies ... OK
* checking if this is a source package ... OK
* checking if there is a namespace ... OK
* checking for hidden files and directories ... OK
* checking for portable file names ... OK
* checking for sufficient/correct file permissions ... OK
* checking whether package ‘CopyNumberPlots’ can be installed ... OK
* checking installed package size ... OK
* checking package directory ... OK
* checking ‘build’ directory ... OK
* checking DESCRIPTION meta-information ... OK
* checking top-level files ... OK
* checking for left-over files ... OK
* checking index information ... OK
* checking package subdirectories ... OK
* checking R files for non-ASCII characters ... OK
* checking R files for syntax errors ... OK
* checking whether the package can be loaded ... OK
* checking whether the package can be loaded with stated dependencies ... OK
* checking whether the package can be unloaded cleanly ... OK
* checking whether the namespace can be loaded with stated dependencies ... OK
* checking whether the namespace can be unloaded cleanly ... OK
* checking dependencies in R code ... OK
* checking S3 generic/method consistency ... OK
* checking replacement functions ... OK
* checking foreign function calls ... OK
* checking R code for possible problems ... OK
* checking Rd files ... OK
* checking Rd metadata ... OK
* checking Rd cross-references ... OK
* checking for missing documentation entries ... OK
* checking for code/documentation mismatches ... OK
* checking Rd \usage sections ... OK
* checking Rd contents ... OK
* checking for unstated dependencies in examples ... OK
* checking files in ‘vignettes’ ... OK
* checking examples ... OK
* checking for unstated dependencies in ‘tests’ ... OK
* checking tests ...
  Running ‘testthat.R’
 OK
* checking for unstated dependencies in vignettes ... OK
* checking package vignettes in ‘inst/doc’ ... OK
* checking running R code from vignettes ... SKIPPED
* checking re-building of vignette outputs ... SKIPPED
* checking PDF version of manual ... OK
* DONE
Status: OK
CopyNumberPlots.Rcheck/00install.out
############################################################################## ############################################################################## ### ### Running command: ### ### /Library/Frameworks/R.framework/Resources/bin/R CMD INSTALL CopyNumberPlots ### ############################################################################## ############################################################################## * installing to library ‘/Library/Frameworks/R.framework/Versions/4.3-x86_64/Resources/library’ * installing *source* package ‘CopyNumberPlots’ ... ** using staged installation ** R ** inst ** byte-compile and prepare package for lazy loading ** help *** installing help indices ** building package indices ** installing vignettes ** testing if installed package can be loaded from temporary location ** testing if installed package can be loaded from final location ** testing if installed package keeps a record of temporary installation path * DONE (CopyNumberPlots)
CopyNumberPlots.Rcheck/tests/testthat.Rout
R version 4.3.2 Patched (2023-11-01 r85457) -- "Eye Holes"
Copyright (C) 2023 The R Foundation for Statistical Computing
Platform: x86_64-apple-darwin20 (64-bit)
R is free software and comes with ABSOLUTELY NO WARRANTY.
You are welcome to redistribute it under certain conditions.
Type 'license()' or 'licence()' for distribution details.
R is a collaborative project with many contributors.
Type 'contributors()' for more information and
'citation()' on how to cite R or R packages in publications.
Type 'demo()' for some demos, 'help()' for on-line help, or
'help.start()' for an HTML browser interface to help.
Type 'q()' to quit R.
> library(testthat)
> library(CopyNumberPlots)
Loading required package: karyoploteR
Loading required package: regioneR
Loading required package: GenomicRanges
Loading required package: stats4
Loading required package: BiocGenerics
Attaching package: 'BiocGenerics'
The following objects are masked from 'package:stats':
    IQR, mad, sd, var, xtabs
The following objects are masked from 'package:base':
    Filter, Find, Map, Position, Reduce, anyDuplicated, aperm, append,
    as.data.frame, basename, cbind, colnames, dirname, do.call,
    duplicated, eval, evalq, get, grep, grepl, intersect, is.unsorted,
    lapply, mapply, match, mget, order, paste, pmax, pmax.int, pmin,
    pmin.int, rank, rbind, rownames, sapply, setdiff, sort, table,
    tapply, union, unique, unsplit, which.max, which.min
Loading required package: S4Vectors
Attaching package: 'S4Vectors'
The following object is masked from 'package:utils':
    findMatches
The following objects are masked from 'package:base':
    I, expand.grid, unname
Loading required package: IRanges
Loading required package: GenomeInfoDb
> 
> test_check("CopyNumberPlots")
[ FAIL 0 | WARN 0 | SKIP 0 | PASS 26 ]
> 
> proc.time()
   user  system elapsed 
 17.924   1.040  19.203 
CopyNumberPlots.Rcheck/CopyNumberPlots-Ex.timings
| name | user | system | elapsed | |
| EnsemblStyle | 0.529 | 0.028 | 0.564 | |
| UCSCStyle | 0.349 | 0.024 | 0.376 | |
| Ztree2Hclust | 0.005 | 0.001 | 0.006 | |
| colByCopyNumber | 0.934 | 0.038 | 0.981 | |
| computeHclustPlotOrder | 0.026 | 0.004 | 0.032 | |
| getBAFColumn | 0.002 | 0.001 | 0.004 | |
| getChrColumn | 0.002 | 0.000 | 0.002 | |
| getColumn | 0.003 | 0.000 | 0.005 | |
| getCopyNumberColors | 0.000 | 0.001 | 0.002 | |
| getCopyNumberColumn | 0.001 | 0.000 | 0.002 | |
| getEndColumn | 0.001 | 0.000 | 0.002 | |
| getIDColumn | 0.002 | 0.001 | 0.002 | |
| getLOHColumn | 0.002 | 0.000 | 0.002 | |
| getLRRColumn | 0.002 | 0.001 | 0.002 | |
| getPosColumn | 0.002 | 0.001 | 0.002 | |
| getSegmentValueColumn | 0.002 | 0.000 | 0.002 | |
| getStartColumn | 0.002 | 0.000 | 0.002 | |
| loadCopyNumberCalls | 0.023 | 0.000 | 0.025 | |
| loadCopyNumberCallsCNVkit | 0.066 | 0.005 | 0.073 | |
| loadCopyNumberCallsCnmops | 0.145 | 0.003 | 0.151 | |
| loadCopyNumberCallsDECoN | 0.073 | 0.002 | 0.077 | |
| loadCopyNumberCallsDNAcopy | 0.809 | 0.017 | 0.833 | |
| loadCopyNumberCallsPanelcnmops | 1.452 | 0.023 | 1.488 | |
| loadCopyNumberCallsSeg | 0.019 | 0.001 | 0.020 | |
| loadCopyNumberCallspennCNV | 0.042 | 0.002 | 0.045 | |
| loadSNPData | 0.051 | 0.002 | 0.054 | |
| loadSNPDataDNAcopy | 0.703 | 0.009 | 0.716 | |
| loadSNPDataFromVCF | 0.001 | 0.001 | 0.002 | |
| plotBAF | 1.118 | 0.073 | 1.201 | |
| plotCopyNumberCalls | 0.207 | 0.025 | 0.235 | |
| plotCopyNumberCallsAsLines | 0.202 | 0.029 | 0.235 | |
| plotCopyNumberSummary | 0.248 | 0.023 | 0.275 | |
| plotLRR | 0.414 | 0.008 | 0.429 | |
| plotSingleCellCopyNumberCalls | 0.061 | 0.002 | 0.064 | |
| plotSingleCellCopyNumberSummary | 0.038 | 0.001 | 0.040 | |
| prepareLabels | 0.076 | 0.000 | 0.076 | |
| readHDF5Ztree | 0.000 | 0.000 | 0.001 | |
| removeNAs | 0.187 | 0.003 | 0.191 | |
| transformChr | 0.005 | 0.001 | 0.006 | |