| Back to Multiple platform build/check report for BioC 3.18: simplified long |
|
This page was generated on 2024-04-17 11:35:51 -0400 (Wed, 17 Apr 2024).
| Hostname | OS | Arch (*) | R version | Installed pkgs |
|---|---|---|---|---|
| nebbiolo2 | Linux (Ubuntu 22.04.3 LTS) | x86_64 | 4.3.3 (2024-02-29) -- "Angel Food Cake" | 4676 |
| palomino4 | Windows Server 2022 Datacenter | x64 | 4.3.3 (2024-02-29 ucrt) -- "Angel Food Cake" | 4414 |
| merida1 | macOS 12.7.1 Monterey | x86_64 | 4.3.3 (2024-02-29) -- "Angel Food Cake" | 4437 |
| Click on any hostname to see more info about the system (e.g. compilers) (*) as reported by 'uname -p', except on Windows and Mac OS X | ||||
| Package 367/2266 | Hostname | OS / Arch | INSTALL | BUILD | CHECK | BUILD BIN | ||||||||
| CluMSID 1.18.0 (landing page) Tobias Depke
| nebbiolo2 | Linux (Ubuntu 22.04.3 LTS) / x86_64 | OK | OK | WARNINGS | |||||||||
| palomino4 | Windows Server 2022 Datacenter / x64 | OK | OK | WARNINGS | OK | |||||||||
| merida1 | macOS 12.7.1 Monterey / x86_64 | OK | OK | WARNINGS | OK | |||||||||
| kjohnson1 | macOS 13.6.1 Ventura / arm64 | see weekly results here | ||||||||||||
|
To the developers/maintainers of the CluMSID package: - Allow up to 24 hours (and sometimes 48 hours) for your latest push to git@git.bioconductor.org:packages/CluMSID.git to reflect on this report. See Troubleshooting Build Report for more information. - Use the following Renviron settings to reproduce errors and warnings. - If 'R CMD check' started to fail recently on the Linux builder(s) over a missing dependency, add the missing dependency to 'Suggests:' in your DESCRIPTION file. See Renviron.bioc for more information. |
| Package: CluMSID |
| Version: 1.18.0 |
| Command: /home/biocbuild/bbs-3.18-bioc/R/bin/R CMD check --install=check:CluMSID.install-out.txt --library=/home/biocbuild/bbs-3.18-bioc/R/site-library --timings CluMSID_1.18.0.tar.gz |
| StartedAt: 2024-04-15 21:17:31 -0400 (Mon, 15 Apr 2024) |
| EndedAt: 2024-04-15 21:31:13 -0400 (Mon, 15 Apr 2024) |
| EllapsedTime: 822.3 seconds |
| RetCode: 0 |
| Status: WARNINGS |
| CheckDir: CluMSID.Rcheck |
| Warnings: 1 |
##############################################################################
##############################################################################
###
### Running command:
###
### /home/biocbuild/bbs-3.18-bioc/R/bin/R CMD check --install=check:CluMSID.install-out.txt --library=/home/biocbuild/bbs-3.18-bioc/R/site-library --timings CluMSID_1.18.0.tar.gz
###
##############################################################################
##############################################################################
* using log directory ‘/home/biocbuild/bbs-3.18-bioc/meat/CluMSID.Rcheck’
* using R version 4.3.3 (2024-02-29)
* using platform: x86_64-pc-linux-gnu (64-bit)
* R was compiled by
gcc (Ubuntu 11.4.0-1ubuntu1~22.04) 11.4.0
GNU Fortran (Ubuntu 11.4.0-1ubuntu1~22.04) 11.4.0
* running under: Ubuntu 22.04.4 LTS
* using session charset: UTF-8
* checking for file ‘CluMSID/DESCRIPTION’ ... OK
* checking extension type ... Package
* this is package ‘CluMSID’ version ‘1.18.0’
* package encoding: UTF-8
* checking package namespace information ... OK
* checking package dependencies ... OK
* checking if this is a source package ... OK
* checking if there is a namespace ... OK
* checking for hidden files and directories ... OK
* checking for portable file names ... OK
* checking for sufficient/correct file permissions ... OK
* checking whether package ‘CluMSID’ can be installed ... WARNING
Found the following significant warnings:
Warning: replacing previous import ‘dbscan::as.dendrogram’ by ‘stats::as.dendrogram’ when loading ‘CluMSID’
See ‘/home/biocbuild/bbs-3.18-bioc/meat/CluMSID.Rcheck/00install.out’ for details.
* checking installed package size ... OK
* checking package directory ... OK
* checking ‘build’ directory ... OK
* checking DESCRIPTION meta-information ... OK
* checking top-level files ... OK
* checking for left-over files ... OK
* checking index information ... OK
* checking package subdirectories ... OK
* checking R files for non-ASCII characters ... OK
* checking R files for syntax errors ... OK
* checking whether the package can be loaded ... OK
* checking whether the package can be loaded with stated dependencies ... OK
* checking whether the package can be unloaded cleanly ... OK
* checking whether the namespace can be loaded with stated dependencies ... OK
* checking whether the namespace can be unloaded cleanly ... OK
* checking loading without being on the library search path ... OK
* checking dependencies in R code ... OK
* checking S3 generic/method consistency ... OK
* checking replacement functions ... OK
* checking foreign function calls ... OK
* checking R code for possible problems ... OK
* checking Rd files ... OK
* checking Rd metadata ... OK
* checking Rd cross-references ... OK
* checking for missing documentation entries ... OK
* checking for code/documentation mismatches ... OK
* checking Rd \usage sections ... OK
* checking Rd contents ... OK
* checking for unstated dependencies in examples ... OK
* checking files in ‘vignettes’ ... OK
* checking examples ... OK
Examples with CPU (user + system) or elapsed time > 5s
user system elapsed
mergeMS2spectra 17.801 0.292 18.094
extractMS2spectra 14.637 0.228 14.876
splitPolarities 14.392 0.116 14.508
* checking for unstated dependencies in ‘tests’ ... OK
* checking tests ...
Running ‘testthat.R’
OK
* checking for unstated dependencies in vignettes ... OK
* checking package vignettes in ‘inst/doc’ ... OK
* checking running R code from vignettes ...
‘CluMSID_DI-MSMS.Rmd’ using ‘UTF-8’... OK
‘CluMSID_GC-EI-MS.Rmd’ using ‘UTF-8’... OK
‘CluMSID_MTBLS.Rmd’ using ‘UTF-8’... OK
‘CluMSID_lowres-LC-MSMS.Rmd’ using ‘UTF-8’... OK
‘CluMSID_tutorial.Rmd’ using ‘UTF-8’... OK
OK
* checking re-building of vignette outputs ... OK
* checking PDF version of manual ... OK
* DONE
Status: 1 WARNING
See
‘/home/biocbuild/bbs-3.18-bioc/meat/CluMSID.Rcheck/00check.log’
for details.
CluMSID.Rcheck/00install.out
############################################################################## ############################################################################## ### ### Running command: ### ### /home/biocbuild/bbs-3.18-bioc/R/bin/R CMD INSTALL CluMSID ### ############################################################################## ############################################################################## * installing to library ‘/home/biocbuild/bbs-3.18-bioc/R/site-library’ * installing *source* package ‘CluMSID’ ... ** using staged installation ** R ** byte-compile and prepare package for lazy loading Warning: replacing previous import ‘dbscan::as.dendrogram’ by ‘stats::as.dendrogram’ when loading ‘CluMSID’ ** help *** installing help indices ** building package indices ** installing vignettes ** testing if installed package can be loaded from temporary location Warning: replacing previous import ‘dbscan::as.dendrogram’ by ‘stats::as.dendrogram’ when loading ‘CluMSID’ ** testing if installed package can be loaded from final location Warning: replacing previous import ‘dbscan::as.dendrogram’ by ‘stats::as.dendrogram’ when loading ‘CluMSID’ ** testing if installed package keeps a record of temporary installation path * DONE (CluMSID)
CluMSID.Rcheck/tests/testthat.Rout
R version 4.3.3 (2024-02-29) -- "Angel Food Cake"
Copyright (C) 2024 The R Foundation for Statistical Computing
Platform: x86_64-pc-linux-gnu (64-bit)
R is free software and comes with ABSOLUTELY NO WARRANTY.
You are welcome to redistribute it under certain conditions.
Type 'license()' or 'licence()' for distribution details.
R is a collaborative project with many contributors.
Type 'contributors()' for more information and
'citation()' on how to cite R or R packages in publications.
Type 'demo()' for some demos, 'help()' for on-line help, or
'help.start()' for an HTML browser interface to help.
Type 'q()' to quit R.
> library(testthat)
> library(CluMSID)
Warning message:
replacing previous import 'dbscan::as.dendrogram' by 'stats::as.dendrogram' when loading 'CluMSID'
>
> test_check("CluMSID")
[ FAIL 0 | WARN 0 | SKIP 0 | PASS 16 ]
>
> proc.time()
user system elapsed
10.079 0.355 10.422
CluMSID.Rcheck/CluMSID-Ex.timings
| name | user | system | elapsed | |
| Featurelist | 0.011 | 0.001 | 0.011 | |
| HCplot | 0.172 | 0.028 | 0.199 | |
| HCtbl | 0.011 | 0.000 | 0.010 | |
| MDSplot | 0.484 | 0.052 | 0.535 | |
| OPTICSplot | 0.026 | 0.000 | 0.026 | |
| OPTICStbl | 0.009 | 0.004 | 0.014 | |
| accessors | 0.048 | 0.004 | 0.051 | |
| addAnnotations | 0.054 | 0.036 | 0.089 | |
| as.MS2spectrum | 0.124 | 0.016 | 0.141 | |
| cossim | 0.015 | 0.000 | 0.015 | |
| distanceMatrix | 0.454 | 0.048 | 0.502 | |
| extractMS2spectra | 14.637 | 0.228 | 14.876 | |
| extractPseudospectra | 1.294 | 0.371 | 1.379 | |
| findFragment | 0.022 | 0.000 | 0.022 | |
| findNL | 0.019 | 0.004 | 0.023 | |
| getSimilarities | 2.210 | 0.048 | 2.258 | |
| getSpectrum | 0.017 | 0.002 | 0.018 | |
| mergeMS2spectra | 17.801 | 0.292 | 18.094 | |
| networkplot | 0.564 | 0.036 | 0.600 | |
| specplot | 0.009 | 0.000 | 0.009 | |
| splitPolarities | 14.392 | 0.116 | 14.508 | |
| writeFeaturelist | 0.013 | 0.000 | 0.013 | |