| Back to Multiple platform build/check report for BioC 3.18: simplified long |
|
This page was generated on 2024-04-17 11:37:35 -0400 (Wed, 17 Apr 2024).
| Hostname | OS | Arch (*) | R version | Installed pkgs |
|---|---|---|---|---|
| nebbiolo2 | Linux (Ubuntu 22.04.3 LTS) | x86_64 | 4.3.3 (2024-02-29) -- "Angel Food Cake" | 4676 |
| palomino4 | Windows Server 2022 Datacenter | x64 | 4.3.3 (2024-02-29 ucrt) -- "Angel Food Cake" | 4414 |
| merida1 | macOS 12.7.1 Monterey | x86_64 | 4.3.3 (2024-02-29) -- "Angel Food Cake" | 4437 |
| Click on any hostname to see more info about the system (e.g. compilers) (*) as reported by 'uname -p', except on Windows and Mac OS X | ||||
| Package 349/2266 | Hostname | OS / Arch | INSTALL | BUILD | CHECK | BUILD BIN | ||||||||
| CIMICE 1.10.0 (landing page) Nicolò Rossi
| nebbiolo2 | Linux (Ubuntu 22.04.3 LTS) / x86_64 | OK | OK | OK | |||||||||
| palomino4 | Windows Server 2022 Datacenter / x64 | OK | OK | OK | OK | |||||||||
| merida1 | macOS 12.7.1 Monterey / x86_64 | OK | OK | OK | OK | |||||||||
| kjohnson1 | macOS 13.6.1 Ventura / arm64 | see weekly results here | ||||||||||||
|
To the developers/maintainers of the CIMICE package: - Allow up to 24 hours (and sometimes 48 hours) for your latest push to git@git.bioconductor.org:packages/CIMICE.git to reflect on this report. See Troubleshooting Build Report for more information. - Use the following Renviron settings to reproduce errors and warnings. - If 'R CMD check' started to fail recently on the Linux builder(s) over a missing dependency, add the missing dependency to 'Suggests:' in your DESCRIPTION file. See Renviron.bioc for more information. |
| Package: CIMICE |
| Version: 1.10.0 |
| Command: /Library/Frameworks/R.framework/Resources/bin/R CMD check --install=check:CIMICE.install-out.txt --library=/Library/Frameworks/R.framework/Resources/library --no-vignettes --timings CIMICE_1.10.0.tar.gz |
| StartedAt: 2024-04-16 00:42:29 -0400 (Tue, 16 Apr 2024) |
| EndedAt: 2024-04-16 00:44:57 -0400 (Tue, 16 Apr 2024) |
| EllapsedTime: 148.2 seconds |
| RetCode: 0 |
| Status: OK |
| CheckDir: CIMICE.Rcheck |
| Warnings: 0 |
##############################################################################
##############################################################################
###
### Running command:
###
### /Library/Frameworks/R.framework/Resources/bin/R CMD check --install=check:CIMICE.install-out.txt --library=/Library/Frameworks/R.framework/Resources/library --no-vignettes --timings CIMICE_1.10.0.tar.gz
###
##############################################################################
##############################################################################
* using log directory ‘/Users/biocbuild/bbs-3.18-bioc/meat/CIMICE.Rcheck’
* using R version 4.3.3 (2024-02-29)
* using platform: x86_64-apple-darwin20 (64-bit)
* R was compiled by
Apple clang version 14.0.0 (clang-1400.0.29.202)
GNU Fortran (GCC) 12.2.0
* running under: macOS Monterey 12.7.1
* using session charset: UTF-8
* using option ‘--no-vignettes’
* checking for file ‘CIMICE/DESCRIPTION’ ... OK
* checking extension type ... Package
* this is package ‘CIMICE’ version ‘1.10.0’
* package encoding: UTF-8
* checking package namespace information ... OK
* checking package dependencies ... OK
* checking if this is a source package ... OK
* checking if there is a namespace ... OK
* checking for hidden files and directories ... NOTE
Found the following hidden files and directories:
.git.bfg-report
These were most likely included in error. See section ‘Package
structure’ in the ‘Writing R Extensions’ manual.
* checking for portable file names ... OK
* checking for sufficient/correct file permissions ... OK
* checking whether package ‘CIMICE’ can be installed ... OK
* checking installed package size ... OK
* checking package directory ... OK
* checking ‘build’ directory ... OK
* checking DESCRIPTION meta-information ... OK
* checking top-level files ... OK
* checking for left-over files ... OK
* checking index information ... OK
* checking package subdirectories ... OK
* checking R files for non-ASCII characters ... OK
* checking R files for syntax errors ... OK
* checking whether the package can be loaded ... OK
* checking whether the package can be loaded with stated dependencies ... OK
* checking whether the package can be unloaded cleanly ... OK
* checking whether the namespace can be loaded with stated dependencies ... OK
* checking whether the namespace can be unloaded cleanly ... OK
* checking dependencies in R code ... OK
* checking S3 generic/method consistency ... OK
* checking replacement functions ... OK
* checking foreign function calls ... OK
* checking R code for possible problems ... OK
* checking Rd files ... OK
* checking Rd metadata ... OK
* checking Rd cross-references ... OK
* checking for missing documentation entries ... OK
* checking for code/documentation mismatches ... OK
* checking Rd \usage sections ... OK
* checking Rd contents ... OK
* checking for unstated dependencies in examples ... OK
* checking files in ‘vignettes’ ... OK
* checking examples ... OK
* checking for unstated dependencies in ‘tests’ ... OK
* checking tests ...
Running ‘testthat.R’
OK
* checking for unstated dependencies in vignettes ... OK
* checking package vignettes in ‘inst/doc’ ... OK
* checking running R code from vignettes ... SKIPPED
* checking re-building of vignette outputs ... SKIPPED
* checking PDF version of manual ... OK
* DONE
Status: 1 NOTE
See
‘/Users/biocbuild/bbs-3.18-bioc/meat/CIMICE.Rcheck/00check.log’
for details.
CIMICE.Rcheck/00install.out
############################################################################## ############################################################################## ### ### Running command: ### ### /Library/Frameworks/R.framework/Resources/bin/R CMD INSTALL CIMICE ### ############################################################################## ############################################################################## * installing to library ‘/Library/Frameworks/R.framework/Versions/4.3-x86_64/Resources/library’ * installing *source* package ‘CIMICE’ ... ** using staged installation ** R ** inst ** byte-compile and prepare package for lazy loading ** help *** installing help indices ** building package indices ** installing vignettes ** testing if installed package can be loaded from temporary location ** testing if installed package can be loaded from final location ** testing if installed package keeps a record of temporary installation path * DONE (CIMICE)
CIMICE.Rcheck/tests/testthat.Rout
R version 4.3.3 (2024-02-29) -- "Angel Food Cake"
Copyright (C) 2024 The R Foundation for Statistical Computing
Platform: x86_64-apple-darwin20 (64-bit)
R is free software and comes with ABSOLUTELY NO WARRANTY.
You are welcome to redistribute it under certain conditions.
Type 'license()' or 'licence()' for distribution details.
R is a collaborative project with many contributors.
Type 'contributors()' for more information and
'citation()' on how to cite R or R packages in publications.
Type 'demo()' for some demos, 'help()' for on-line help, or
'help.start()' for an HTML browser interface to help.
Type 'q()' to quit R.
> library(testthat)
> library(CIMICE)
>
> test_check("CIMICE")
[ FAIL 0 | WARN 0 | SKIP 0 | PASS 1 ]
>
> proc.time()
user system elapsed
5.305 0.470 5.785
CIMICE.Rcheck/CIMICE-Ex.timings
| name | user | system | elapsed | |
| annotate_mutational_matrix | 0.042 | 0.004 | 0.045 | |
| binary_radix_sort | 0.034 | 0.003 | 0.038 | |
| build_subset_graph | 0.090 | 0.002 | 0.093 | |
| build_topology_subset | 0.058 | 0.003 | 0.061 | |
| chunk_reader | 0.015 | 0.002 | 0.017 | |
| compact_dataset | 0.020 | 0.001 | 0.022 | |
| computeDWNW | 0.117 | 0.004 | 0.121 | |
| computeUPW | 0.099 | 0.003 | 0.104 | |
| compute_weights_default | 0.108 | 0.002 | 0.111 | |
| corrplot_from_mutational_matrix | 0.522 | 0.016 | 0.543 | |
| corrplot_genes | 0.659 | 0.004 | 0.666 | |
| corrplot_samples | 0.319 | 0.003 | 0.322 | |
| dataset_preprocessing | 0.040 | 0.002 | 0.043 | |
| dataset_preprocessing_population | 0.025 | 0.003 | 0.028 | |
| draw_ggraph | 0.646 | 0.006 | 0.656 | |
| draw_networkD3 | 0.271 | 0.017 | 0.295 | |
| draw_visNetwork | 0.120 | 0.029 | 0.156 | |
| example_dataset | 0.005 | 0.001 | 0.007 | |
| example_dataset_withFreqs | 0.006 | 0.000 | 0.006 | |
| finalize_generator | 0.556 | 0.009 | 0.566 | |
| fix_clonal_genotype | 0.042 | 0.002 | 0.044 | |
| format_labels | 0.000 | 0.001 | 0.001 | |
| gene_mutations_hist | 0.251 | 0.007 | 0.259 | |
| get_no_of_children | 0.092 | 0.010 | 0.101 | |
| graph_non_transitive_subset_topology | 0.068 | 0.008 | 0.077 | |
| make_dataset | 0.005 | 0.001 | 0.005 | |
| make_generator_stub | 0.156 | 0.018 | 0.175 | |
| make_labels | 0.072 | 0.010 | 0.082 | |
| normalizeDWNW | 0.100 | 0.011 | 0.114 | |
| normalizeUPW | 0.091 | 0.011 | 0.102 | |
| perturb_dataset | 0.392 | 0.046 | 0.440 | |
| plot_generator | 0.710 | 0.016 | 0.728 | |
| prepare_generator_edge_set_command | 0.186 | 0.012 | 0.200 | |
| prepare_labels | 0.041 | 0.004 | 0.045 | |
| quick_run | 0.077 | 0.008 | 0.085 | |
| read | 1.725 | 1.422 | 3.188 | |
| read_CAPRI | 1.721 | 1.418 | 3.159 | |
| read_CAPRI_string | 0.007 | 0.001 | 0.009 | |
| read_CAPRIpop | 0.006 | 0.001 | 0.007 | |
| read_CAPRIpop_string | 0.007 | 0.001 | 0.008 | |
| read_MAF | 0.435 | 0.141 | 0.579 | |
| read_matrix | 0.005 | 0.001 | 0.005 | |
| remove_transitive_edges | 0.000 | 0.000 | 0.001 | |
| sample_mutations_hist | 0.290 | 0.002 | 0.292 | |
| select_genes_on_mutations | 0.012 | 0.002 | 0.014 | |
| select_samples_on_mutations | 0.037 | 0.003 | 0.040 | |
| set_generator_edges | 0.225 | 0.005 | 0.233 | |
| simulate_generator | 0.193 | 0.003 | 0.196 | |
| to_dot | 0.084 | 0.001 | 0.087 | |
| update_df | 0.024 | 0.001 | 0.029 | |