| Back to Multiple platform build/check report for BioC 3.18: simplified long |
|
This page was generated on 2024-03-04 11:37:12 -0500 (Mon, 04 Mar 2024).
| Hostname | OS | Arch (*) | R version | Installed pkgs |
|---|---|---|---|---|
| nebbiolo2 | Linux (Ubuntu 22.04.3 LTS) | x86_64 | 4.3.2 Patched (2023-11-13 r85521) -- "Eye Holes" | 4692 |
| palomino4 | Windows Server 2022 Datacenter | x64 | 4.3.2 (2023-10-31 ucrt) -- "Eye Holes" | 4445 |
| lconway | macOS 12.7.1 Monterey | x86_64 | 4.3.2 Patched (2023-11-01 r85457) -- "Eye Holes" | 4466 |
| Click on any hostname to see more info about the system (e.g. compilers) (*) as reported by 'uname -p', except on Windows and Mac OS X | ||||
| Package 306/2266 | Hostname | OS / Arch | INSTALL | BUILD | CHECK | BUILD BIN | ||||||||
| CEMiTool 1.26.0 (landing page) Helder Nakaya
| nebbiolo2 | Linux (Ubuntu 22.04.3 LTS) / x86_64 | OK | OK | OK | |||||||||
| palomino4 | Windows Server 2022 Datacenter / x64 | OK | OK | OK | OK | |||||||||
| lconway | macOS 12.7.1 Monterey / x86_64 | OK | OK | OK | OK | |||||||||
| kjohnson1 | macOS 13.6.1 Ventura / arm64 | see weekly results here | ||||||||||||
|
To the developers/maintainers of the CEMiTool package: - Allow up to 24 hours (and sometimes 48 hours) for your latest push to git@git.bioconductor.org:packages/CEMiTool.git to reflect on this report. See Troubleshooting Build Report for more information. - Use the following Renviron settings to reproduce errors and warnings. - If 'R CMD check' started to fail recently on the Linux builder(s) over a missing dependency, add the missing dependency to 'Suggests:' in your DESCRIPTION file. See Renviron.bioc for more information. |
| Package: CEMiTool |
| Version: 1.26.0 |
| Command: /Library/Frameworks/R.framework/Resources/bin/R CMD check --install=check:CEMiTool.install-out.txt --library=/Library/Frameworks/R.framework/Resources/library --no-vignettes --timings CEMiTool_1.26.0.tar.gz |
| StartedAt: 2024-03-03 19:31:49 -0500 (Sun, 03 Mar 2024) |
| EndedAt: 2024-03-03 19:36:58 -0500 (Sun, 03 Mar 2024) |
| EllapsedTime: 308.7 seconds |
| RetCode: 0 |
| Status: OK |
| CheckDir: CEMiTool.Rcheck |
| Warnings: 0 |
##############################################################################
##############################################################################
###
### Running command:
###
### /Library/Frameworks/R.framework/Resources/bin/R CMD check --install=check:CEMiTool.install-out.txt --library=/Library/Frameworks/R.framework/Resources/library --no-vignettes --timings CEMiTool_1.26.0.tar.gz
###
##############################################################################
##############################################################################
* using log directory ‘/Users/biocbuild/bbs-3.18-bioc/meat/CEMiTool.Rcheck’
* using R version 4.3.2 Patched (2023-11-01 r85457)
* using platform: x86_64-apple-darwin20 (64-bit)
* R was compiled by
Apple clang version 14.0.3 (clang-1403.0.22.14.1)
GNU Fortran (GCC) 12.2.0
* running under: macOS Monterey 12.7.1
* using session charset: UTF-8
* using option ‘--no-vignettes’
* checking for file ‘CEMiTool/DESCRIPTION’ ... OK
* this is package ‘CEMiTool’ version ‘1.26.0’
* package encoding: UTF-8
* checking package namespace information ... OK
* checking package dependencies ... OK
* checking if this is a source package ... OK
* checking if there is a namespace ... OK
* checking for hidden files and directories ... OK
* checking for portable file names ... OK
* checking for sufficient/correct file permissions ... OK
* checking whether package ‘CEMiTool’ can be installed ... OK
* checking installed package size ... NOTE
installed size is 6.6Mb
sub-directories of 1Mb or more:
data 3.1Mb
extdata 2.8Mb
* checking package directory ... OK
* checking ‘build’ directory ... OK
* checking DESCRIPTION meta-information ... OK
* checking top-level files ... OK
* checking for left-over files ... OK
* checking index information ... OK
* checking package subdirectories ... OK
* checking R files for non-ASCII characters ... OK
* checking R files for syntax errors ... OK
* checking whether the package can be loaded ... OK
* checking whether the package can be loaded with stated dependencies ... OK
* checking whether the package can be unloaded cleanly ... OK
* checking whether the namespace can be loaded with stated dependencies ... OK
* checking whether the namespace can be unloaded cleanly ... OK
* checking dependencies in R code ... OK
* checking S3 generic/method consistency ... OK
* checking replacement functions ... OK
* checking foreign function calls ... OK
* checking R code for possible problems ... NOTE
flip_vector: no visible global function definition for ‘setNames’
select_genes: no visible global function definition for ‘var’
get_hubs,CEMiTool : <anonymous>: no visible global function definition
for ‘head’
get_merged_mods,CEMiTool: no visible global function definition for
‘as.dist’
get_mods,CEMiTool: no visible global function definition for ‘as.dist’
get_phi,CEMiTool: no visible global function definition for ‘tail’
get_phi,CEMiTool: no visible global function definition for ‘head’
mod_gene_num,CEMiTool: no visible binding for global variable ‘modules’
mod_gene_num,CEMiTool: no visible binding for global variable
‘num_genes’
mod_summary,CEMiTool: no visible global function definition for ‘:=’
plot_gsea,CEMiTool: no visible global function definition for ‘dist’
plot_mean_var,CEMiTool: no visible binding for global variable ‘var’
plot_mean_var,CEMiTool: no visible binding for global variable ‘Mean’
plot_mean_var,CEMiTool: no visible binding for global variable
‘Variance’
plot_mean_var,CEMiTool: no visible binding for global variable
‘..eq.label..’
plot_mean_var,CEMiTool: no visible binding for global variable
‘..rr.label..’
plot_ora,CEMiTool : <anonymous>: no visible global function definition
for ‘head’
plot_qq,CEMiTool: no visible binding for global variable ‘data’
plot_sample_tree,CEMiTool: no visible global function definition for
‘dist’
plot_sample_tree,CEMiTool: no visible global function definition for
‘dev.off’
save_plots,CEMiTool : <anonymous>: no visible global function
definition for ‘dev.off’
save_plots,CEMiTool: no visible global function definition for
‘dev.off’
Undefined global functions or variables:
..eq.label.. ..rr.label.. := Mean Variance as.dist data dev.off dist
head modules num_genes setNames tail var
Consider adding
importFrom("grDevices", "dev.off")
importFrom("stats", "as.dist", "dist", "setNames", "var")
importFrom("utils", "data", "head", "tail")
to your NAMESPACE file.
* checking Rd files ... OK
* checking Rd metadata ... OK
* checking Rd cross-references ... OK
* checking for missing documentation entries ... OK
* checking for code/documentation mismatches ... OK
* checking Rd \usage sections ... OK
* checking Rd contents ... OK
* checking for unstated dependencies in examples ... OK
* checking contents of ‘data’ directory ... OK
* checking data for non-ASCII characters ... OK
* checking LazyData ... OK
* checking data for ASCII and uncompressed saves ... OK
* checking files in ‘vignettes’ ... OK
* checking examples ... OK
Examples with CPU (user + system) or elapsed time > 5s
user system elapsed
cemitool 10.655 0.316 11.077
plot_interactions 9.458 0.256 9.800
* checking for unstated dependencies in ‘tests’ ... OK
* checking tests ...
Running ‘testthat.R’
OK
* checking for unstated dependencies in vignettes ... OK
* checking package vignettes in ‘inst/doc’ ... OK
* checking running R code from vignettes ... SKIPPED
* checking re-building of vignette outputs ... SKIPPED
* checking PDF version of manual ... OK
* DONE
Status: 2 NOTEs
See
‘/Users/biocbuild/bbs-3.18-bioc/meat/CEMiTool.Rcheck/00check.log’
for details.
CEMiTool.Rcheck/00install.out
############################################################################## ############################################################################## ### ### Running command: ### ### /Library/Frameworks/R.framework/Resources/bin/R CMD INSTALL CEMiTool ### ############################################################################## ############################################################################## * installing to library ‘/Library/Frameworks/R.framework/Versions/4.3-x86_64/Resources/library’ * installing *source* package ‘CEMiTool’ ... ** using staged installation ** R ** data *** moving datasets to lazyload DB ** exec ** inst ** byte-compile and prepare package for lazy loading ** help *** installing help indices ** building package indices ** installing vignettes ** testing if installed package can be loaded from temporary location ** testing if installed package can be loaded from final location ** testing if installed package keeps a record of temporary installation path * DONE (CEMiTool)
CEMiTool.Rcheck/tests/testthat.Rout
R version 4.3.2 Patched (2023-11-01 r85457) -- "Eye Holes"
Copyright (C) 2023 The R Foundation for Statistical Computing
Platform: x86_64-apple-darwin20 (64-bit)
R is free software and comes with ABSOLUTELY NO WARRANTY.
You are welcome to redistribute it under certain conditions.
Type 'license()' or 'licence()' for distribution details.
R is a collaborative project with many contributors.
Type 'contributors()' for more information and
'citation()' on how to cite R or R packages in publications.
Type 'demo()' for some demos, 'help()' for on-line help, or
'help.start()' for an HTML browser interface to help.
Type 'q()' to quit R.
> library(testthat)
> library(CEMiTool)
> test_check('CEMiTool')
[ FAIL 0 | WARN 14 | SKIP 0 | PASS 105 ]
[ FAIL 0 | WARN 14 | SKIP 0 | PASS 105 ]
>
> proc.time()
user system elapsed
30.659 1.489 32.484
CEMiTool.Rcheck/CEMiTool-Ex.timings
| name | user | system | elapsed | |
| CEMiTool-class | 0.038 | 0.003 | 0.042 | |
| adj_data | 0.877 | 0.028 | 0.912 | |
| cem | 0.019 | 0.006 | 0.027 | |
| cemitool | 10.655 | 0.316 | 11.077 | |
| expr0 | 0.001 | 0.002 | 0.002 | |
| expr_data | 0.139 | 0.019 | 0.162 | |
| filter_expr | 0.167 | 0.005 | 0.175 | |
| find_modules | 1.863 | 0.040 | 1.921 | |
| fit_data | 1.879 | 0.049 | 1.942 | |
| generate_report | 0 | 0 | 0 | |
| get_adj | 0.097 | 0.005 | 0.102 | |
| get_beta_data | 0.819 | 0.022 | 0.847 | |
| get_cemitool_r2_beta | 1.927 | 0.041 | 1.984 | |
| get_connectivity | 1.917 | 0.034 | 1.963 | |
| get_hubs | 0.017 | 0.002 | 0.019 | |
| get_merged_mods | 1.027 | 0.023 | 1.081 | |
| get_mods | 0.888 | 0.023 | 0.922 | |
| get_phi | 1.878 | 0.036 | 1.930 | |
| gsea_data | 3.987 | 0.050 | 4.070 | |
| interactions_data | 0.286 | 0.030 | 0.324 | |
| mod_colors | 0.016 | 0.002 | 0.018 | |
| mod_gene_num | 0.087 | 0.005 | 0.092 | |
| mod_gsea | 1.631 | 0.027 | 1.668 | |
| mod_names | 0.017 | 0.003 | 0.020 | |
| mod_ora | 2.368 | 0.096 | 2.483 | |
| mod_summary | 0.145 | 0.012 | 0.158 | |
| module_genes | 0.023 | 0.007 | 0.030 | |
| new_cem | 0.078 | 0.015 | 0.093 | |
| nmodules | 0.016 | 0.002 | 0.019 | |
| ora_data | 2.487 | 0.082 | 2.588 | |
| plot_beta_r2 | 0.173 | 0.003 | 0.178 | |
| plot_gsea | 1.820 | 0.036 | 1.871 | |
| plot_hist | 0.346 | 0.012 | 0.362 | |
| plot_interactions | 9.458 | 0.256 | 9.800 | |
| plot_mean_k | 0.195 | 0.006 | 0.204 | |
| plot_mean_var | 0.385 | 0.019 | 0.409 | |
| plot_ora | 3.505 | 0.143 | 3.682 | |
| plot_profile | 1.728 | 0.038 | 1.781 | |
| plot_qq | 0.390 | 0.028 | 0.425 | |
| plot_sample_tree | 0.860 | 0.027 | 0.898 | |
| read_gmt | 0.637 | 0.008 | 0.652 | |
| sample_annot | 0.003 | 0.003 | 0.006 | |
| sample_annotation | 0.017 | 0.003 | 0.020 | |
| save_plots | 0.035 | 0.002 | 0.038 | |
| select_genes | 0.179 | 0.013 | 0.195 | |
| show_plot | 0.204 | 0.015 | 0.221 | |
| write_files | 0.404 | 0.018 | 0.427 | |