| Back to Multiple platform build/check report for BioC 3.18: simplified long |
|
This page was generated on 2024-04-17 11:37:34 -0400 (Wed, 17 Apr 2024).
| Hostname | OS | Arch (*) | R version | Installed pkgs |
|---|---|---|---|---|
| nebbiolo2 | Linux (Ubuntu 22.04.3 LTS) | x86_64 | 4.3.3 (2024-02-29) -- "Angel Food Cake" | 4676 |
| palomino4 | Windows Server 2022 Datacenter | x64 | 4.3.3 (2024-02-29 ucrt) -- "Angel Food Cake" | 4414 |
| merida1 | macOS 12.7.1 Monterey | x86_64 | 4.3.3 (2024-02-29) -- "Angel Food Cake" | 4437 |
| Click on any hostname to see more info about the system (e.g. compilers) (*) as reported by 'uname -p', except on Windows and Mac OS X | ||||
| Package 273/2266 | Hostname | OS / Arch | INSTALL | BUILD | CHECK | BUILD BIN | ||||||||
| CATALYST 1.26.1 (landing page) Helena L. Crowell
| nebbiolo2 | Linux (Ubuntu 22.04.3 LTS) / x86_64 | OK | OK | OK | |||||||||
| palomino4 | Windows Server 2022 Datacenter / x64 | OK | OK | OK | OK | |||||||||
| merida1 | macOS 12.7.1 Monterey / x86_64 | OK | OK | OK | OK | |||||||||
| kjohnson1 | macOS 13.6.1 Ventura / arm64 | see weekly results here | ||||||||||||
|
To the developers/maintainers of the CATALYST package: - Allow up to 24 hours (and sometimes 48 hours) for your latest push to git@git.bioconductor.org:packages/CATALYST.git to reflect on this report. See Troubleshooting Build Report for more information. - Use the following Renviron settings to reproduce errors and warnings. - If 'R CMD check' started to fail recently on the Linux builder(s) over a missing dependency, add the missing dependency to 'Suggests:' in your DESCRIPTION file. See Renviron.bioc for more information. |
| Package: CATALYST |
| Version: 1.26.1 |
| Command: /Library/Frameworks/R.framework/Resources/bin/R CMD check --install=check:CATALYST.install-out.txt --library=/Library/Frameworks/R.framework/Resources/library --no-vignettes --timings CATALYST_1.26.1.tar.gz |
| StartedAt: 2024-04-16 00:18:33 -0400 (Tue, 16 Apr 2024) |
| EndedAt: 2024-04-16 00:40:52 -0400 (Tue, 16 Apr 2024) |
| EllapsedTime: 1339.3 seconds |
| RetCode: 0 |
| Status: OK |
| CheckDir: CATALYST.Rcheck |
| Warnings: 0 |
##############################################################################
##############################################################################
###
### Running command:
###
### /Library/Frameworks/R.framework/Resources/bin/R CMD check --install=check:CATALYST.install-out.txt --library=/Library/Frameworks/R.framework/Resources/library --no-vignettes --timings CATALYST_1.26.1.tar.gz
###
##############################################################################
##############################################################################
* using log directory ‘/Users/biocbuild/bbs-3.18-bioc/meat/CATALYST.Rcheck’
* using R version 4.3.3 (2024-02-29)
* using platform: x86_64-apple-darwin20 (64-bit)
* R was compiled by
Apple clang version 14.0.0 (clang-1400.0.29.202)
GNU Fortran (GCC) 12.2.0
* running under: macOS Monterey 12.7.1
* using session charset: UTF-8
* using option ‘--no-vignettes’
* checking for file ‘CATALYST/DESCRIPTION’ ... OK
* checking extension type ... Package
* this is package ‘CATALYST’ version ‘1.26.1’
* package encoding: UTF-8
* checking package namespace information ... OK
* checking package dependencies ... OK
* checking if this is a source package ... OK
* checking if there is a namespace ... OK
* checking for hidden files and directories ... OK
* checking for portable file names ... OK
* checking for sufficient/correct file permissions ... OK
* checking whether package ‘CATALYST’ can be installed ... OK
* checking installed package size ... OK
* checking package directory ... OK
* checking ‘build’ directory ... OK
* checking DESCRIPTION meta-information ... OK
* checking top-level files ... OK
* checking for left-over files ... OK
* checking index information ... OK
* checking package subdirectories ... OK
* checking R files for non-ASCII characters ... OK
* checking R files for syntax errors ... OK
* checking whether the package can be loaded ... OK
* checking whether the package can be loaded with stated dependencies ... OK
* checking whether the package can be unloaded cleanly ... OK
* checking whether the namespace can be loaded with stated dependencies ... OK
* checking whether the namespace can be unloaded cleanly ... OK
* checking dependencies in R code ... OK
* checking S3 generic/method consistency ... OK
* checking replacement functions ... OK
* checking foreign function calls ... OK
* checking R code for possible problems ... OK
* checking Rd files ... OK
* checking Rd metadata ... OK
* checking Rd cross-references ... OK
* checking for missing documentation entries ... OK
* checking for code/documentation mismatches ... OK
* checking Rd \usage sections ... OK
* checking Rd contents ... OK
* checking for unstated dependencies in examples ... OK
* checking contents of ‘data’ directory ... OK
* checking data for non-ASCII characters ... OK
* checking LazyData ... OK
* checking data for ASCII and uncompressed saves ... OK
* checking files in ‘vignettes’ ... OK
* checking examples ... OK
Examples with CPU (user + system) or elapsed time > 5s
user system elapsed
plotMultiHeatmap 30.298 0.994 33.530
plotPbExprs 27.515 0.870 29.889
plotDiffHeatmap 26.483 1.429 29.053
sce2fcs 23.649 1.249 26.031
plotDR 20.668 1.145 22.323
plotExprHeatmap 20.173 0.978 22.369
pbMDS 15.077 1.349 16.548
plotClusterExprs 13.763 1.028 15.037
plotAbundances 13.462 1.010 14.606
mergeClusters 13.644 0.651 15.789
plotFreqHeatmap 12.993 1.165 14.866
plotCodes 12.818 1.261 14.404
SCE-accessors 12.091 0.963 14.412
clrDR 12.408 0.586 13.567
plotMahal 12.649 0.126 13.381
compCytof 11.993 0.351 12.799
filterSCE 11.239 0.568 12.305
cluster 10.521 0.526 12.798
extractClusters 10.272 0.650 11.545
estCutoffs 10.689 0.135 11.335
plotYields 10.336 0.249 11.126
plotScatter 9.755 0.233 10.481
plotSpillmat 9.450 0.155 10.024
adaptSpillmat 8.640 0.240 9.273
computeSpillmat 8.241 0.157 8.678
plotExprs 8.022 0.151 9.422
applyCutoffs 7.718 0.158 8.258
runDR 6.502 0.077 6.942
normCytof 5.473 0.093 6.290
plotEvents 5.160 0.057 5.389
* checking for unstated dependencies in ‘tests’ ... OK
* checking tests ...
Running ‘testthat.R’
OK
* checking for unstated dependencies in vignettes ... OK
* checking package vignettes in ‘inst/doc’ ... OK
* checking running R code from vignettes ... SKIPPED
* checking re-building of vignette outputs ... SKIPPED
* checking PDF version of manual ... OK
* DONE
Status: OK
CATALYST.Rcheck/00install.out
############################################################################## ############################################################################## ### ### Running command: ### ### /Library/Frameworks/R.framework/Resources/bin/R CMD INSTALL CATALYST ### ############################################################################## ############################################################################## * installing to library ‘/Library/Frameworks/R.framework/Versions/4.3-x86_64/Resources/library’ * installing *source* package ‘CATALYST’ ... ** using staged installation ** R ** data *** moving datasets to lazyload DB ** inst ** byte-compile and prepare package for lazy loading ** help *** installing help indices ** building package indices ** installing vignettes ** testing if installed package can be loaded from temporary location ** testing if installed package can be loaded from final location ** testing if installed package keeps a record of temporary installation path * DONE (CATALYST)
CATALYST.Rcheck/tests/testthat.Rout
R version 4.3.3 (2024-02-29) -- "Angel Food Cake"
Copyright (C) 2024 The R Foundation for Statistical Computing
Platform: x86_64-apple-darwin20 (64-bit)
R is free software and comes with ABSOLUTELY NO WARRANTY.
You are welcome to redistribute it under certain conditions.
Type 'license()' or 'licence()' for distribution details.
R is a collaborative project with many contributors.
Type 'contributors()' for more information and
'citation()' on how to cite R or R packages in publications.
Type 'demo()' for some demos, 'help()' for on-line help, or
'help.start()' for an HTML browser interface to help.
Type 'q()' to quit R.
> library(testthat)
> library(CATALYST)
Loading required package: SingleCellExperiment
Loading required package: SummarizedExperiment
Loading required package: MatrixGenerics
Loading required package: matrixStats
Attaching package: 'MatrixGenerics'
The following objects are masked from 'package:matrixStats':
colAlls, colAnyNAs, colAnys, colAvgsPerRowSet, colCollapse,
colCounts, colCummaxs, colCummins, colCumprods, colCumsums,
colDiffs, colIQRDiffs, colIQRs, colLogSumExps, colMadDiffs,
colMads, colMaxs, colMeans2, colMedians, colMins, colOrderStats,
colProds, colQuantiles, colRanges, colRanks, colSdDiffs, colSds,
colSums2, colTabulates, colVarDiffs, colVars, colWeightedMads,
colWeightedMeans, colWeightedMedians, colWeightedSds,
colWeightedVars, rowAlls, rowAnyNAs, rowAnys, rowAvgsPerColSet,
rowCollapse, rowCounts, rowCummaxs, rowCummins, rowCumprods,
rowCumsums, rowDiffs, rowIQRDiffs, rowIQRs, rowLogSumExps,
rowMadDiffs, rowMads, rowMaxs, rowMeans2, rowMedians, rowMins,
rowOrderStats, rowProds, rowQuantiles, rowRanges, rowRanks,
rowSdDiffs, rowSds, rowSums2, rowTabulates, rowVarDiffs, rowVars,
rowWeightedMads, rowWeightedMeans, rowWeightedMedians,
rowWeightedSds, rowWeightedVars
Loading required package: GenomicRanges
Loading required package: stats4
Loading required package: BiocGenerics
Attaching package: 'BiocGenerics'
The following objects are masked from 'package:stats':
IQR, mad, sd, var, xtabs
The following objects are masked from 'package:base':
Filter, Find, Map, Position, Reduce, anyDuplicated, aperm, append,
as.data.frame, basename, cbind, colnames, dirname, do.call,
duplicated, eval, evalq, get, grep, grepl, intersect, is.unsorted,
lapply, mapply, match, mget, order, paste, pmax, pmax.int, pmin,
pmin.int, rank, rbind, rownames, sapply, setdiff, sort, table,
tapply, union, unique, unsplit, which.max, which.min
Loading required package: S4Vectors
Attaching package: 'S4Vectors'
The following object is masked from 'package:utils':
findMatches
The following objects are masked from 'package:base':
I, expand.grid, unname
Loading required package: IRanges
Loading required package: GenomeInfoDb
Loading required package: Biobase
Welcome to Bioconductor
Vignettes contain introductory material; view with
'browseVignettes()'. To cite Bioconductor, see
'citation("Biobase")', and for packages 'citation("pkgname")'.
Attaching package: 'Biobase'
The following object is masked from 'package:MatrixGenerics':
rowMedians
The following objects are masked from 'package:matrixStats':
anyMissing, rowMedians
>
> test_check("CATALYST")
[ FAIL 0 | WARN 1 | SKIP 0 | PASS 741 ]
[ FAIL 0 | WARN 1 | SKIP 0 | PASS 741 ]
>
> proc.time()
user system elapsed
370.008 9.342 399.405
CATALYST.Rcheck/CATALYST-Ex.timings
| name | user | system | elapsed | |
| SCE-accessors | 12.091 | 0.963 | 14.412 | |
| adaptSpillmat | 8.640 | 0.240 | 9.273 | |
| applyCutoffs | 7.718 | 0.158 | 8.258 | |
| assignPrelim | 4.600 | 0.068 | 4.875 | |
| clrDR | 12.408 | 0.586 | 13.567 | |
| cluster | 10.521 | 0.526 | 12.798 | |
| compCytof | 11.993 | 0.351 | 12.799 | |
| computeSpillmat | 8.241 | 0.157 | 8.678 | |
| data | 0.014 | 0.028 | 0.043 | |
| estCutoffs | 10.689 | 0.135 | 11.335 | |
| extractClusters | 10.272 | 0.650 | 11.545 | |
| filterSCE | 11.239 | 0.568 | 12.305 | |
| guessPanel | 0.045 | 0.010 | 0.061 | |
| mergeClusters | 13.644 | 0.651 | 15.789 | |
| normCytof | 5.473 | 0.093 | 6.290 | |
| pbMDS | 15.077 | 1.349 | 16.548 | |
| plotAbundances | 13.462 | 1.010 | 14.606 | |
| plotClusterExprs | 13.763 | 1.028 | 15.037 | |
| plotCodes | 12.818 | 1.261 | 14.404 | |
| plotCounts | 2.264 | 0.017 | 2.343 | |
| plotDR | 20.668 | 1.145 | 22.323 | |
| plotDiffHeatmap | 26.483 | 1.429 | 29.053 | |
| plotEvents | 5.160 | 0.057 | 5.389 | |
| plotExprHeatmap | 20.173 | 0.978 | 22.369 | |
| plotExprs | 8.022 | 0.151 | 9.422 | |
| plotFreqHeatmap | 12.993 | 1.165 | 14.866 | |
| plotMahal | 12.649 | 0.126 | 13.381 | |
| plotMultiHeatmap | 30.298 | 0.994 | 33.530 | |
| plotNRS | 2.953 | 0.021 | 3.094 | |
| plotPbExprs | 27.515 | 0.870 | 29.889 | |
| plotScatter | 9.755 | 0.233 | 10.481 | |
| plotSpillmat | 9.450 | 0.155 | 10.024 | |
| plotYields | 10.336 | 0.249 | 11.126 | |
| prepData | 3.921 | 0.050 | 4.180 | |
| runDR | 6.502 | 0.077 | 6.942 | |
| sce2fcs | 23.649 | 1.249 | 26.031 | |