| Back to Multiple platform build/check report for BioC 3.18: simplified long |
|
This page was generated on 2024-04-17 11:37:33 -0400 (Wed, 17 Apr 2024).
| Hostname | OS | Arch (*) | R version | Installed pkgs |
|---|---|---|---|---|
| nebbiolo2 | Linux (Ubuntu 22.04.3 LTS) | x86_64 | 4.3.3 (2024-02-29) -- "Angel Food Cake" | 4676 |
| palomino4 | Windows Server 2022 Datacenter | x64 | 4.3.3 (2024-02-29 ucrt) -- "Angel Food Cake" | 4414 |
| merida1 | macOS 12.7.1 Monterey | x86_64 | 4.3.3 (2024-02-29) -- "Angel Food Cake" | 4437 |
| Click on any hostname to see more info about the system (e.g. compilers) (*) as reported by 'uname -p', except on Windows and Mac OS X | ||||
| Package 259/2266 | Hostname | OS / Arch | INSTALL | BUILD | CHECK | BUILD BIN | ||||||||
| CAGEfightR 1.22.0 (landing page) Malte Thodberg
| nebbiolo2 | Linux (Ubuntu 22.04.3 LTS) / x86_64 | OK | OK | OK | |||||||||
| palomino4 | Windows Server 2022 Datacenter / x64 | OK | OK | OK | OK | |||||||||
| merida1 | macOS 12.7.1 Monterey / x86_64 | OK | OK | OK | OK | |||||||||
| kjohnson1 | macOS 13.6.1 Ventura / arm64 | see weekly results here | ||||||||||||
|
To the developers/maintainers of the CAGEfightR package: - Allow up to 24 hours (and sometimes 48 hours) for your latest push to git@git.bioconductor.org:packages/CAGEfightR.git to reflect on this report. See Troubleshooting Build Report for more information. - Use the following Renviron settings to reproduce errors and warnings. - If 'R CMD check' started to fail recently on the Linux builder(s) over a missing dependency, add the missing dependency to 'Suggests:' in your DESCRIPTION file. See Renviron.bioc for more information. |
| Package: CAGEfightR |
| Version: 1.22.0 |
| Command: /Library/Frameworks/R.framework/Resources/bin/R CMD check --install=check:CAGEfightR.install-out.txt --library=/Library/Frameworks/R.framework/Resources/library --no-vignettes --timings CAGEfightR_1.22.0.tar.gz |
| StartedAt: 2024-04-16 00:15:08 -0400 (Tue, 16 Apr 2024) |
| EndedAt: 2024-04-16 00:27:43 -0400 (Tue, 16 Apr 2024) |
| EllapsedTime: 755.2 seconds |
| RetCode: 0 |
| Status: OK |
| CheckDir: CAGEfightR.Rcheck |
| Warnings: 0 |
##############################################################################
##############################################################################
###
### Running command:
###
### /Library/Frameworks/R.framework/Resources/bin/R CMD check --install=check:CAGEfightR.install-out.txt --library=/Library/Frameworks/R.framework/Resources/library --no-vignettes --timings CAGEfightR_1.22.0.tar.gz
###
##############################################################################
##############################################################################
* using log directory ‘/Users/biocbuild/bbs-3.18-bioc/meat/CAGEfightR.Rcheck’
* using R version 4.3.3 (2024-02-29)
* using platform: x86_64-apple-darwin20 (64-bit)
* R was compiled by
Apple clang version 14.0.0 (clang-1400.0.29.202)
GNU Fortran (GCC) 12.2.0
* running under: macOS Monterey 12.7.1
* using session charset: UTF-8
* using option ‘--no-vignettes’
* checking for file ‘CAGEfightR/DESCRIPTION’ ... OK
* checking extension type ... Package
* this is package ‘CAGEfightR’ version ‘1.22.0’
* package encoding: UTF-8
* checking package namespace information ... OK
* checking package dependencies ... OK
* checking if this is a source package ... OK
* checking if there is a namespace ... OK
* checking for hidden files and directories ... OK
* checking for portable file names ... OK
* checking for sufficient/correct file permissions ... OK
* checking whether package ‘CAGEfightR’ can be installed ... OK
* checking installed package size ... OK
* checking package directory ... OK
* checking ‘build’ directory ... OK
* checking DESCRIPTION meta-information ... OK
* checking top-level files ... OK
* checking for left-over files ... OK
* checking index information ... OK
* checking package subdirectories ... OK
* checking R files for non-ASCII characters ... OK
* checking R files for syntax errors ... OK
* checking whether the package can be loaded ... OK
* checking whether the package can be loaded with stated dependencies ... OK
* checking whether the package can be unloaded cleanly ... OK
* checking whether the namespace can be loaded with stated dependencies ... OK
* checking whether the namespace can be unloaded cleanly ... OK
* checking startup messages can be suppressed ... OK
* checking dependencies in R code ... OK
* checking S3 generic/method consistency ... OK
* checking replacement functions ... OK
* checking foreign function calls ... OK
* checking R code for possible problems ... OK
* checking Rd files ... OK
* checking Rd metadata ... OK
* checking Rd cross-references ... OK
* checking for missing documentation entries ... OK
* checking for code/documentation mismatches ... OK
* checking Rd \usage sections ... OK
* checking Rd contents ... OK
* checking for unstated dependencies in examples ... OK
* checking contents of ‘data’ directory ... OK
* checking data for non-ASCII characters ... OK
* checking LazyData ... OK
* checking data for ASCII and uncompressed saves ... OK
* checking files in ‘vignettes’ ... OK
* checking examples ... OK
Examples with CPU (user + system) or elapsed time > 5s
user system elapsed
findLinks 8.200 1.089 9.002
calcShape 7.129 0.328 7.780
assignGeneID 6.120 0.188 6.625
trackCTSS 5.667 0.338 6.306
* checking for unstated dependencies in vignettes ... OK
* checking package vignettes in ‘inst/doc’ ... OK
* checking running R code from vignettes ... SKIPPED
* checking re-building of vignette outputs ... SKIPPED
* checking PDF version of manual ... OK
* DONE
Status: OK
CAGEfightR.Rcheck/00install.out
############################################################################## ############################################################################## ### ### Running command: ### ### /Library/Frameworks/R.framework/Resources/bin/R CMD INSTALL CAGEfightR ### ############################################################################## ############################################################################## * installing to library ‘/Library/Frameworks/R.framework/Versions/4.3-x86_64/Resources/library’ * installing *source* package ‘CAGEfightR’ ... ** using staged installation ** R ** data *** moving datasets to lazyload DB ** inst ** byte-compile and prepare package for lazy loading ** help *** installing help indices ** building package indices ** installing vignettes ** testing if installed package can be loaded from temporary location ** testing if installed package can be loaded from final location ** testing if installed package keeps a record of temporary installation path * DONE (CAGEfightR)
CAGEfightR.Rcheck/CAGEfightR-Ex.timings
| name | user | system | elapsed | |
| assignGeneID | 6.120 | 0.188 | 6.625 | |
| assignMissingID | 1.997 | 0.040 | 2.161 | |
| assignTxID | 1.714 | 0.039 | 2.157 | |
| assignTxType | 0.000 | 0.002 | 0.003 | |
| balanceBC | 0.001 | 0.001 | 0.001 | |
| balanceD | 0.001 | 0.000 | 0.001 | |
| bwCommonGenome | 0.078 | 0.011 | 0.135 | |
| bwGenomeCompatibility | 0.037 | 0.006 | 0.051 | |
| bwValid | 0.016 | 0.006 | 0.026 | |
| calcBidirectionality | 0.918 | 0.023 | 1.093 | |
| calcComposition | 2.633 | 0.052 | 3.044 | |
| calcPooled | 0.192 | 0.010 | 0.210 | |
| calcShape | 7.129 | 0.328 | 7.780 | |
| calcSupport | 0.203 | 0.005 | 0.217 | |
| calcTPM | 0.240 | 0.006 | 0.262 | |
| calcTotalTags | 0.112 | 0.005 | 0.122 | |
| checkCTSSs | 0.510 | 0.010 | 0.541 | |
| checkPeaked | 0.116 | 0.005 | 0.127 | |
| checkPooled | 0.112 | 0.006 | 0.127 | |
| clusterBidirectionally | 0.000 | 0.001 | 0.001 | |
| clusterUnidirectionally | 2.897 | 0.037 | 3.053 | |
| combineClusters | 1.545 | 0.020 | 1.632 | |
| convertBAM2BigWig | 0.000 | 0.000 | 0.001 | |
| convertBED2BigWig | 0.000 | 0.001 | 0.001 | |
| convertGRanges2GPos | 0.160 | 0.002 | 0.173 | |
| exampleDesign | 0.009 | 0.019 | 0.029 | |
| findLinks | 8.200 | 1.089 | 9.002 | |
| findStretches | 0.886 | 0.150 | 1.085 | |
| quantifyCTSSs | 0.001 | 0.002 | 0.002 | |
| quantifyCTSSs2 | 0.000 | 0.001 | 0.002 | |
| quantifyClusters | 0.803 | 0.107 | 0.949 | |
| quantifyGenes | 2.481 | 0.229 | 2.807 | |
| quickEnhancers | 0 | 0 | 0 | |
| quickGenes | 0.001 | 0.000 | 0.001 | |
| quickTSSs | 0.000 | 0.001 | 0.000 | |
| shapeEntropy | 0.001 | 0.001 | 0.002 | |
| shapeIQR | 0.001 | 0.001 | 0.002 | |
| shapeMean | 0.001 | 0.001 | 0.002 | |
| shapeMultimodality | 0.000 | 0.001 | 0.000 | |
| subsetByBidirectionality | 0.855 | 0.044 | 0.937 | |
| subsetByComposition | 2.407 | 0.057 | 2.548 | |
| subsetBySupport | 0.156 | 0.019 | 0.183 | |
| swapRanges | 0.308 | 0.012 | 0.337 | |
| swapScores | 0.198 | 0.011 | 0.219 | |
| trackBalance | 0.001 | 0.001 | 0.002 | |
| trackCTSS | 5.667 | 0.338 | 6.306 | |
| trackClusters | 3.433 | 0.032 | 4.027 | |
| trackLinks | 2.125 | 0.602 | 2.786 | |
| trimToPeak | 1.825 | 0.238 | 2.463 | |
| trimToPercentiles | 4.307 | 0.076 | 4.707 | |
| tuneTagClustering | 0.000 | 0.001 | 0.001 | |
| utilsAggregateRows | 0.799 | 1.118 | 1.991 | |
| utilsDeStrand | 0.247 | 0.007 | 0.259 | |
| utilsScoreOverlaps | 0.139 | 0.001 | 0.147 | |
| utilsSimplifyTxDb | 0.000 | 0.001 | 0.001 | |