| Back to Multiple platform build/check report for BioC 3.18: simplified long |
|
This page was generated on 2024-03-04 11:37:11 -0500 (Mon, 04 Mar 2024).
| Hostname | OS | Arch (*) | R version | Installed pkgs |
|---|---|---|---|---|
| nebbiolo2 | Linux (Ubuntu 22.04.3 LTS) | x86_64 | 4.3.2 Patched (2023-11-13 r85521) -- "Eye Holes" | 4692 |
| palomino4 | Windows Server 2022 Datacenter | x64 | 4.3.2 (2023-10-31 ucrt) -- "Eye Holes" | 4445 |
| lconway | macOS 12.7.1 Monterey | x86_64 | 4.3.2 Patched (2023-11-01 r85457) -- "Eye Holes" | 4466 |
| Click on any hostname to see more info about the system (e.g. compilers) (*) as reported by 'uname -p', except on Windows and Mac OS X | ||||
| Package 245/2266 | Hostname | OS / Arch | INSTALL | BUILD | CHECK | BUILD BIN | ||||||||
| BubbleTree 2.32.0 (landing page) Todd Creasy
| nebbiolo2 | Linux (Ubuntu 22.04.3 LTS) / x86_64 | OK | OK | OK | |||||||||
| palomino4 | Windows Server 2022 Datacenter / x64 | OK | OK | OK | OK | |||||||||
| lconway | macOS 12.7.1 Monterey / x86_64 | OK | OK | OK | OK | |||||||||
| kjohnson1 | macOS 13.6.1 Ventura / arm64 | see weekly results here | ||||||||||||
|
To the developers/maintainers of the BubbleTree package: - Allow up to 24 hours (and sometimes 48 hours) for your latest push to git@git.bioconductor.org:packages/BubbleTree.git to reflect on this report. See Troubleshooting Build Report for more information. - Use the following Renviron settings to reproduce errors and warnings. - If 'R CMD check' started to fail recently on the Linux builder(s) over a missing dependency, add the missing dependency to 'Suggests:' in your DESCRIPTION file. See Renviron.bioc for more information. |
| Package: BubbleTree |
| Version: 2.32.0 |
| Command: /Library/Frameworks/R.framework/Resources/bin/R CMD check --install=check:BubbleTree.install-out.txt --library=/Library/Frameworks/R.framework/Resources/library --no-vignettes --timings BubbleTree_2.32.0.tar.gz |
| StartedAt: 2024-03-03 19:21:15 -0500 (Sun, 03 Mar 2024) |
| EndedAt: 2024-03-03 19:28:25 -0500 (Sun, 03 Mar 2024) |
| EllapsedTime: 429.6 seconds |
| RetCode: 0 |
| Status: OK |
| CheckDir: BubbleTree.Rcheck |
| Warnings: 0 |
##############################################################################
##############################################################################
###
### Running command:
###
### /Library/Frameworks/R.framework/Resources/bin/R CMD check --install=check:BubbleTree.install-out.txt --library=/Library/Frameworks/R.framework/Resources/library --no-vignettes --timings BubbleTree_2.32.0.tar.gz
###
##############################################################################
##############################################################################
* using log directory ‘/Users/biocbuild/bbs-3.18-bioc/meat/BubbleTree.Rcheck’
* using R version 4.3.2 Patched (2023-11-01 r85457)
* using platform: x86_64-apple-darwin20 (64-bit)
* R was compiled by
Apple clang version 14.0.3 (clang-1403.0.22.14.1)
GNU Fortran (GCC) 12.2.0
* running under: macOS Monterey 12.7.1
* using session charset: UTF-8
* using option ‘--no-vignettes’
* checking for file ‘BubbleTree/DESCRIPTION’ ... OK
* checking extension type ... Package
* this is package ‘BubbleTree’ version ‘2.32.0’
* checking package namespace information ... OK
* checking package dependencies ... OK
* checking if this is a source package ... OK
* checking if there is a namespace ... OK
* checking for hidden files and directories ... OK
* checking for portable file names ... OK
* checking for sufficient/correct file permissions ... OK
* checking whether package ‘BubbleTree’ can be installed ... OK
* checking installed package size ... NOTE
installed size is 23.8Mb
sub-directories of 1Mb or more:
data 23.4Mb
* checking package directory ... OK
* checking ‘build’ directory ... OK
* checking DESCRIPTION meta-information ...Warning in person1(given = given[[i]], family = family[[i]], middle = middle[[i]], :
It is recommended to use ‘given’ instead of ‘middle’.
OK
* checking top-level files ... OK
* checking for left-over files ... OK
* checking index information ... OK
* checking package subdirectories ... OK
* checking R files for non-ASCII characters ... OK
* checking R files for syntax errors ... OK
* checking whether the package can be loaded ... OK
* checking whether the package can be loaded with stated dependencies ... OK
* checking whether the package can be unloaded cleanly ... OK
* checking whether the namespace can be loaded with stated dependencies ... OK
* checking whether the namespace can be unloaded cleanly ... OK
* checking dependencies in R code ... OK
* checking S3 generic/method consistency ... OK
* checking replacement functions ... OK
* checking foreign function calls ... OK
* checking R code for possible problems ... NOTE
annoByOverlap,Annotate: no visible binding for global variable
'queryHits'
Undefined global functions or variables:
queryHits
* checking Rd files ... OK
* checking Rd metadata ... OK
* checking Rd cross-references ... OK
* checking for missing documentation entries ... OK
* checking for code/documentation mismatches ... OK
* checking Rd \usage sections ... OK
* checking Rd contents ... OK
* checking for unstated dependencies in examples ... OK
* checking contents of ‘data’ directory ... OK
* checking data for non-ASCII characters ... OK
* checking data for ASCII and uncompressed saves ... OK
* checking files in ‘vignettes’ ... OK
* checking examples ... OK
Examples with CPU (user + system) or elapsed time > 5s
user system elapsed
makeRBD 14.638 0.162 14.921
heteroLociTrack 6.730 0.266 7.062
* checking for unstated dependencies in vignettes ... OK
* checking package vignettes in ‘inst/doc’ ... OK
* checking running R code from vignettes ... SKIPPED
* checking re-building of vignette outputs ... SKIPPED
* checking PDF version of manual ... OK
* DONE
Status: 2 NOTEs
See
‘/Users/biocbuild/bbs-3.18-bioc/meat/BubbleTree.Rcheck/00check.log’
for details.
BubbleTree.Rcheck/00install.out
############################################################################## ############################################################################## ### ### Running command: ### ### /Library/Frameworks/R.framework/Resources/bin/R CMD INSTALL BubbleTree ### ############################################################################## ############################################################################## * installing to library ‘/Library/Frameworks/R.framework/Versions/4.3-x86_64/Resources/library’ * installing *source* package ‘BubbleTree’ ... ** using staged installation Warning in person1(given = given[[i]], family = family[[i]], middle = middle[[i]], : It is recommended to use ‘given’ instead of ‘middle’. ** R ** data ** inst ** byte-compile and prepare package for lazy loading ** help *** installing help indices ** building package indices ** installing vignettes ** testing if installed package can be loaded from temporary location ** testing if installed package can be loaded from final location ** testing if installed package keeps a record of temporary installation path * DONE (BubbleTree)
BubbleTree.Rcheck/BubbleTree-Ex.timings
| name | user | system | elapsed | |
| Annotate | 0 | 0 | 0 | |
| BTreePlotter | 0.250 | 0.033 | 0.287 | |
| BTreePredictor | 0.007 | 0.001 | 0.008 | |
| RBD | 0.000 | 0.000 | 0.001 | |
| RscoreTrack | 0.598 | 0.019 | 0.625 | |
| TrackPlotter | 0 | 0 | 0 | |
| annoByGenesAndCyto | 0.558 | 0.016 | 0.582 | |
| bafTrack | 0.264 | 0.011 | 0.280 | |
| btcompare | 0.003 | 0.001 | 0.004 | |
| btpredict | 2.977 | 0.118 | 3.127 | |
| drawBTree | 0.296 | 0.011 | 0.312 | |
| drawBubbles | 0.330 | 0.008 | 0.342 | |
| drawFeatures | 0.989 | 0.029 | 1.028 | |
| getTracks | 0.675 | 0.017 | 0.699 | |
| heteroLociTrack | 6.730 | 0.266 | 7.062 | |
| info | 3.420 | 0.123 | 3.569 | |
| loadRBD | 0.025 | 0.006 | 0.057 | |
| makeRBD | 14.638 | 0.162 | 14.921 | |
| saveXLS | 0.394 | 0.127 | 0.595 | |
| trackBTree | 0.326 | 0.006 | 0.334 | |
| xyTrack | 0.278 | 0.007 | 0.287 | |