| Back to Multiple platform build/check report for BioC 3.18: simplified long |
|
This page was generated on 2024-04-17 11:35:48 -0400 (Wed, 17 Apr 2024).
| Hostname | OS | Arch (*) | R version | Installed pkgs |
|---|---|---|---|---|
| nebbiolo2 | Linux (Ubuntu 22.04.3 LTS) | x86_64 | 4.3.3 (2024-02-29) -- "Angel Food Cake" | 4676 |
| palomino4 | Windows Server 2022 Datacenter | x64 | 4.3.3 (2024-02-29 ucrt) -- "Angel Food Cake" | 4414 |
| merida1 | macOS 12.7.1 Monterey | x86_64 | 4.3.3 (2024-02-29) -- "Angel Food Cake" | 4437 |
| Click on any hostname to see more info about the system (e.g. compilers) (*) as reported by 'uname -p', except on Windows and Mac OS X | ||||
| Package 175/2266 | Hostname | OS / Arch | INSTALL | BUILD | CHECK | BUILD BIN | ||||||||
| BiocFHIR 1.4.0 (landing page) Vincent Carey
| nebbiolo2 | Linux (Ubuntu 22.04.3 LTS) / x86_64 | OK | OK | OK | |||||||||
| palomino4 | Windows Server 2022 Datacenter / x64 | OK | OK | OK | OK | |||||||||
| merida1 | macOS 12.7.1 Monterey / x86_64 | OK | OK | OK | OK | |||||||||
| kjohnson1 | macOS 13.6.1 Ventura / arm64 | see weekly results here | ||||||||||||
|
To the developers/maintainers of the BiocFHIR package: - Allow up to 24 hours (and sometimes 48 hours) for your latest push to git@git.bioconductor.org:packages/BiocFHIR.git to reflect on this report. See Troubleshooting Build Report for more information. - Use the following Renviron settings to reproduce errors and warnings. - If 'R CMD check' started to fail recently on the Linux builder(s) over a missing dependency, add the missing dependency to 'Suggests:' in your DESCRIPTION file. See Renviron.bioc for more information. |
| Package: BiocFHIR |
| Version: 1.4.0 |
| Command: /home/biocbuild/bbs-3.18-bioc/R/bin/R CMD check --install=check:BiocFHIR.install-out.txt --library=/home/biocbuild/bbs-3.18-bioc/R/site-library --timings BiocFHIR_1.4.0.tar.gz |
| StartedAt: 2024-04-15 20:29:11 -0400 (Mon, 15 Apr 2024) |
| EndedAt: 2024-04-15 20:31:18 -0400 (Mon, 15 Apr 2024) |
| EllapsedTime: 126.3 seconds |
| RetCode: 0 |
| Status: OK |
| CheckDir: BiocFHIR.Rcheck |
| Warnings: 0 |
##############################################################################
##############################################################################
###
### Running command:
###
### /home/biocbuild/bbs-3.18-bioc/R/bin/R CMD check --install=check:BiocFHIR.install-out.txt --library=/home/biocbuild/bbs-3.18-bioc/R/site-library --timings BiocFHIR_1.4.0.tar.gz
###
##############################################################################
##############################################################################
* using log directory ‘/home/biocbuild/bbs-3.18-bioc/meat/BiocFHIR.Rcheck’
* using R version 4.3.3 (2024-02-29)
* using platform: x86_64-pc-linux-gnu (64-bit)
* R was compiled by
gcc (Ubuntu 11.4.0-1ubuntu1~22.04) 11.4.0
GNU Fortran (Ubuntu 11.4.0-1ubuntu1~22.04) 11.4.0
* running under: Ubuntu 22.04.4 LTS
* using session charset: UTF-8
* checking for file ‘BiocFHIR/DESCRIPTION’ ... OK
* this is package ‘BiocFHIR’ version ‘1.4.0’
* package encoding: UTF-8
* checking package namespace information ... OK
* checking package dependencies ... OK
* checking if this is a source package ... OK
* checking if there is a namespace ... OK
* checking for hidden files and directories ... OK
* checking for portable file names ... OK
* checking for sufficient/correct file permissions ... OK
* checking whether package ‘BiocFHIR’ can be installed ... OK
* checking installed package size ... OK
* checking package directory ... OK
* checking ‘build’ directory ... OK
* checking DESCRIPTION meta-information ... OK
* checking top-level files ... OK
* checking for left-over files ... OK
* checking index information ... OK
* checking package subdirectories ... OK
* checking R files for non-ASCII characters ... OK
* checking R files for syntax errors ... OK
* checking whether the package can be loaded ... OK
* checking whether the package can be loaded with stated dependencies ... OK
* checking whether the package can be unloaded cleanly ... OK
* checking whether the namespace can be loaded with stated dependencies ... OK
* checking whether the namespace can be unloaded cleanly ... OK
* checking loading without being on the library search path ... OK
* checking dependencies in R code ... OK
* checking S3 generic/method consistency ... OK
* checking replacement functions ... OK
* checking foreign function calls ... OK
* checking R code for possible problems ... OK
* checking Rd files ... OK
* checking Rd metadata ... OK
* checking Rd cross-references ... OK
* checking for missing documentation entries ... OK
* checking for code/documentation mismatches ... OK
* checking Rd \usage sections ... OK
* checking Rd contents ... OK
* checking for unstated dependencies in examples ... OK
* checking contents of ‘data’ directory ... OK
* checking data for non-ASCII characters ... NOTE
Note: found 630 marked UTF-8 strings
* checking data for ASCII and uncompressed saves ... OK
* checking files in ‘vignettes’ ... OK
* checking examples ... OK
* checking for unstated dependencies in ‘tests’ ... OK
* checking tests ...
Running ‘test.R’
OK
* checking for unstated dependencies in vignettes ... OK
* checking package vignettes in ‘inst/doc’ ... OK
* checking running R code from vignettes ...
‘A_upper.Rmd’ using ‘UTF-8’... OK
‘B_handling.Rmd’ using ‘UTF-8’... OK
‘BiocFHIR.Rmd’ using ‘UTF-8’... OK
‘C_tables.Rmd’ using ‘UTF-8’... OK
‘D_linking.Rmd’ using ‘UTF-8’... OK
OK
* checking re-building of vignette outputs ... OK
* checking PDF version of manual ... OK
* DONE
Status: 1 NOTE
See
‘/home/biocbuild/bbs-3.18-bioc/meat/BiocFHIR.Rcheck/00check.log’
for details.
BiocFHIR.Rcheck/00install.out
############################################################################## ############################################################################## ### ### Running command: ### ### /home/biocbuild/bbs-3.18-bioc/R/bin/R CMD INSTALL BiocFHIR ### ############################################################################## ############################################################################## * installing to library ‘/home/biocbuild/bbs-3.18-bioc/R/site-library’ * installing *source* package ‘BiocFHIR’ ... ** using staged installation ** R ** data ** inst ** byte-compile and prepare package for lazy loading ** help *** installing help indices ** building package indices ** installing vignettes ** testing if installed package can be loaded from temporary location ** testing if installed package can be loaded from final location ** testing if installed package keeps a record of temporary installation path * DONE (BiocFHIR)
BiocFHIR.Rcheck/tests/test.Rout
R version 4.3.3 (2024-02-29) -- "Angel Food Cake"
Copyright (C) 2024 The R Foundation for Statistical Computing
Platform: x86_64-pc-linux-gnu (64-bit)
R is free software and comes with ABSOLUTELY NO WARRANTY.
You are welcome to redistribute it under certain conditions.
Type 'license()' or 'licence()' for distribution details.
R is a collaborative project with many contributors.
Type 'contributors()' for more information and
'citation()' on how to cite R or R packages in publications.
Type 'demo()' for some demos, 'help()' for on-line help, or
'help.start()' for an HTML browser interface to help.
Type 'q()' to quit R.
> library(testthat)
> library(BiocFHIR)
>
> test_check("BiocFHIR")
prcs__> testf = system.file("json/Vince741_Rogahn59_6fa3d4ab-c0b6-424a-89d8-7d9105129296.json",
prcs__+ package="BiocFHIR")
prcs__> tbun = process_fhir_bundle(testf)
prcs__> tbun
BiocFHIR FHIR.bundle instance.
resource types are:
AllergyIntolerance CarePlan ... Patient Procedure
[1] 231 10
id system code
1 3eae0267-0426-439c-a616-04c1dea70dd1 http://snomed.info/sct 409002
2 3eae0267-0426-439c-a616-04c1dea70dd1 http://snomed.info/sct 58332002
3 3eae0267-0426-439c-a616-04c1dea70dd1 http://snomed.info/sct 58332002
4 86d99438-bcfe-4149-b581-555f4e8243bb http://snomed.info/sct 386463000
5 86d99438-bcfe-4149-b581-555f4e8243bb http://snomed.info/sct 413473000
6 86d99438-bcfe-4149-b581-555f4e8243bb http://snomed.info/sct 1151000175103
display status
1 Food allergy diet in-progress
2 Allergy education in-progress
3 Allergy education in-progress
4 Prescribed activity/exercise education in-progress
5 Counseling about alcohol consumption in-progress
6 Dietary approaches to stop hypertension diet in-progress
location category.system category.code
1 HALLMARK HEALTH SYSTEM http://snomed.info/sct 326051000000105
2 HALLMARK HEALTH SYSTEM http://snomed.info/sct 326051000000105
3 HALLMARK HEALTH SYSTEM http://snomed.info/sct 326051000000105
4 RIVERBEND MEDICAL GROUP INC http://snomed.info/sct 443402002
5 RIVERBEND MEDICAL GROUP INC http://snomed.info/sct 443402002
6 RIVERBEND MEDICAL GROUP INC http://snomed.info/sct 443402002
category.display
1 Self care
2 Self care
3 Self care
4 Lifestyle education regarding hypertension
5 Lifestyle education regarding hypertension
6 Lifestyle education regarding hypertension
subject.reference
1 urn:uuid:15e20922-0f51-47a0-9345-225906c35fbf
2 urn:uuid:15e20922-0f51-47a0-9345-225906c35fbf
3 urn:uuid:15e20922-0f51-47a0-9345-225906c35fbf
4 urn:uuid:aef6dabb-9372-44bc-abf1-f3111812eec7
5 urn:uuid:aef6dabb-9372-44bc-abf1-f3111812eec7
6 urn:uuid:aef6dabb-9372-44bc-abf1-f3111812eec7
[1] 1423 9
[1] 247 5
[1] 1032 9
[1] 406 6
[1] 391 8
[1] 6860 11
[1] 30 40
[1] 881 8
[ FAIL 0 | WARN 0 | SKIP 0 | PASS 21 ]
>
> proc.time()
user system elapsed
19.432 0.349 19.768
BiocFHIR.Rcheck/BiocFHIR-Ex.timings
| name | user | system | elapsed | |
| FHIR_ResourceTypes | 0 | 0 | 0 | |
| FHIR_retention_schemas | 0.001 | 0.000 | 0.001 | |
| FHIRtabs | 0 | 0 | 0 | |
| add_procedures | 0.895 | 0.072 | 0.967 | |
| allin | 0.404 | 0.012 | 0.416 | |
| available_retention_schemas | 0 | 0 | 0 | |
| build_proccond_igraph | 0.677 | 0.032 | 0.709 | |
| display_proccond_igraph | 0.741 | 0.008 | 0.749 | |
| freq_app | 0.001 | 0.000 | 0.001 | |
| getHumanName | 0.419 | 0.000 | 0.420 | |
| make_condition_graph | 0.490 | 0.008 | 0.499 | |
| make_test_json_set | 0.078 | 0.044 | 0.125 | |
| print.BiocFHIR.FHIRgraph | 0.526 | 0.008 | 0.534 | |
| process_AllergyIntolerance | 0.416 | 0.000 | 0.415 | |
| process_CarePlan | 0.401 | 0.000 | 0.401 | |
| process_Claim | 0.425 | 0.008 | 0.432 | |
| process_Condition | 0.396 | 0.008 | 0.405 | |
| process_Encounter | 0.416 | 0.000 | 0.416 | |
| process_Immunization | 0.570 | 0.012 | 0.583 | |
| process_MedicationRequest | 0.374 | 0.000 | 0.374 | |
| process_Observation | 0.402 | 0.000 | 0.402 | |
| process_Patient | 0.38 | 0.00 | 0.38 | |
| process_Procedure | 0.398 | 0.012 | 0.410 | |
| process_fhir_bundle | 0.390 | 0.012 | 0.403 | |
| stack_fhir | 1.367 | 0.067 | 2.232 | |