| Back to Multiple platform build/check report for BioC 3.18: simplified long |
|
This page was generated on 2024-04-17 11:35:49 -0400 (Wed, 17 Apr 2024).
| Hostname | OS | Arch (*) | R version | Installed pkgs |
|---|---|---|---|---|
| nebbiolo2 | Linux (Ubuntu 22.04.3 LTS) | x86_64 | 4.3.3 (2024-02-29) -- "Angel Food Cake" | 4676 |
| palomino4 | Windows Server 2022 Datacenter | x64 | 4.3.3 (2024-02-29 ucrt) -- "Angel Food Cake" | 4414 |
| merida1 | macOS 12.7.1 Monterey | x86_64 | 4.3.3 (2024-02-29) -- "Angel Food Cake" | 4437 |
| Click on any hostname to see more info about the system (e.g. compilers) (*) as reported by 'uname -p', except on Windows and Mac OS X | ||||
| Package 239/2266 | Hostname | OS / Arch | INSTALL | BUILD | CHECK | BUILD BIN | ||||||||
| BRGenomics 1.14.1 (landing page) Mike DeBerardine
| nebbiolo2 | Linux (Ubuntu 22.04.3 LTS) / x86_64 | OK | OK | ERROR | |||||||||
| palomino4 | Windows Server 2022 Datacenter / x64 | OK | OK | OK | OK | |||||||||
| merida1 | macOS 12.7.1 Monterey / x86_64 | OK | OK | OK | OK | |||||||||
| kjohnson1 | macOS 13.6.1 Ventura / arm64 | see weekly results here | ||||||||||||
|
To the developers/maintainers of the BRGenomics package: - Allow up to 24 hours (and sometimes 48 hours) for your latest push to git@git.bioconductor.org:packages/BRGenomics.git to reflect on this report. See Troubleshooting Build Report for more information. - Use the following Renviron settings to reproduce errors and warnings. - If 'R CMD check' started to fail recently on the Linux builder(s) over a missing dependency, add the missing dependency to 'Suggests:' in your DESCRIPTION file. See Renviron.bioc for more information. |
| Package: BRGenomics |
| Version: 1.14.1 |
| Command: /home/biocbuild/bbs-3.18-bioc/R/bin/R CMD check --install=check:BRGenomics.install-out.txt --library=/home/biocbuild/bbs-3.18-bioc/R/site-library --timings BRGenomics_1.14.1.tar.gz |
| StartedAt: 2024-04-15 20:45:33 -0400 (Mon, 15 Apr 2024) |
| EndedAt: 2024-04-15 20:55:55 -0400 (Mon, 15 Apr 2024) |
| EllapsedTime: 622.2 seconds |
| RetCode: 1 |
| Status: ERROR |
| CheckDir: BRGenomics.Rcheck |
| Warnings: NA |
##############################################################################
##############################################################################
###
### Running command:
###
### /home/biocbuild/bbs-3.18-bioc/R/bin/R CMD check --install=check:BRGenomics.install-out.txt --library=/home/biocbuild/bbs-3.18-bioc/R/site-library --timings BRGenomics_1.14.1.tar.gz
###
##############################################################################
##############################################################################
* using log directory ‘/home/biocbuild/bbs-3.18-bioc/meat/BRGenomics.Rcheck’
* using R version 4.3.3 (2024-02-29)
* using platform: x86_64-pc-linux-gnu (64-bit)
* R was compiled by
gcc (Ubuntu 11.4.0-1ubuntu1~22.04) 11.4.0
GNU Fortran (Ubuntu 11.4.0-1ubuntu1~22.04) 11.4.0
* running under: Ubuntu 22.04.4 LTS
* using session charset: UTF-8
* checking for file ‘BRGenomics/DESCRIPTION’ ... OK
* checking extension type ... Package
* this is package ‘BRGenomics’ version ‘1.14.1’
* package encoding: UTF-8
* checking package namespace information ... OK
* checking package dependencies ... OK
* checking if this is a source package ... OK
* checking if there is a namespace ... OK
* checking for hidden files and directories ... NOTE
Found the following hidden files and directories:
.travis.yml
These were most likely included in error. See section ‘Package
structure’ in the ‘Writing R Extensions’ manual.
* checking for portable file names ... OK
* checking for sufficient/correct file permissions ... OK
* checking whether package ‘BRGenomics’ can be installed ... OK
* checking installed package size ... OK
* checking package directory ... OK
* checking ‘build’ directory ... OK
* checking DESCRIPTION meta-information ... OK
* checking top-level files ... OK
* checking for left-over files ... OK
* checking index information ... OK
* checking package subdirectories ... OK
* checking R files for non-ASCII characters ... OK
* checking R files for syntax errors ... OK
* checking whether the package can be loaded ... OK
* checking whether the package can be loaded with stated dependencies ... OK
* checking whether the package can be unloaded cleanly ... OK
* checking whether the namespace can be loaded with stated dependencies ... OK
* checking whether the namespace can be unloaded cleanly ... OK
* checking loading without being on the library search path ... OK
* checking dependencies in R code ... OK
* checking S3 generic/method consistency ... OK
* checking replacement functions ... OK
* checking foreign function calls ... OK
* checking R code for possible problems ... OK
* checking Rd files ... OK
* checking Rd metadata ... OK
* checking Rd cross-references ... OK
* checking for missing documentation entries ... OK
* checking for code/documentation mismatches ... OK
* checking Rd \usage sections ... OK
* checking Rd contents ... OK
* checking for unstated dependencies in examples ... OK
* checking contents of ‘data’ directory ... OK
* checking data for non-ASCII characters ... OK
* checking data for ASCII and uncompressed saves ... OK
* checking files in ‘vignettes’ ... OK
* checking examples ... OK
Examples with CPU (user + system) or elapsed time > 5s
user system elapsed
getDESeqResults 9.831 0.18 10.012
* checking for unstated dependencies in ‘tests’ ... OK
* checking tests ...
Running ‘testthat.R’
OK
* checking for unstated dependencies in vignettes ... OK
* checking package vignettes in ‘inst/doc’ ... OK
* checking running R code from vignettes ...
‘AnalyzingMultipleDatasets.Rmd’ using ‘UTF-8’... OK
‘DESeq2WithGlobalPerturbations.Rmd’ using ‘UTF-8’... OK
‘GettingStarted.Rmd’ using ‘UTF-8’... OK
‘ImportingModifyingAnnotations.Rmd’ using ‘UTF-8’... OK
‘ImportingProcessingData.Rmd’ using ‘UTF-8’... OK
‘Overview.Rmd’ using ‘UTF-8’... OK
‘ProfilePlotsAndBootstrapping.Rmd’ using ‘UTF-8’... OK
‘SequenceExtraction.Rmd’ using ‘UTF-8’... OK
‘SignalCounting.Rmd’ using ‘UTF-8’... failed
‘SpikeInNormalization.Rmd’ using ‘UTF-8’... OK
ERROR
Errors in running code in vignettes:
when running code in ‘SignalCounting.Rmd’
...
[5,] 0 0 0 0 0 0 0 0 0 0
> all(rowSums(countmatrix_pr_bin) == rowSums(countmatrix_pr))
[1] TRUE
> getCountsByPositions(PROseq, txs_dm6_chr4)
When sourcing ‘SignalCounting.R’:
Error: regions.gr contains ranges with multiple widths, but simplify.multi.widths is set to 'error'. Did you mean to call getCountsByRegions instead?
Execution halted
* checking re-building of vignette outputs ... OK
* checking PDF version of manual ... OK
* DONE
Status: 1 ERROR, 1 NOTE
See
‘/home/biocbuild/bbs-3.18-bioc/meat/BRGenomics.Rcheck/00check.log’
for details.
BRGenomics.Rcheck/00install.out
############################################################################## ############################################################################## ### ### Running command: ### ### /home/biocbuild/bbs-3.18-bioc/R/bin/R CMD INSTALL BRGenomics ### ############################################################################## ############################################################################## * installing to library ‘/home/biocbuild/bbs-3.18-bioc/R/site-library’ * installing *source* package ‘BRGenomics’ ... ** using staged installation ** R ** data ** inst ** byte-compile and prepare package for lazy loading ** help *** installing help indices ** building package indices ** installing vignettes ** testing if installed package can be loaded from temporary location ** testing if installed package can be loaded from final location ** testing if installed package keeps a record of temporary installation path * DONE (BRGenomics)
BRGenomics.Rcheck/tests/testthat.Rout
R version 4.3.3 (2024-02-29) -- "Angel Food Cake"
Copyright (C) 2024 The R Foundation for Statistical Computing
Platform: x86_64-pc-linux-gnu (64-bit)
R is free software and comes with ABSOLUTELY NO WARRANTY.
You are welcome to redistribute it under certain conditions.
Type 'license()' or 'licence()' for distribution details.
R is a collaborative project with many contributors.
Type 'contributors()' for more information and
'citation()' on how to cite R or R packages in publications.
Type 'demo()' for some demos, 'help()' for on-line help, or
'help.start()' for an HTML browser interface to help.
Type 'q()' to quit R.
> Sys.setenv("R_TESTS" = "")
> library(testthat)
> library(BRGenomics)
Loading required package: rtracklayer
Loading required package: GenomicRanges
Loading required package: stats4
Loading required package: BiocGenerics
Attaching package: 'BiocGenerics'
The following objects are masked from 'package:stats':
IQR, mad, sd, var, xtabs
The following objects are masked from 'package:base':
Filter, Find, Map, Position, Reduce, anyDuplicated, aperm, append,
as.data.frame, basename, cbind, colnames, dirname, do.call,
duplicated, eval, evalq, get, grep, grepl, intersect, is.unsorted,
lapply, mapply, match, mget, order, paste, pmax, pmax.int, pmin,
pmin.int, rank, rbind, rownames, sapply, setdiff, sort, table,
tapply, union, unique, unsplit, which.max, which.min
Loading required package: S4Vectors
Attaching package: 'S4Vectors'
The following object is masked from 'package:utils':
findMatches
The following objects are masked from 'package:base':
I, expand.grid, unname
Loading required package: IRanges
Loading required package: GenomeInfoDb
>
> test_check("BRGenomics")
[ FAIL 0 | WARN 0 | SKIP 0 | PASS 576 ]
>
> proc.time()
user system elapsed
115.936 8.616 122.642
BRGenomics.Rcheck/BRGenomics-Ex.timings
| name | user | system | elapsed | |
| applyNFsGRanges | 0.205 | 0.000 | 0.205 | |
| binNdimensions | 0.456 | 0.028 | 0.485 | |
| bootstrap-signal-by-position | 1.117 | 0.116 | 1.232 | |
| genebodies | 0.147 | 0.000 | 0.148 | |
| getCountsByPositions | 0.390 | 0.035 | 0.427 | |
| getCountsByRegions | 0.159 | 0.008 | 0.167 | |
| getDESeqDataSet | 0.593 | 0.040 | 0.633 | |
| getDESeqResults | 9.831 | 0.180 | 10.012 | |
| getMaxPositionsBySignal | 0.235 | 0.004 | 0.239 | |
| getPausingIndices | 0.594 | 0.000 | 0.594 | |
| getSpikeInCounts | 0.248 | 0.245 | 0.359 | |
| getSpikeInNFs | 0.501 | 0.190 | 0.521 | |
| getStrandedCoverage | 0.933 | 0.071 | 1.005 | |
| import-functions | 0.818 | 0.112 | 0.932 | |
| import_bam | 0.589 | 0.072 | 0.661 | |
| intersectByGene | 0.901 | 0.060 | 0.960 | |
| makeGRangesBRG | 0.261 | 0.000 | 0.261 | |
| mergeGRangesData | 0.920 | 0.107 | 1.028 | |
| mergeReplicates | 0.566 | 0.000 | 0.567 | |
| subsampleBySpikeIn | 0.639 | 0.388 | 0.806 | |
| subsampleGRanges | 0.069 | 0.008 | 0.077 | |
| subsetRegionsBySignal | 1.500 | 0.368 | 1.867 | |
| tidyChromosomes | 0.586 | 0.056 | 0.642 | |