| Back to Multiple platform build/check report for BioC 3.18: simplified long | 
 | 
This page was generated on 2024-04-17 11:35:46 -0400 (Wed, 17 Apr 2024).
| Hostname | OS | Arch (*) | R version | Installed pkgs | 
|---|---|---|---|---|
| nebbiolo2 | Linux (Ubuntu 22.04.3 LTS) | x86_64 | 4.3.3 (2024-02-29) -- "Angel Food Cake" | 4676 | 
| palomino4 | Windows Server 2022 Datacenter | x64 | 4.3.3 (2024-02-29 ucrt) -- "Angel Food Cake" | 4414 | 
| merida1 | macOS 12.7.1 Monterey | x86_64 | 4.3.3 (2024-02-29) -- "Angel Food Cake" | 4437 | 
| Click on any hostname to see more info about the system (e.g. compilers) (*) as reported by 'uname -p', except on Windows and Mac OS X | ||||
| Package 104/2266 | Hostname | OS / Arch | INSTALL | BUILD | CHECK | BUILD BIN | ||||||||
| ATACCoGAPS 1.4.0  (landing page) Rossin Erbe 
 | nebbiolo2 | Linux (Ubuntu 22.04.3 LTS) / x86_64 | OK | OK | OK |  | ||||||||
| palomino4 | Windows Server 2022 Datacenter / x64 | OK | OK | OK | OK |  | ||||||||
| merida1 | macOS 12.7.1 Monterey / x86_64 | OK | OK | OK | OK |  | ||||||||
| kjohnson1 | macOS 13.6.1 Ventura / arm64 | see weekly results here | ||||||||||||
| To the developers/maintainers of the ATACCoGAPS package: - Allow up to 24 hours (and sometimes 48 hours) for your latest push to git@git.bioconductor.org:packages/ATACCoGAPS.git to reflect on this report. See Troubleshooting Build Report for more information. - Use the following Renviron settings to reproduce errors and warnings. - If 'R CMD check' started to fail recently on the Linux builder(s) over a missing dependency, add the missing dependency to 'Suggests:' in your DESCRIPTION file. See Renviron.bioc for more information. | 
| Package: ATACCoGAPS | 
| Version: 1.4.0 | 
| Command: /home/biocbuild/bbs-3.18-bioc/R/bin/R CMD check --install=check:ATACCoGAPS.install-out.txt --library=/home/biocbuild/bbs-3.18-bioc/R/site-library --timings ATACCoGAPS_1.4.0.tar.gz | 
| StartedAt: 2024-04-15 20:09:08 -0400 (Mon, 15 Apr 2024) | 
| EndedAt: 2024-04-15 20:25:26 -0400 (Mon, 15 Apr 2024) | 
| EllapsedTime: 977.4 seconds | 
| RetCode: 0 | 
| Status: OK | 
| CheckDir: ATACCoGAPS.Rcheck | 
| Warnings: 0 | 
##############################################################################
##############################################################################
###
### Running command:
###
###   /home/biocbuild/bbs-3.18-bioc/R/bin/R CMD check --install=check:ATACCoGAPS.install-out.txt --library=/home/biocbuild/bbs-3.18-bioc/R/site-library --timings ATACCoGAPS_1.4.0.tar.gz
###
##############################################################################
##############################################################################
* using log directory ‘/home/biocbuild/bbs-3.18-bioc/meat/ATACCoGAPS.Rcheck’
* using R version 4.3.3 (2024-02-29)
* using platform: x86_64-pc-linux-gnu (64-bit)
* R was compiled by
    gcc (Ubuntu 11.4.0-1ubuntu1~22.04) 11.4.0
    GNU Fortran (Ubuntu 11.4.0-1ubuntu1~22.04) 11.4.0
* running under: Ubuntu 22.04.4 LTS
* using session charset: UTF-8
* checking for file ‘ATACCoGAPS/DESCRIPTION’ ... OK
* this is package ‘ATACCoGAPS’ version ‘1.4.0’
* package encoding: UTF-8
* checking package namespace information ... OK
* checking package dependencies ... OK
* checking if this is a source package ... OK
* checking if there is a namespace ... OK
* checking for hidden files and directories ... OK
* checking for portable file names ... OK
* checking for sufficient/correct file permissions ... OK
* checking whether package ‘ATACCoGAPS’ can be installed ... OK
* checking installed package size ... OK
* checking package directory ... OK
* checking ‘build’ directory ... OK
* checking DESCRIPTION meta-information ... OK
* checking top-level files ... OK
* checking for left-over files ... OK
* checking index information ... OK
* checking package subdirectories ... OK
* checking R files for non-ASCII characters ... OK
* checking R files for syntax errors ... OK
* checking whether the package can be loaded ... OK
* checking whether the package can be loaded with stated dependencies ... OK
* checking whether the package can be unloaded cleanly ... OK
* checking whether the namespace can be loaded with stated dependencies ... OK
* checking whether the namespace can be unloaded cleanly ... OK
* checking loading without being on the library search path ... OK
* checking dependencies in R code ... NOTE
Package in Depends field not imported from: ‘CoGAPS’
  These packages need to be imported from (in the NAMESPACE file)
  for when this namespace is loaded but not attached.
* checking S3 generic/method consistency ... OK
* checking replacement functions ... OK
* checking foreign function calls ... OK
* checking R code for possible problems ... NOTE
cgapsPlot: no visible global function definition for ‘rainbow’
cgapsPlot: no visible global function definition for ‘par’
cgapsPlot: no visible global function definition for ‘legend’
findOverlap: no visible global function definition for ‘queryHits’
geneAccessibility: no visible global function definition for
  ‘subjectHits’
heatmapGeneAccessibility: no visible global function definition for
  ‘rainbow’
heatmapPatternMarkers: no visible global function definition for
  ‘rainbow’
heatmapPatternMatrix: no visible global function definition for
  ‘rainbow’
paths: no visible global function definition for ‘p.adjust’
Undefined global functions or variables:
  legend p.adjust par queryHits rainbow subjectHits
Consider adding
  importFrom("grDevices", "rainbow")
  importFrom("graphics", "legend", "par")
  importFrom("stats", "p.adjust")
to your NAMESPACE file.
* checking Rd files ... OK
* checking Rd metadata ... OK
* checking Rd cross-references ... OK
* checking for missing documentation entries ... OK
* checking for code/documentation mismatches ... OK
* checking Rd \usage sections ... OK
* checking Rd contents ... OK
* checking for unstated dependencies in examples ... OK
* checking contents of ‘data’ directory ... OK
* checking data for non-ASCII characters ... OK
* checking data for ASCII and uncompressed saves ... OK
* checking R/sysdata.rda ... OK
* checking files in ‘vignettes’ ... OK
* checking examples ... OK
Examples with CPU (user + system) or elapsed time > 5s
                     user system elapsed
applyGREAT         88.427  6.032 192.909
simpleMotifTFMatch 82.887  0.656  83.578
motifPatternMatch  34.612  0.948  35.561
pathwayMatch       28.822  0.548  29.371
genePatternMatch   24.103  0.348  24.451
* checking for unstated dependencies in vignettes ... OK
* checking package vignettes in ‘inst/doc’ ... OK
* checking running R code from vignettes ...
  ‘ATACCoGAPS.Rmd’ using ‘UTF-8’... OK
 OK
* checking re-building of vignette outputs ... OK
* checking PDF version of manual ... OK
* DONE
Status: 2 NOTEs
See
  ‘/home/biocbuild/bbs-3.18-bioc/meat/ATACCoGAPS.Rcheck/00check.log’
for details.
ATACCoGAPS.Rcheck/00install.out
############################################################################## ############################################################################## ### ### Running command: ### ### /home/biocbuild/bbs-3.18-bioc/R/bin/R CMD INSTALL ATACCoGAPS ### ############################################################################## ############################################################################## * installing to library ‘/home/biocbuild/bbs-3.18-bioc/R/site-library’ * installing *source* package ‘ATACCoGAPS’ ... ** using staged installation ** R ** data ** byte-compile and prepare package for lazy loading ** help *** installing help indices ** building package indices ** installing vignettes ** testing if installed package can be loaded from temporary location ** testing if installed package can be loaded from final location ** testing if installed package keeps a record of temporary installation path * DONE (ATACCoGAPS)
ATACCoGAPS.Rcheck/ATACCoGAPS-Ex.timings
| name | user | system | elapsed | |
| RNAseqTFValidation | 0 | 0 | 0 | |
| applyGREAT | 88.427 | 6.032 | 192.909 | |
| cgapsPlot | 0.313 | 0.004 | 0.317 | |
| dataSubsetBySparsity | 1.420 | 0.224 | 1.645 | |
| foldAccessibility | 3.496 | 0.092 | 3.589 | |
| geneAccessibility | 3.235 | 0.116 | 3.350 | |
| genePatternMatch | 24.103 | 0.348 | 24.451 | |
| heatmapGeneAccessibility | 3.536 | 0.084 | 3.620 | |
| heatmapPatternMarkers | 2.997 | 0.160 | 3.157 | |
| heatmapPatternMatrix | 0.681 | 0.012 | 0.693 | |
| motifPatternMatch | 34.612 | 0.948 | 35.561 | |
| motifSummarization | 0.001 | 0.000 | 0.001 | |
| pathwayMatch | 28.822 | 0.548 | 29.371 | |
| patternMarkerCellClassifier | 0.154 | 0.004 | 0.158 | |
| peaksToGRanges | 0.308 | 0.012 | 0.320 | |
| simpleMotifTFMatch | 82.887 | 0.656 | 83.578 | |