| Back to Multiple platform build/check report for BioC 3.18: simplified long |
|
This page was generated on 2024-03-04 11:37:06 -0500 (Mon, 04 Mar 2024).
| Hostname | OS | Arch (*) | R version | Installed pkgs |
|---|---|---|---|---|
| nebbiolo2 | Linux (Ubuntu 22.04.3 LTS) | x86_64 | 4.3.2 Patched (2023-11-13 r85521) -- "Eye Holes" | 4692 |
| palomino4 | Windows Server 2022 Datacenter | x64 | 4.3.2 (2023-10-31 ucrt) -- "Eye Holes" | 4445 |
| lconway | macOS 12.7.1 Monterey | x86_64 | 4.3.2 Patched (2023-11-01 r85457) -- "Eye Holes" | 4466 |
| Click on any hostname to see more info about the system (e.g. compilers) (*) as reported by 'uname -p', except on Windows and Mac OS X | ||||
| Package 11/2266 | Hostname | OS / Arch | INSTALL | BUILD | CHECK | BUILD BIN | ||||||||
| ACE 1.20.0 (landing page) Jos B Poell
| nebbiolo2 | Linux (Ubuntu 22.04.3 LTS) / x86_64 | OK | OK | OK | |||||||||
| palomino4 | Windows Server 2022 Datacenter / x64 | OK | OK | OK | OK | |||||||||
| lconway | macOS 12.7.1 Monterey / x86_64 | OK | OK | OK | OK | |||||||||
| kjohnson1 | macOS 13.6.1 Ventura / arm64 | see weekly results here | ||||||||||||
|
To the developers/maintainers of the ACE package: - Allow up to 24 hours (and sometimes 48 hours) for your latest push to git@git.bioconductor.org:packages/ACE.git to reflect on this report. See Troubleshooting Build Report for more information. - Use the following Renviron settings to reproduce errors and warnings. - If 'R CMD check' started to fail recently on the Linux builder(s) over a missing dependency, add the missing dependency to 'Suggests:' in your DESCRIPTION file. See Renviron.bioc for more information. |
| Package: ACE |
| Version: 1.20.0 |
| Command: /Library/Frameworks/R.framework/Resources/bin/R CMD check --install=check:ACE.install-out.txt --library=/Library/Frameworks/R.framework/Resources/library --no-vignettes --timings ACE_1.20.0.tar.gz |
| StartedAt: 2024-03-03 18:50:44 -0500 (Sun, 03 Mar 2024) |
| EndedAt: 2024-03-03 18:53:56 -0500 (Sun, 03 Mar 2024) |
| EllapsedTime: 192.2 seconds |
| RetCode: 0 |
| Status: OK |
| CheckDir: ACE.Rcheck |
| Warnings: 0 |
##############################################################################
##############################################################################
###
### Running command:
###
### /Library/Frameworks/R.framework/Resources/bin/R CMD check --install=check:ACE.install-out.txt --library=/Library/Frameworks/R.framework/Resources/library --no-vignettes --timings ACE_1.20.0.tar.gz
###
##############################################################################
##############################################################################
* using log directory ‘/Users/biocbuild/bbs-3.18-bioc/meat/ACE.Rcheck’
* using R version 4.3.2 Patched (2023-11-01 r85457)
* using platform: x86_64-apple-darwin20 (64-bit)
* R was compiled by
Apple clang version 14.0.3 (clang-1403.0.22.14.1)
GNU Fortran (GCC) 12.2.0
* running under: macOS Monterey 12.7.1
* using session charset: UTF-8
* using option ‘--no-vignettes’
* checking for file ‘ACE/DESCRIPTION’ ... OK
* this is package ‘ACE’ version ‘1.20.0’
* package encoding: UTF-8
* checking package namespace information ... OK
* checking package dependencies ... OK
* checking if this is a source package ... OK
* checking if there is a namespace ... OK
* checking for hidden files and directories ... OK
* checking for portable file names ... OK
* checking for sufficient/correct file permissions ... OK
* checking whether package ‘ACE’ can be installed ... OK
* checking installed package size ... OK
* checking package directory ... OK
* checking ‘build’ directory ... OK
* checking DESCRIPTION meta-information ... OK
* checking top-level files ... OK
* checking for left-over files ... OK
* checking index information ... OK
* checking package subdirectories ... OK
* checking R files for non-ASCII characters ... OK
* checking R files for syntax errors ... OK
* checking whether the package can be loaded ... OK
* checking whether the package can be loaded with stated dependencies ... OK
* checking whether the package can be unloaded cleanly ... OK
* checking whether the namespace can be loaded with stated dependencies ... OK
* checking whether the namespace can be unloaded cleanly ... OK
* checking dependencies in R code ... NOTE
Unexported object imported by a ':::' call: ‘QDNAseq:::sdDiffTrim’
See the note in ?`:::` about the use of this operator.
* checking S3 generic/method consistency ... OK
* checking replacement functions ... OK
* checking foreign function calls ... OK
* checking R code for possible problems ... NOTE
squaremodel: no visible binding for global variable ‘cellularity’
Undefined global functions or variables:
cellularity
* checking Rd files ... OK
* checking Rd metadata ... OK
* checking Rd cross-references ... OK
* checking for missing documentation entries ... OK
* checking for code/documentation mismatches ... OK
* checking Rd \usage sections ... OK
* checking Rd contents ... OK
* checking for unstated dependencies in examples ... OK
* checking contents of ‘data’ directory ... OK
* checking data for non-ASCII characters ... OK
* checking LazyData ... OK
* checking data for ASCII and uncompressed saves ... OK
* checking files in ‘vignettes’ ... OK
* checking examples ... OK
Examples with CPU (user + system) or elapsed time > 5s
user system elapsed
squaremodel 8.171 0.130 8.371
squaremodelsummary 8.023 0.160 8.264
loopsquaremodel 4.997 0.107 5.159
* checking for unstated dependencies in vignettes ... OK
* checking package vignettes in ‘inst/doc’ ... OK
* checking running R code from vignettes ... SKIPPED
* checking re-building of vignette outputs ... SKIPPED
* checking PDF version of manual ... OK
* DONE
Status: 2 NOTEs
See
‘/Users/biocbuild/bbs-3.18-bioc/meat/ACE.Rcheck/00check.log’
for details.
ACE.Rcheck/00install.out
############################################################################## ############################################################################## ### ### Running command: ### ### /Library/Frameworks/R.framework/Resources/bin/R CMD INSTALL ACE ### ############################################################################## ############################################################################## * installing to library ‘/Library/Frameworks/R.framework/Versions/4.3-x86_64/Resources/library’ * installing *source* package ‘ACE’ ... ** using staged installation ** R ** data *** moving datasets to lazyload DB ** inst ** byte-compile and prepare package for lazy loading ** help *** installing help indices ** building package indices ** installing vignettes ** testing if installed package can be loaded from temporary location ** testing if installed package can be loaded from final location ** testing if installed package keeps a record of temporary installation path * DONE (ACE)
ACE.Rcheck/ACE-Ex.timings
| name | user | system | elapsed | |
| ACEcall | 1.764 | 0.721 | 2.601 | |
| analyzegenomiclocations | 0.021 | 0.004 | 0.025 | |
| compresstemplate | 0.051 | 0.003 | 0.055 | |
| copyNumbersSegmented | 1.212 | 0.066 | 1.308 | |
| correlationmatrix | 0.140 | 0.004 | 0.146 | |
| forcesegmentsontemplate | 0.457 | 0.016 | 0.484 | |
| getadjustedsegments | 0.252 | 0.013 | 0.270 | |
| linkvariants | 0.026 | 0.003 | 0.029 | |
| loopsquaremodel | 4.997 | 0.107 | 5.159 | |
| objectsampletotemplate | 0.007 | 0.002 | 0.010 | |
| postanalysisloop | 0 | 0 | 0 | |
| runACE | 0 | 0 | 0 | |
| singlemodel | 1.007 | 0.040 | 1.089 | |
| singleplot | 1.505 | 0.058 | 1.623 | |
| squaremodel | 8.171 | 0.130 | 8.371 | |
| squaremodelsummary | 8.023 | 0.160 | 8.264 | |
| templatefromequalsegments | 0.028 | 0.002 | 0.030 | |
| twosamplecompare | 3.121 | 0.090 | 3.248 | |