| Back to Build/check report for BioC 3.17 experimental data |
|
This page was generated on 2023-10-12 14:51:36 -0400 (Thu, 12 Oct 2023).
| Hostname | OS | Arch (*) | R version | Installed pkgs |
|---|---|---|---|---|
| nebbiolo1 | Linux (Ubuntu 22.04.2 LTS) | x86_64 | 4.3.1 (2023-06-16) -- "Beagle Scouts" | 4626 |
| Click on any hostname to see more info about the system (e.g. compilers) (*) as reported by 'uname -p', except on Windows and Mac OS X | ||||
| Package 356/421 | Hostname | OS / Arch | INSTALL | BUILD | CHECK | ||||||||
| sesameData 1.18.0 (landing page) Wanding Zhou
| nebbiolo1 | Linux (Ubuntu 22.04.2 LTS) / x86_64 | OK | OK | OK | ||||||||
|
To the developers/maintainers of the sesameData package: - Use the following Renviron settings to reproduce errors and warnings. - If 'R CMD check' started to fail recently on the Linux builder(s) over a missing dependency, add the missing dependency to 'Suggests:' in your DESCRIPTION file. See Renviron.bioc for more information. |
| Package: sesameData |
| Version: 1.18.0 |
| Command: /home/biocbuild/bbs-3.17-bioc/R/bin/R CMD check --install=check:sesameData.install-out.txt --library=/home/biocbuild/bbs-3.17-bioc/R/site-library --timings sesameData_1.18.0.tar.gz |
| StartedAt: 2023-10-12 12:01:46 -0400 (Thu, 12 Oct 2023) |
| EndedAt: 2023-10-12 12:04:55 -0400 (Thu, 12 Oct 2023) |
| EllapsedTime: 188.9 seconds |
| RetCode: 0 |
| Status: OK |
| CheckDir: sesameData.Rcheck |
| Warnings: 0 |
##############################################################################
##############################################################################
###
### Running command:
###
### /home/biocbuild/bbs-3.17-bioc/R/bin/R CMD check --install=check:sesameData.install-out.txt --library=/home/biocbuild/bbs-3.17-bioc/R/site-library --timings sesameData_1.18.0.tar.gz
###
##############################################################################
##############################################################################
* using log directory ‘/home/biocbuild/bbs-3.17-data-experiment/meat/sesameData.Rcheck’
* using R version 4.3.1 (2023-06-16)
* using platform: x86_64-pc-linux-gnu (64-bit)
* R was compiled by
gcc (Ubuntu 11.3.0-1ubuntu1~22.04.1) 11.3.0
GNU Fortran (Ubuntu 11.3.0-1ubuntu1~22.04.1) 11.3.0
* running under: Ubuntu 22.04.3 LTS
* using session charset: UTF-8
* checking for file ‘sesameData/DESCRIPTION’ ... OK
* checking extension type ... Package
* this is package ‘sesameData’ version ‘1.18.0’
* package encoding: UTF-8
* checking package namespace information ... OK
* checking package dependencies ... OK
* checking if this is a source package ... OK
* checking if there is a namespace ... OK
* checking for hidden files and directories ... OK
* checking for portable file names ... OK
* checking for sufficient/correct file permissions ... OK
* checking whether package ‘sesameData’ can be installed ... OK
* checking installed package size ... OK
* checking package directory ... OK
* checking ‘build’ directory ... OK
* checking DESCRIPTION meta-information ... OK
* checking top-level files ... OK
* checking for left-over files ... OK
* checking index information ... OK
* checking package subdirectories ... OK
* checking R files for non-ASCII characters ... OK
* checking R files for syntax errors ... OK
* checking whether the package can be loaded ... OK
* checking whether the package can be loaded with stated dependencies ... OK
* checking whether the package can be unloaded cleanly ... OK
* checking whether the namespace can be loaded with stated dependencies ... OK
* checking whether the namespace can be unloaded cleanly ... OK
* checking loading without being on the library search path ... OK
* checking startup messages can be suppressed ... OK
* checking dependencies in R code ... OK
* checking S3 generic/method consistency ... OK
* checking replacement functions ... OK
* checking foreign function calls ... OK
* checking R code for possible problems ... OK
* checking Rd files ... OK
* checking Rd metadata ... OK
* checking Rd cross-references ... OK
* checking for missing documentation entries ... OK
* checking for code/documentation mismatches ... OK
* checking Rd \usage sections ... OK
* checking Rd contents ... OK
* checking for unstated dependencies in examples ... OK
* checking R/sysdata.rda ... OK
* checking files in ‘vignettes’ ... OK
* checking examples ... OK
Examples with CPU (user + system) or elapsed time > 5s
user system elapsed
sesameData_annoProbes 11.518 0.728 12.779
inferPlatformFromProbeIDs 5.811 0.403 6.284
sesameData_getGenesByProbes 5.862 0.296 6.327
* checking for unstated dependencies in ‘tests’ ... OK
* checking tests ...
Running ‘testthat.R’
OK
* checking for unstated dependencies in vignettes ... OK
* checking package vignettes in ‘inst/doc’ ... OK
* checking running R code from vignettes ...
‘sesameData.Rmd’ using ‘UTF-8’... OK
NONE
* checking re-building of vignette outputs ... OK
* checking PDF version of manual ... OK
* DONE
Status: OK
sesameData.Rcheck/00install.out
############################################################################## ############################################################################## ### ### Running command: ### ### /home/biocbuild/bbs-3.17-bioc/R/bin/R CMD INSTALL sesameData ### ############################################################################## ############################################################################## * installing to library ‘/home/biocbuild/bbs-3.17-bioc/R/site-library’ * installing *source* package ‘sesameData’ ... ** using staged installation ** R ** inst ** byte-compile and prepare package for lazy loading ** help *** installing help indices ** building package indices ** installing vignettes ** testing if installed package can be loaded from temporary location ** testing if installed package can be loaded from final location ** testing if installed package keeps a record of temporary installation path * DONE (sesameData)
sesameData.Rcheck/tests/testthat.Rout
R version 4.3.1 (2023-06-16) -- "Beagle Scouts"
Copyright (C) 2023 The R Foundation for Statistical Computing
Platform: x86_64-pc-linux-gnu (64-bit)
R is free software and comes with ABSOLUTELY NO WARRANTY.
You are welcome to redistribute it under certain conditions.
Type 'license()' or 'licence()' for distribution details.
R is a collaborative project with many contributors.
Type 'contributors()' for more information and
'citation()' on how to cite R or R packages in publications.
Type 'demo()' for some demos, 'help()' for on-line help, or
'help.start()' for an HTML browser interface to help.
Type 'q()' to quit R.
> library(testthat)
> library(sesame)
Loading required package: sesameData
Loading required package: ExperimentHub
Loading required package: BiocGenerics
Attaching package: 'BiocGenerics'
The following objects are masked from 'package:stats':
IQR, mad, sd, var, xtabs
The following objects are masked from 'package:base':
Filter, Find, Map, Position, Reduce, anyDuplicated, aperm, append,
as.data.frame, basename, cbind, colnames, dirname, do.call,
duplicated, eval, evalq, get, grep, grepl, intersect, is.unsorted,
lapply, mapply, match, mget, order, paste, pmax, pmax.int, pmin,
pmin.int, rank, rbind, rownames, sapply, setdiff, sort, table,
tapply, union, unique, unsplit, which.max, which.min
Loading required package: AnnotationHub
Loading required package: BiocFileCache
Loading required package: dbplyr
Loading sesameData.
----------------------------------------------------------
| SEnsible Step-wise Analysis of DNA MEthylation (SeSAMe)
| --------------------------------------------------------
| Please cache auxiliary data by "sesameDataCache()".
| This needs to be done only once per SeSAMe installation.
----------------------------------------------------------
>
> test_check("sesameData")
[ FAIL 0 | WARN 0 | SKIP 0 | PASS 1 ]
>
> proc.time()
user system elapsed
9.324 0.442 9.993
sesameData.Rcheck/sesameData-Ex.timings
| name | user | system | elapsed | |
| extend | 0.099 | 0.015 | 0.115 | |
| inferPlatformFromProbeIDs | 5.811 | 0.403 | 6.284 | |
| sesameDataCache | 0 | 0 | 0 | |
| sesameDataCacheAll | 0 | 0 | 0 | |
| sesameDataCacheExample | 0 | 0 | 0 | |
| sesameDataGet | 1.959 | 0.191 | 2.520 | |
| sesameDataGet_resetEnv | 0.524 | 0.108 | 0.632 | |
| sesameDataHas | 0.001 | 0.000 | 0.000 | |
| sesameDataList | 0.025 | 0.000 | 0.025 | |
| sesameData_annoProbes | 11.518 | 0.728 | 12.779 | |
| sesameData_check_genome | 0 | 0 | 0 | |
| sesameData_check_platform | 0 | 0 | 0 | |
| sesameData_getAutosomeProbes | 1.130 | 0.104 | 1.401 | |
| sesameData_getGenesByProbes | 5.862 | 0.296 | 6.327 | |
| sesameData_getGenomeInfo | 0.001 | 0.000 | 0.001 | |
| sesameData_getManifestGRanges | 0.001 | 0.000 | 0.001 | |
| sesameData_getProbesByChromosome | 0.004 | 0.000 | 0.004 | |
| sesameData_getProbesByGene | 1.352 | 0.036 | 1.387 | |
| sesameData_getProbesByRegion | 0.067 | 0.004 | 0.070 | |
| sesameData_getProbesByTSS | 0.149 | 0.008 | 0.157 | |
| sesameData_getTxnGRanges | 0.09 | 0.00 | 0.09 | |
| sesameData_txnToGeneGRanges | 0.626 | 0.024 | 0.650 | |