| Back to Build/check report for BioC 3.17 experimental data |
|
This page was generated on 2023-10-12 14:51:35 -0400 (Thu, 12 Oct 2023).
| Hostname | OS | Arch (*) | R version | Installed pkgs |
|---|---|---|---|---|
| nebbiolo1 | Linux (Ubuntu 22.04.2 LTS) | x86_64 | 4.3.1 (2023-06-16) -- "Beagle Scouts" | 4626 |
| Click on any hostname to see more info about the system (e.g. compilers) (*) as reported by 'uname -p', except on Windows and Mac OS X | ||||
| Package 200/421 | Hostname | OS / Arch | INSTALL | BUILD | CHECK | ||||||||
| KEGGdzPathwaysGEO 1.38.0 (landing page) Gaurav Bhatti
| nebbiolo1 | Linux (Ubuntu 22.04.2 LTS) / x86_64 | OK | OK | OK | ||||||||
|
To the developers/maintainers of the KEGGdzPathwaysGEO package: - Use the following Renviron settings to reproduce errors and warnings. - If 'R CMD check' started to fail recently on the Linux builder(s) over a missing dependency, add the missing dependency to 'Suggests:' in your DESCRIPTION file. See Renviron.bioc for more information. |
| Package: KEGGdzPathwaysGEO |
| Version: 1.38.0 |
| Command: /home/biocbuild/bbs-3.17-bioc/R/bin/R CMD check --install=check:KEGGdzPathwaysGEO.install-out.txt --library=/home/biocbuild/bbs-3.17-bioc/R/site-library --timings KEGGdzPathwaysGEO_1.38.0.tar.gz |
| StartedAt: 2023-10-12 11:32:56 -0400 (Thu, 12 Oct 2023) |
| EndedAt: 2023-10-12 11:37:44 -0400 (Thu, 12 Oct 2023) |
| EllapsedTime: 287.5 seconds |
| RetCode: 0 |
| Status: OK |
| CheckDir: KEGGdzPathwaysGEO.Rcheck |
| Warnings: 0 |
##############################################################################
##############################################################################
###
### Running command:
###
### /home/biocbuild/bbs-3.17-bioc/R/bin/R CMD check --install=check:KEGGdzPathwaysGEO.install-out.txt --library=/home/biocbuild/bbs-3.17-bioc/R/site-library --timings KEGGdzPathwaysGEO_1.38.0.tar.gz
###
##############################################################################
##############################################################################
* using log directory ‘/home/biocbuild/bbs-3.17-data-experiment/meat/KEGGdzPathwaysGEO.Rcheck’
* using R version 4.3.1 (2023-06-16)
* using platform: x86_64-pc-linux-gnu (64-bit)
* R was compiled by
gcc (Ubuntu 11.3.0-1ubuntu1~22.04.1) 11.3.0
GNU Fortran (Ubuntu 11.3.0-1ubuntu1~22.04.1) 11.3.0
* running under: Ubuntu 22.04.3 LTS
* using session charset: UTF-8
* checking for file ‘KEGGdzPathwaysGEO/DESCRIPTION’ ... OK
* checking extension type ... Package
* this is package ‘KEGGdzPathwaysGEO’ version ‘1.38.0’
* checking package namespace information ... OK
* checking package dependencies ... OK
* checking if this is a source package ... OK
* checking if there is a namespace ... OK
* checking for hidden files and directories ... OK
* checking for portable file names ... OK
* checking for sufficient/correct file permissions ... OK
* checking whether package ‘KEGGdzPathwaysGEO’ can be installed ... OK
* checking installed package size ... NOTE
installed size is 301.0Mb
sub-directories of 1Mb or more:
data 300.8Mb
* checking package directory ... OK
* checking DESCRIPTION meta-information ... OK
* checking top-level files ... OK
* checking for left-over files ... OK
* checking index information ... OK
* checking package subdirectories ... OK
* checking R files for non-ASCII characters ... OK
* checking R files for syntax errors ... OK
* checking whether the package can be loaded ... OK
* checking whether the package can be loaded with stated dependencies ... OK
* checking whether the package can be unloaded cleanly ... OK
* checking whether the namespace can be loaded with stated dependencies ... OK
* checking whether the namespace can be unloaded cleanly ... OK
* checking loading without being on the library search path ... OK
* checking dependencies in R code ... NOTE
Namespaces in Imports field not imported from:
‘Biobase’ ‘BiocGenerics’
All declared Imports should be used.
* checking S3 generic/method consistency ... OK
* checking replacement functions ... OK
* checking foreign function calls ... OK
* checking R code for possible problems ... OK
* checking Rd files ... OK
* checking Rd metadata ... OK
* checking Rd cross-references ... OK
* checking for missing documentation entries ... OK
* checking for code/documentation mismatches ... OK
* checking Rd \usage sections ... OK
* checking Rd contents ... OK
* checking for unstated dependencies in examples ... OK
* checking contents of ‘data’ directory ... OK
* checking data for non-ASCII characters ... OK
* checking data for ASCII and uncompressed saves ... OK
* checking examples ... OK
* checking PDF version of manual ... OK
* DONE
Status: 2 NOTEs
See
‘/home/biocbuild/bbs-3.17-data-experiment/meat/KEGGdzPathwaysGEO.Rcheck/00check.log’
for details.
KEGGdzPathwaysGEO.Rcheck/00install.out
############################################################################## ############################################################################## ### ### Running command: ### ### /home/biocbuild/bbs-3.17-bioc/R/bin/R CMD INSTALL KEGGdzPathwaysGEO ### ############################################################################## ############################################################################## * installing to library ‘/home/biocbuild/bbs-3.17-bioc/R/site-library’ * installing *source* package ‘KEGGdzPathwaysGEO’ ... ** using staged installation ** R ** data ** byte-compile and prepare package for lazy loading ** help *** installing help indices ** building package indices ** testing if installed package can be loaded from temporary location ** testing if installed package can be loaded from final location ** testing if installed package keeps a record of temporary installation path * DONE (KEGGdzPathwaysGEO)
KEGGdzPathwaysGEO.Rcheck/KEGGdzPathwaysGEO-Ex.timings
| name | user | system | elapsed | |
| GSE1297 | 0.050 | 0.008 | 0.058 | |
| GSE14762 | 0.115 | 0.016 | 0.132 | |
| GSE15471 | 0.274 | 0.039 | 0.314 | |
| GSE16515 | 0.143 | 0.016 | 0.159 | |
| GSE18842 | 0.343 | 0.048 | 0.391 | |
| GSE19188 | 0.588 | 0.104 | 0.703 | |
| GSE19728 | 0.118 | 0.008 | 0.127 | |
| GSE20153 | 0.094 | 0.012 | 0.107 | |
| GSE20291 | 0.064 | 0.008 | 0.073 | |
| GSE21354 | 0.092 | 0.019 | 0.113 | |
| GSE3467 | 0.108 | 0.004 | 0.113 | |
| GSE3585 | 0.036 | 0.004 | 0.040 | |
| GSE3678 | 0.090 | 0.007 | 0.098 | |
| GSE4107 | 0.112 | 0.016 | 0.129 | |
| GSE5281_EC | 0.114 | 0.009 | 0.123 | |
| GSE5281_HIP | 0.131 | 0.008 | 0.138 | |
| GSE5281_VCX | 0.138 | 0.019 | 0.158 | |
| GSE6956AA | 0.036 | 0.000 | 0.036 | |
| GSE6956C | 0.066 | 0.016 | 0.083 | |
| GSE781 | 0.036 | 0.008 | 0.045 | |
| GSE8671 | 0.264 | 0.020 | 0.285 | |
| GSE8762 | 0.114 | 0.016 | 0.130 | |
| GSE9348 | 0.312 | 0.040 | 0.353 | |
| GSE9476 | 0.105 | 0.013 | 0.119 | |
| KEGGdzPathwaysGEO-package | 0.295 | 0.024 | 0.320 | |