| Back to Mac ARM64 build report for BioC 3.17 |
|
This page was generated on 2023-10-20 09:38:14 -0400 (Fri, 20 Oct 2023).
| Hostname | OS | Arch (*) | R version | Installed pkgs |
|---|---|---|---|---|
| kjohnson2 | macOS 12.6.1 Monterey | arm64 | 4.3.1 (2023-06-16) -- "Beagle Scouts" | 4347 |
| Click on any hostname to see more info about the system (e.g. compilers) (*) as reported by 'uname -p', except on Windows and Mac OS X | ||||
| Package 2173/2230 | Hostname | OS / Arch | INSTALL | BUILD | CHECK | BUILD BIN | ||||||||
| universalmotif 1.18.1 (landing page) Benjamin Jean-Marie Tremblay
| kjohnson2 | macOS 12.6.1 Monterey / arm64 | OK | OK | OK | OK | ||||||||
|
To the developers/maintainers of the universalmotif package: - Use the following Renviron settings to reproduce errors and warnings. - If 'R CMD check' started to fail recently on the Linux builder(s) over a missing dependency, add the missing dependency to 'Suggests:' in your DESCRIPTION file. See Renviron.bioc for more information. |
| Package: universalmotif |
| Version: 1.18.1 |
| Command: /Library/Frameworks/R.framework/Resources/bin/R CMD check --install=check:universalmotif.install-out.txt --library=/Library/Frameworks/R.framework/Resources/library --no-vignettes --timings universalmotif_1.18.1.tar.gz |
| StartedAt: 2023-10-19 09:08:38 -0400 (Thu, 19 Oct 2023) |
| EndedAt: 2023-10-19 09:13:58 -0400 (Thu, 19 Oct 2023) |
| EllapsedTime: 319.4 seconds |
| RetCode: 0 |
| Status: OK |
| CheckDir: universalmotif.Rcheck |
| Warnings: 0 |
##############################################################################
##############################################################################
###
### Running command:
###
### /Library/Frameworks/R.framework/Resources/bin/R CMD check --install=check:universalmotif.install-out.txt --library=/Library/Frameworks/R.framework/Resources/library --no-vignettes --timings universalmotif_1.18.1.tar.gz
###
##############################################################################
##############################################################################
* using log directory ‘/Users/biocbuild/bbs-3.17-bioc-mac-arm64/meat/universalmotif.Rcheck’
* using R version 4.3.1 (2023-06-16)
* using platform: aarch64-apple-darwin20 (64-bit)
* R was compiled by
Apple clang version 14.0.0 (clang-1400.0.29.202)
GNU Fortran (GCC) 12.2.0
* running under: macOS Monterey 12.6.7
* using session charset: UTF-8
* using option ‘--no-vignettes’
* checking for file ‘universalmotif/DESCRIPTION’ ... OK
* this is package ‘universalmotif’ version ‘1.18.1’
* package encoding: UTF-8
* checking package namespace information ... OK
* checking package dependencies ... OK
* checking if this is a source package ... OK
* checking if there is a namespace ... OK
* checking for hidden files and directories ... OK
* checking for portable file names ... OK
* checking for sufficient/correct file permissions ... OK
* checking whether package ‘universalmotif’ can be installed ... OK
* used C++ compiler: ‘Apple clang version 14.0.0 (clang-1400.0.29.202)’
* used SDK: ‘MacOSX11.3.sdk’
* checking C++ specification ... NOTE
Specified C++11: please drop specification unless essential
* checking installed package size ... OK
* checking package directory ... OK
* checking ‘build’ directory ... OK
* checking DESCRIPTION meta-information ... OK
* checking top-level files ... OK
* checking for left-over files ... OK
* checking index information ... OK
* checking package subdirectories ... OK
* checking R files for non-ASCII characters ... OK
* checking R files for syntax errors ... OK
* checking whether the package can be loaded ... OK
* checking whether the package can be loaded with stated dependencies ... OK
* checking whether the package can be unloaded cleanly ... OK
* checking whether the namespace can be loaded with stated dependencies ... OK
* checking whether the namespace can be unloaded cleanly ... OK
* checking dependencies in R code ... OK
* checking S3 generic/method consistency ... OK
* checking replacement functions ... OK
* checking foreign function calls ... OK
* checking R code for possible problems ... OK
* checking Rd files ... OK
* checking Rd metadata ... OK
* checking Rd cross-references ... OK
* checking for missing documentation entries ... OK
* checking for code/documentation mismatches ... OK
* checking Rd \usage sections ... OK
* checking Rd contents ... OK
* checking for unstated dependencies in examples ... OK
* checking contents of ‘data’ directory ... OK
* checking data for non-ASCII characters ... OK
* checking data for ASCII and uncompressed saves ... OK
* checking line endings in C/C++/Fortran sources/headers ... OK
* checking line endings in Makefiles ... OK
* checking compilation flags in Makevars ... OK
* checking for GNU extensions in Makefiles ... OK
* checking for portable use of $(BLAS_LIBS) and $(LAPACK_LIBS) ... OK
* checking use of PKG_*FLAGS in Makefiles ... OK
* checking compiled code ... NOTE
Note: information on .o files is not available
* checking sizes of PDF files under ‘inst/doc’ ... OK
* checking files in ‘vignettes’ ... OK
* checking examples ... OK
Examples with CPU (user + system) or elapsed time > 5s
user system elapsed
convert_motifs 10.644 0.399 17.946
* checking for unstated dependencies in ‘tests’ ... OK
* checking tests ...
Running ‘spelling.R’
Running ‘testthat.R’
OK
* checking for unstated dependencies in vignettes ... OK
* checking package vignettes in ‘inst/doc’ ... OK
* checking running R code from vignettes ... SKIPPED
* checking re-building of vignette outputs ... SKIPPED
* checking PDF version of manual ... OK
* DONE
Status: 2 NOTEs
See
‘/Users/biocbuild/bbs-3.17-bioc-mac-arm64/meat/universalmotif.Rcheck/00check.log’
for details.
universalmotif.Rcheck/00install.out
############################################################################## ############################################################################## ### ### Running command: ### ### /Library/Frameworks/R.framework/Resources/bin/R CMD INSTALL universalmotif ### ############################################################################## ############################################################################## * installing to library ‘/Library/Frameworks/R.framework/Versions/4.3-arm64/Resources/library’ * installing *source* package ‘universalmotif’ ... ** using staged installation ** libs using C++ compiler: ‘Apple clang version 14.0.0 (clang-1400.0.29.202)’ using C++11 using SDK: ‘MacOSX11.3.sdk’ clang++ -arch arm64 -std=gnu++11 -I"/Library/Frameworks/R.framework/Resources/include" -DNDEBUG -I'/Library/Frameworks/R.framework/Versions/4.3-arm64/Resources/library/Rcpp/include' -I'/Library/Frameworks/R.framework/Versions/4.3-arm64/Resources/library/RcppThread/include' -I/opt/R/arm64/include -fPIC -falign-functions=64 -Wall -g -O2 -c RcppExports.cpp -o RcppExports.o clang++ -arch arm64 -std=gnu++11 -I"/Library/Frameworks/R.framework/Resources/include" -DNDEBUG -I'/Library/Frameworks/R.framework/Versions/4.3-arm64/Resources/library/Rcpp/include' -I'/Library/Frameworks/R.framework/Versions/4.3-arm64/Resources/library/RcppThread/include' -I/opt/R/arm64/include -fPIC -falign-functions=64 -Wall -g -O2 -c add_multifreq.cpp -o add_multifreq.o clang++ -arch arm64 -std=gnu++11 -I"/Library/Frameworks/R.framework/Resources/include" -DNDEBUG -I'/Library/Frameworks/R.framework/Versions/4.3-arm64/Resources/library/Rcpp/include' -I'/Library/Frameworks/R.framework/Versions/4.3-arm64/Resources/library/RcppThread/include' -I/opt/R/arm64/include -fPIC -falign-functions=64 -Wall -g -O2 -c calc_complexity.cpp -o calc_complexity.o clang++ -arch arm64 -std=gnu++11 -I"/Library/Frameworks/R.framework/Resources/include" -DNDEBUG -I'/Library/Frameworks/R.framework/Versions/4.3-arm64/Resources/library/Rcpp/include' -I'/Library/Frameworks/R.framework/Versions/4.3-arm64/Resources/library/RcppThread/include' -I/opt/R/arm64/include -fPIC -falign-functions=64 -Wall -g -O2 -c compare_motifs.cpp -o compare_motifs.o clang++ -arch arm64 -std=gnu++11 -I"/Library/Frameworks/R.framework/Resources/include" -DNDEBUG -I'/Library/Frameworks/R.framework/Versions/4.3-arm64/Resources/library/Rcpp/include' -I'/Library/Frameworks/R.framework/Versions/4.3-arm64/Resources/library/RcppThread/include' -I/opt/R/arm64/include -fPIC -falign-functions=64 -Wall -g -O2 -c get_bkg.cpp -o get_bkg.o clang++ -arch arm64 -std=gnu++11 -I"/Library/Frameworks/R.framework/Resources/include" -DNDEBUG -I'/Library/Frameworks/R.framework/Versions/4.3-arm64/Resources/library/Rcpp/include' -I'/Library/Frameworks/R.framework/Versions/4.3-arm64/Resources/library/RcppThread/include' -I/opt/R/arm64/include -fPIC -falign-functions=64 -Wall -g -O2 -c motif_finder.cpp -o motif_finder.o clang++ -arch arm64 -std=gnu++11 -I"/Library/Frameworks/R.framework/Resources/include" -DNDEBUG -I'/Library/Frameworks/R.framework/Versions/4.3-arm64/Resources/library/Rcpp/include' -I'/Library/Frameworks/R.framework/Versions/4.3-arm64/Resources/library/RcppThread/include' -I/opt/R/arm64/include -fPIC -falign-functions=64 -Wall -g -O2 -c motif_peaks.cpp -o motif_peaks.o clang++ -arch arm64 -std=gnu++11 -I"/Library/Frameworks/R.framework/Resources/include" -DNDEBUG -I'/Library/Frameworks/R.framework/Versions/4.3-arm64/Resources/library/Rcpp/include' -I'/Library/Frameworks/R.framework/Versions/4.3-arm64/Resources/library/RcppThread/include' -I/opt/R/arm64/include -fPIC -falign-functions=64 -Wall -g -O2 -c motif_pvalue.cpp -o motif_pvalue.o clang++ -arch arm64 -std=gnu++11 -I"/Library/Frameworks/R.framework/Resources/include" -DNDEBUG -I'/Library/Frameworks/R.framework/Versions/4.3-arm64/Resources/library/Rcpp/include' -I'/Library/Frameworks/R.framework/Versions/4.3-arm64/Resources/library/RcppThread/include' -I/opt/R/arm64/include -fPIC -falign-functions=64 -Wall -g -O2 -c scan_sequences.cpp -o scan_sequences.o clang++ -arch arm64 -std=gnu++11 -I"/Library/Frameworks/R.framework/Resources/include" -DNDEBUG -I'/Library/Frameworks/R.framework/Versions/4.3-arm64/Resources/library/Rcpp/include' -I'/Library/Frameworks/R.framework/Versions/4.3-arm64/Resources/library/RcppThread/include' -I/opt/R/arm64/include -fPIC -falign-functions=64 -Wall -g -O2 -c shuffle_sequences.cpp -o shuffle_sequences.o clang++ -arch arm64 -std=gnu++11 -I"/Library/Frameworks/R.framework/Resources/include" -DNDEBUG -I'/Library/Frameworks/R.framework/Versions/4.3-arm64/Resources/library/Rcpp/include' -I'/Library/Frameworks/R.framework/Versions/4.3-arm64/Resources/library/RcppThread/include' -I/opt/R/arm64/include -fPIC -falign-functions=64 -Wall -g -O2 -c trim_motifs.cpp -o trim_motifs.o clang++ -arch arm64 -std=gnu++11 -I"/Library/Frameworks/R.framework/Resources/include" -DNDEBUG -I'/Library/Frameworks/R.framework/Versions/4.3-arm64/Resources/library/Rcpp/include' -I'/Library/Frameworks/R.framework/Versions/4.3-arm64/Resources/library/RcppThread/include' -I/opt/R/arm64/include -fPIC -falign-functions=64 -Wall -g -O2 -c universalmotif-class.cpp -o universalmotif-class.o clang++ -arch arm64 -std=gnu++11 -I"/Library/Frameworks/R.framework/Resources/include" -DNDEBUG -I'/Library/Frameworks/R.framework/Versions/4.3-arm64/Resources/library/Rcpp/include' -I'/Library/Frameworks/R.framework/Versions/4.3-arm64/Resources/library/RcppThread/include' -I/opt/R/arm64/include -fPIC -falign-functions=64 -Wall -g -O2 -c utils-exported.cpp -o utils-exported.o clang++ -arch arm64 -std=gnu++11 -I"/Library/Frameworks/R.framework/Resources/include" -DNDEBUG -I'/Library/Frameworks/R.framework/Versions/4.3-arm64/Resources/library/Rcpp/include' -I'/Library/Frameworks/R.framework/Versions/4.3-arm64/Resources/library/RcppThread/include' -I/opt/R/arm64/include -fPIC -falign-functions=64 -Wall -g -O2 -c utils-internal.cpp -o utils-internal.o clang++ -arch arm64 -std=gnu++11 -dynamiclib -Wl,-headerpad_max_install_names -undefined dynamic_lookup -single_module -multiply_defined suppress -L/Library/Frameworks/R.framework/Resources/lib -L/opt/R/arm64/lib -o universalmotif.so RcppExports.o add_multifreq.o calc_complexity.o compare_motifs.o get_bkg.o motif_finder.o motif_peaks.o motif_pvalue.o scan_sequences.o shuffle_sequences.o trim_motifs.o universalmotif-class.o utils-exported.o utils-internal.o -lpthread -F/Library/Frameworks/R.framework/.. -framework R -Wl,-framework -Wl,CoreFoundation if test -e "/usr/bin/strip" & test -e "/bin/uname" & [[ `uname` == "Linux" ]] ; then /usr/bin/strip --strip-debug universalmotif.so; fi installing to /Library/Frameworks/R.framework/Versions/4.3-arm64/Resources/library/00LOCK-universalmotif/00new/universalmotif/libs ** R ** data ** inst ** byte-compile and prepare package for lazy loading in method for ‘convert_motifs’ with signature ‘motifs="MotifList"’: no definition for class “MotifList” in method for ‘convert_motifs’ with signature ‘motifs="TFFMFirst"’: no definition for class “TFFMFirst” in method for ‘convert_motifs’ with signature ‘motifs="PFMatrix"’: no definition for class “PFMatrix” in method for ‘convert_motifs’ with signature ‘motifs="PWMatrix"’: no definition for class “PWMatrix” in method for ‘convert_motifs’ with signature ‘motifs="ICMatrix"’: no definition for class “ICMatrix” in method for ‘convert_motifs’ with signature ‘motifs="XMatrixList"’: no definition for class “XMatrixList” in method for ‘convert_motifs’ with signature ‘motifs="pwm"’: no definition for class “pwm” in method for ‘convert_motifs’ with signature ‘motifs="pcm"’: no definition for class “pcm” in method for ‘convert_motifs’ with signature ‘motifs="pfm"’: no definition for class “pfm” in method for ‘convert_motifs’ with signature ‘motifs="PWM"’: no definition for class “PWM” in method for ‘convert_motifs’ with signature ‘motifs="Motif"’: no definition for class “Motif” ** help *** installing help indices ** building package indices ** installing vignettes ** testing if installed package can be loaded from temporary location ** checking absolute paths in shared objects and dynamic libraries ** testing if installed package can be loaded from final location ** testing if installed package keeps a record of temporary installation path * DONE (universalmotif)
universalmotif.Rcheck/tests/spelling.Rout
R version 4.3.1 (2023-06-16) -- "Beagle Scouts"
Copyright (C) 2023 The R Foundation for Statistical Computing
Platform: aarch64-apple-darwin20 (64-bit)
R is free software and comes with ABSOLUTELY NO WARRANTY.
You are welcome to redistribute it under certain conditions.
Type 'license()' or 'licence()' for distribution details.
R is a collaborative project with many contributors.
Type 'contributors()' for more information and
'citation()' on how to cite R or R packages in publications.
Type 'demo()' for some demos, 'help()' for on-line help, or
'help.start()' for an HTML browser interface to help.
Type 'q()' to quit R.
> if(requireNamespace('spelling', quietly = TRUE))
+ spelling::spell_check_test(vignettes = TRUE, error = FALSE,
+ skip_on_cran = TRUE)
NULL
>
> proc.time()
user system elapsed
0.206 0.064 0.523
universalmotif.Rcheck/tests/testthat.Rout
R version 4.3.1 (2023-06-16) -- "Beagle Scouts"
Copyright (C) 2023 The R Foundation for Statistical Computing
Platform: aarch64-apple-darwin20 (64-bit)
R is free software and comes with ABSOLUTELY NO WARRANTY.
You are welcome to redistribute it under certain conditions.
Type 'license()' or 'licence()' for distribution details.
R is a collaborative project with many contributors.
Type 'contributors()' for more information and
'citation()' on how to cite R or R packages in publications.
Type 'demo()' for some demos, 'help()' for on-line help, or
'help.start()' for an HTML browser interface to help.
Type 'q()' to quit R.
> if (R.Version()$arch != "i386") {
+
+ library(testthat)
+ library(universalmotif)
+
+ test_check("universalmotif")
+
+ } else TRUE
[ FAIL 0 | WARN 2 | SKIP 0 | PASS 240 ]
[ FAIL 0 | WARN 2 | SKIP 0 | PASS 240 ]
>
> proc.time()
user system elapsed
10.091 0.575 19.113
universalmotif.Rcheck/universalmotif-Ex.timings
| name | user | system | elapsed | |
| add_multifreq | 0.018 | 0.004 | 0.070 | |
| compare_motifs | 0.186 | 0.006 | 0.358 | |
| convert_motifs | 10.644 | 0.399 | 17.946 | |
| convert_type | 0.010 | 0.002 | 0.020 | |
| create_motif | 0.396 | 0.034 | 0.788 | |
| create_sequences | 0.007 | 0.001 | 0.028 | |
| enrich_motifs | 2.190 | 0.060 | 3.996 | |
| filter_motifs | 0.020 | 0.003 | 0.038 | |
| get_bkg | 0.294 | 0.030 | 0.608 | |
| make_DBscores | 0 | 0 | 0 | |
| merge_motifs | 0.238 | 0.027 | 0.474 | |
| merge_similar | 0 | 0 | 0 | |
| motif_peaks | 0.228 | 0.015 | 0.429 | |
| motif_pvalue | 0.071 | 0.007 | 0.135 | |
| motif_rc | 0.005 | 0.001 | 0.009 | |
| motif_tree | 0.375 | 0.048 | 0.743 | |
| read_cisbp | 0.005 | 0.002 | 0.011 | |
| read_homer | 0.271 | 0.008 | 0.516 | |
| read_jaspar | 0.003 | 0.000 | 0.007 | |
| read_matrix | 0.004 | 0.001 | 0.014 | |
| read_meme | 0.021 | 0.002 | 0.033 | |
| read_transfac | 0.010 | 0.001 | 0.011 | |
| read_uniprobe | 0.007 | 0.001 | 0.013 | |
| run_meme | 0.001 | 0.000 | 0.000 | |
| sample_sites | 0.020 | 0.001 | 0.037 | |
| scan_sequences | 1.075 | 0.050 | 1.991 | |
| sequence_complexity | 1.071 | 0.043 | 2.318 | |
| shuffle_sequences | 0.006 | 0.000 | 0.014 | |
| switch_alph | 0.002 | 0.000 | 0.006 | |
| tidy-motifs | 0 | 0 | 0 | |
| trim_motifs | 0.007 | 0.001 | 0.014 | |
| universalmotif-class | 0.014 | 0.004 | 0.032 | |
| utils-motif | 0.080 | 0.158 | 0.411 | |
| utils-sequence | 0.792 | 0.015 | 1.434 | |
| view_logo | 0.151 | 0.010 | 0.268 | |
| view_motifs | 0.188 | 0.007 | 0.320 | |
| write_homer | 0.003 | 0.001 | 0.006 | |
| write_jaspar | 0.012 | 0.001 | 0.021 | |
| write_matrix | 0.003 | 0.000 | 0.003 | |
| write_meme | 0.015 | 0.001 | 0.029 | |
| write_transfac | 0.007 | 0.001 | 0.017 | |