| Back to Mac ARM64 build report for BioC 3.17 |
|
This page was generated on 2023-10-20 09:38:14 -0400 (Fri, 20 Oct 2023).
| Hostname | OS | Arch (*) | R version | Installed pkgs |
|---|---|---|---|---|
| kjohnson2 | macOS 12.6.1 Monterey | arm64 | 4.3.1 (2023-06-16) -- "Beagle Scouts" | 4347 |
| Click on any hostname to see more info about the system (e.g. compilers) (*) as reported by 'uname -p', except on Windows and Mac OS X | ||||
| Package 2160/2230 | Hostname | OS / Arch | INSTALL | BUILD | CHECK | BUILD BIN | ||||||||
| twoddpcr 1.24.0 (landing page) Anthony Chiu
| kjohnson2 | macOS 12.6.1 Monterey / arm64 | OK | OK | OK | OK | ||||||||
|
To the developers/maintainers of the twoddpcr package: - Use the following Renviron settings to reproduce errors and warnings. - If 'R CMD check' started to fail recently on the Linux builder(s) over a missing dependency, add the missing dependency to 'Suggests:' in your DESCRIPTION file. See Renviron.bioc for more information. |
| Package: twoddpcr |
| Version: 1.24.0 |
| Command: /Library/Frameworks/R.framework/Resources/bin/R CMD check --install=check:twoddpcr.install-out.txt --library=/Library/Frameworks/R.framework/Resources/library --no-vignettes --timings twoddpcr_1.24.0.tar.gz |
| StartedAt: 2023-10-19 08:47:45 -0400 (Thu, 19 Oct 2023) |
| EndedAt: 2023-10-19 08:52:02 -0400 (Thu, 19 Oct 2023) |
| EllapsedTime: 256.9 seconds |
| RetCode: 0 |
| Status: OK |
| CheckDir: twoddpcr.Rcheck |
| Warnings: 0 |
##############################################################################
##############################################################################
###
### Running command:
###
### /Library/Frameworks/R.framework/Resources/bin/R CMD check --install=check:twoddpcr.install-out.txt --library=/Library/Frameworks/R.framework/Resources/library --no-vignettes --timings twoddpcr_1.24.0.tar.gz
###
##############################################################################
##############################################################################
* using log directory ‘/Users/biocbuild/bbs-3.17-bioc-mac-arm64/meat/twoddpcr.Rcheck’
* using R version 4.3.1 (2023-06-16)
* using platform: aarch64-apple-darwin20 (64-bit)
* R was compiled by
Apple clang version 14.0.0 (clang-1400.0.29.202)
GNU Fortran (GCC) 12.2.0
* running under: macOS Monterey 12.6.7
* using session charset: UTF-8
* using option ‘--no-vignettes’
* checking for file ‘twoddpcr/DESCRIPTION’ ... OK
* this is package ‘twoddpcr’ version ‘1.24.0’
* checking package namespace information ... OK
* checking package dependencies ... OK
* checking if this is a source package ... OK
* checking if there is a namespace ... OK
* checking for hidden files and directories ... OK
* checking for portable file names ... OK
* checking for sufficient/correct file permissions ... OK
* checking whether package ‘twoddpcr’ can be installed ... OK
* checking installed package size ... OK
* checking package directory ... OK
* checking ‘build’ directory ... OK
* checking DESCRIPTION meta-information ... OK
* checking top-level files ... OK
* checking for left-over files ... OK
* checking index information ... OK
* checking package subdirectories ... OK
* checking R files for non-ASCII characters ... OK
* checking R files for syntax errors ... OK
* checking whether the package can be loaded ... OK
* checking whether the package can be loaded with stated dependencies ... OK
* checking whether the package can be unloaded cleanly ... OK
* checking whether the namespace can be loaded with stated dependencies ... OK
* checking whether the namespace can be unloaded cleanly ... OK
* checking dependencies in R code ... OK
* checking S3 generic/method consistency ... OK
* checking replacement functions ... OK
* checking foreign function calls ... OK
* checking R code for possible problems ... OK
* checking Rd files ... OK
* checking Rd metadata ... OK
* checking Rd cross-references ... OK
* checking for missing documentation entries ... OK
* checking for code/documentation mismatches ... OK
* checking Rd \usage sections ... NOTE
S3 methods shown with full name in documentation object 'ggplot.well':
‘ggplot.well’ ‘ggplot.plate’
The \usage entries for S3 methods should use the \method markup and not
their full name.
See chapter ‘Writing R documentation files’ in the ‘Writing R
Extensions’ manual.
* checking Rd contents ... OK
* checking for unstated dependencies in examples ... OK
* checking contents of ‘data’ directory ... OK
* checking data for non-ASCII characters ... OK
* checking LazyData ... OK
* checking data for ASCII and uncompressed saves ... OK
* checking files in ‘vignettes’ ... OK
* checking examples ... OK
Examples with CPU (user + system) or elapsed time > 5s
user system elapsed
knnClassify 8.574 0.158 14.102
ggplot.well 7.049 0.208 12.805
gridClassify 5.948 0.109 10.335
dropletPlot 4.380 0.174 8.082
renormalisePlate 3.969 0.054 7.123
flatPlot 3.727 0.175 6.997
* checking for unstated dependencies in ‘tests’ ... OK
* checking tests ...
Running ‘testthat.R’
OK
* checking for unstated dependencies in vignettes ... OK
* checking package vignettes in ‘inst/doc’ ... OK
* checking running R code from vignettes ... SKIPPED
* checking re-building of vignette outputs ... SKIPPED
* checking PDF version of manual ... OK
* DONE
Status: 1 NOTE
See
‘/Users/biocbuild/bbs-3.17-bioc-mac-arm64/meat/twoddpcr.Rcheck/00check.log’
for details.
twoddpcr.Rcheck/00install.out
############################################################################## ############################################################################## ### ### Running command: ### ### /Library/Frameworks/R.framework/Resources/bin/R CMD INSTALL twoddpcr ### ############################################################################## ############################################################################## * installing to library ‘/Library/Frameworks/R.framework/Versions/4.3-arm64/Resources/library’ * installing *source* package ‘twoddpcr’ ... ** using staged installation ** R ** data *** moving datasets to lazyload DB ** inst ** byte-compile and prepare package for lazy loading ** help *** installing help indices ** building package indices ** installing vignettes ** testing if installed package can be loaded from temporary location ** testing if installed package can be loaded from final location ** testing if installed package keeps a record of temporary installation path * DONE (twoddpcr)
twoddpcr.Rcheck/tests/testthat.Rout
R version 4.3.1 (2023-06-16) -- "Beagle Scouts"
Copyright (C) 2023 The R Foundation for Statistical Computing
Platform: aarch64-apple-darwin20 (64-bit)
R is free software and comes with ABSOLUTELY NO WARRANTY.
You are welcome to redistribute it under certain conditions.
Type 'license()' or 'licence()' for distribution details.
R is a collaborative project with many contributors.
Type 'contributors()' for more information and
'citation()' on how to cite R or R packages in publications.
Type 'demo()' for some demos, 'help()' for on-line help, or
'help.start()' for an HTML browser interface to help.
Type 'q()' to quit R.
> library(testthat)
> library(twoddpcr)
>
> test_check("twoddpcr")
[ FAIL 0 | WARN 2 | SKIP 0 | PASS 155 ]
[ FAIL 0 | WARN 2 | SKIP 0 | PASS 155 ]
>
> proc.time()
user system elapsed
7.033 0.365 13.255
twoddpcr.Rcheck/twoddpcr-Ex.timings
| name | user | system | elapsed | |
| amplitudes | 0.378 | 0.021 | 0.715 | |
| basicsSummary | 0.006 | 0.001 | 0.013 | |
| castSummary | 0.018 | 0.004 | 0.039 | |
| classCov | 0.060 | 0.004 | 0.117 | |
| classMeans | 0.200 | 0.009 | 0.372 | |
| classStats | 0.073 | 0.007 | 0.147 | |
| clusterCentres | 0.767 | 0.025 | 1.419 | |
| copiesSummary | 0.006 | 0.001 | 0.015 | |
| ddpcrPlate-class | 0.293 | 0.008 | 0.533 | |
| ddpcrWell-class | 0.025 | 0.001 | 0.049 | |
| ddpcrWell-methods | 0.275 | 0.005 | 0.499 | |
| dropletPlot | 4.380 | 0.174 | 8.082 | |
| exportTable | 0.173 | 0.023 | 0.388 | |
| extractPlateName | 0.001 | 0.001 | 0.001 | |
| extractWellNames | 0.001 | 0.001 | 0.005 | |
| facetPlot | 2.473 | 0.065 | 4.554 | |
| flatPlot | 3.727 | 0.175 | 6.997 | |
| fullCopiesSummary | 0.007 | 0.002 | 0.015 | |
| fullCountsSummary | 0.031 | 0.006 | 0.068 | |
| ggplot.well | 7.049 | 0.208 | 12.805 | |
| gridClassify | 5.948 | 0.109 | 10.335 | |
| heatPlot | 1.771 | 0.042 | 3.196 | |
| kmeansClassify | 1.161 | 0.027 | 1.957 | |
| knnClassify | 8.574 | 0.158 | 14.102 | |
| mahalanobisRain | 0.766 | 0.013 | 1.356 | |
| mutantCopiesSummary | 0.005 | 0.001 | 0.010 | |
| numDroplets | 0.306 | 0.003 | 0.556 | |
| parseClusterCounts | 0.014 | 0.003 | 0.033 | |
| plateClassification | 1.215 | 0.021 | 2.212 | |
| plateClassificationMethod | 0.399 | 0.005 | 0.727 | |
| plateSummary | 1.700 | 0.017 | 3.069 | |
| positiveCounts | 0.026 | 0.001 | 0.048 | |
| readCSVDataFrame | 0.016 | 0.004 | 0.038 | |
| relabelClasses | 0.118 | 0.005 | 0.221 | |
| removeDropletClasses | 0.711 | 0.016 | 1.298 | |
| renormalisePlate | 3.969 | 0.054 | 7.123 | |
| sdRain | 2.469 | 0.024 | 4.460 | |
| setChannelNames | 0.001 | 0.000 | 0.002 | |
| setDropletVolume | 0.000 | 0.000 | 0.001 | |
| sortDataFrame | 0.002 | 0.001 | 0.003 | |
| sortWells | 0.353 | 0.004 | 0.636 | |
| thresholdClassify | 1.820 | 0.027 | 3.298 | |
| wellClassification | 0.059 | 0.006 | 0.114 | |
| wellClassificationMethod | 0.026 | 0.001 | 0.045 | |
| whiteTheme | 1.717 | 0.037 | 3.130 | |
| wildTypeCopiesSummary | 0.028 | 0.002 | 0.055 | |