| Back to Mac ARM64 build report for BioC 3.17 |
|
This page was generated on 2023-10-20 09:38:14 -0400 (Fri, 20 Oct 2023).
| Hostname | OS | Arch (*) | R version | Installed pkgs |
|---|---|---|---|---|
| kjohnson2 | macOS 12.6.1 Monterey | arm64 | 4.3.1 (2023-06-16) -- "Beagle Scouts" | 4347 |
| Click on any hostname to see more info about the system (e.g. compilers) (*) as reported by 'uname -p', except on Windows and Mac OS X | ||||
| Package 2122/2230 | Hostname | OS / Arch | INSTALL | BUILD | CHECK | BUILD BIN | ||||||||
| tradeSeq 1.14.0 (landing page) Hector Roux de Bezieux
| kjohnson2 | macOS 12.6.1 Monterey / arm64 | OK | OK | OK | OK | ||||||||
|
To the developers/maintainers of the tradeSeq package: - Use the following Renviron settings to reproduce errors and warnings. - If 'R CMD check' started to fail recently on the Linux builder(s) over a missing dependency, add the missing dependency to 'Suggests:' in your DESCRIPTION file. See Renviron.bioc for more information. |
| Package: tradeSeq |
| Version: 1.14.0 |
| Command: /Library/Frameworks/R.framework/Resources/bin/R CMD check --install=check:tradeSeq.install-out.txt --library=/Library/Frameworks/R.framework/Resources/library --no-vignettes --timings tradeSeq_1.14.0.tar.gz |
| StartedAt: 2023-10-19 07:39:09 -0400 (Thu, 19 Oct 2023) |
| EndedAt: 2023-10-19 08:15:56 -0400 (Thu, 19 Oct 2023) |
| EllapsedTime: 2206.4 seconds |
| RetCode: 0 |
| Status: OK |
| CheckDir: tradeSeq.Rcheck |
| Warnings: 0 |
##############################################################################
##############################################################################
###
### Running command:
###
### /Library/Frameworks/R.framework/Resources/bin/R CMD check --install=check:tradeSeq.install-out.txt --library=/Library/Frameworks/R.framework/Resources/library --no-vignettes --timings tradeSeq_1.14.0.tar.gz
###
##############################################################################
##############################################################################
* using log directory ‘/Users/biocbuild/bbs-3.17-bioc-mac-arm64/meat/tradeSeq.Rcheck’
* using R version 4.3.1 (2023-06-16)
* using platform: aarch64-apple-darwin20 (64-bit)
* R was compiled by
Apple clang version 14.0.0 (clang-1400.0.29.202)
GNU Fortran (GCC) 12.2.0
* running under: macOS Monterey 12.6.7
* using session charset: UTF-8
* using option ‘--no-vignettes’
* checking for file ‘tradeSeq/DESCRIPTION’ ... OK
* checking extension type ... Package
* this is package ‘tradeSeq’ version ‘1.14.0’
* package encoding: UTF-8
* checking package namespace information ... OK
* checking package dependencies ... OK
* checking if this is a source package ... OK
* checking if there is a namespace ... OK
* checking for hidden files and directories ... OK
* checking for portable file names ... OK
* checking for sufficient/correct file permissions ... OK
* checking whether package ‘tradeSeq’ can be installed ... OK
* checking installed package size ... OK
* checking package directory ... OK
* checking ‘build’ directory ... OK
* checking DESCRIPTION meta-information ... OK
* checking top-level files ... OK
* checking for left-over files ... OK
* checking index information ... OK
* checking package subdirectories ... OK
* checking R files for non-ASCII characters ... OK
* checking R files for syntax errors ... OK
* checking whether the package can be loaded ... OK
* checking whether the package can be loaded with stated dependencies ... OK
* checking whether the package can be unloaded cleanly ... OK
* checking whether the namespace can be loaded with stated dependencies ... OK
* checking whether the namespace can be unloaded cleanly ... OK
* checking dependencies in R code ... NOTE
Namespaces in Imports field not imported from:
‘Biobase’ ‘igraph’
All declared Imports should be used.
* checking S3 generic/method consistency ... OK
* checking replacement functions ... OK
* checking foreign function calls ... OK
* checking R code for possible problems ... NOTE
.earlyDETest: no visible binding for global variable ‘X1’
.earlyDETest: no visible binding for global variable ‘X2’
.findKnots: no visible binding for global variable ‘t1’
.findKnots: no visible binding for global variable ‘l1’
.plotGeneCount: no visible binding for global variable ‘dim1’
.plotGeneCount: no visible binding for global variable ‘dim2’
.plotSmoothers: no visible binding for global variable ‘time’
.plotSmoothers: no visible binding for global variable ‘gene_count’
.plotSmoothers: no visible binding for global variable ‘lineage’
.plotSmoothers_conditions: no visible binding for global variable
‘time’
.plotSmoothers_conditions: no visible binding for global variable
‘gene_count’
.plotSmoothers_conditions: no visible binding for global variable
‘lineage’
.plotSmoothers_conditions: no visible binding for global variable
‘pCol’
.plotSmoothers_sce: no visible binding for global variable ‘time’
.plotSmoothers_sce: no visible binding for global variable ‘gene_count’
.plotSmoothers_sce: no visible binding for global variable ‘lineage’
.plotSmoothers_sce: no visible binding for global variable ‘pCol’
Undefined global functions or variables:
X1 X2 dim1 dim2 gene_count l1 lineage pCol t1 time
Consider adding
importFrom("stats", "time")
to your NAMESPACE file.
* checking Rd files ... OK
* checking Rd metadata ... OK
* checking Rd cross-references ... OK
* checking for missing documentation entries ... OK
* checking for code/documentation mismatches ... OK
* checking Rd \usage sections ... OK
* checking Rd contents ... OK
* checking for unstated dependencies in examples ... OK
* checking contents of ‘data’ directory ... OK
* checking data for non-ASCII characters ... OK
* checking data for ASCII and uncompressed saves ... OK
* checking files in ‘vignettes’ ... OK
* checking examples ... OK
Examples with CPU (user + system) or elapsed time > 5s
user system elapsed
conditionTest 109.060 2.273 194.808
associationTest 49.960 0.983 90.867
plotSmoothers 49.220 1.143 86.437
fitGAM 46.175 1.387 83.871
plotGeneCount 43.753 0.997 79.929
plot_evalutateK_results 26.000 0.336 46.896
evaluateK 25.932 0.339 46.812
* checking for unstated dependencies in ‘tests’ ... OK
* checking tests ...
Running ‘testthat.R’
OK
* checking for unstated dependencies in vignettes ... OK
* checking package vignettes in ‘inst/doc’ ... OK
* checking running R code from vignettes ... SKIPPED
* checking re-building of vignette outputs ... SKIPPED
* checking PDF version of manual ... OK
* DONE
Status: 2 NOTEs
See
‘/Users/biocbuild/bbs-3.17-bioc-mac-arm64/meat/tradeSeq.Rcheck/00check.log’
for details.
tradeSeq.Rcheck/00install.out
############################################################################## ############################################################################## ### ### Running command: ### ### /Library/Frameworks/R.framework/Resources/bin/R CMD INSTALL tradeSeq ### ############################################################################## ############################################################################## * installing to library ‘/Library/Frameworks/R.framework/Versions/4.3-arm64/Resources/library’ * installing *source* package ‘tradeSeq’ ... ** using staged installation ** R ** data ** inst ** byte-compile and prepare package for lazy loading ** help *** installing help indices ** building package indices ** installing vignettes ** testing if installed package can be loaded from temporary location ** testing if installed package can be loaded from final location ** testing if installed package keeps a record of temporary installation path * DONE (tradeSeq)
tradeSeq.Rcheck/tests/testthat.Rout
R version 4.3.1 (2023-06-16) -- "Beagle Scouts"
Copyright (C) 2023 The R Foundation for Statistical Computing
Platform: aarch64-apple-darwin20 (64-bit)
R is free software and comes with ABSOLUTELY NO WARRANTY.
You are welcome to redistribute it under certain conditions.
Type 'license()' or 'licence()' for distribution details.
R is a collaborative project with many contributors.
Type 'contributors()' for more information and
'citation()' on how to cite R or R packages in publications.
Type 'demo()' for some demos, 'help()' for on-line help, or
'help.start()' for an HTML browser interface to help.
Type 'q()' to quit R.
> library(testthat)
> library(tradeSeq)
> library(SingleCellExperiment)
Loading required package: SummarizedExperiment
Loading required package: MatrixGenerics
Loading required package: matrixStats
Attaching package: 'MatrixGenerics'
The following objects are masked from 'package:matrixStats':
colAlls, colAnyNAs, colAnys, colAvgsPerRowSet, colCollapse,
colCounts, colCummaxs, colCummins, colCumprods, colCumsums,
colDiffs, colIQRDiffs, colIQRs, colLogSumExps, colMadDiffs,
colMads, colMaxs, colMeans2, colMedians, colMins, colOrderStats,
colProds, colQuantiles, colRanges, colRanks, colSdDiffs, colSds,
colSums2, colTabulates, colVarDiffs, colVars, colWeightedMads,
colWeightedMeans, colWeightedMedians, colWeightedSds,
colWeightedVars, rowAlls, rowAnyNAs, rowAnys, rowAvgsPerColSet,
rowCollapse, rowCounts, rowCummaxs, rowCummins, rowCumprods,
rowCumsums, rowDiffs, rowIQRDiffs, rowIQRs, rowLogSumExps,
rowMadDiffs, rowMads, rowMaxs, rowMeans2, rowMedians, rowMins,
rowOrderStats, rowProds, rowQuantiles, rowRanges, rowRanks,
rowSdDiffs, rowSds, rowSums2, rowTabulates, rowVarDiffs, rowVars,
rowWeightedMads, rowWeightedMeans, rowWeightedMedians,
rowWeightedSds, rowWeightedVars
Loading required package: GenomicRanges
Loading required package: stats4
Loading required package: BiocGenerics
Attaching package: 'BiocGenerics'
The following objects are masked from 'package:stats':
IQR, mad, sd, var, xtabs
The following objects are masked from 'package:base':
Filter, Find, Map, Position, Reduce, anyDuplicated, aperm, append,
as.data.frame, basename, cbind, colnames, dirname, do.call,
duplicated, eval, evalq, get, grep, grepl, intersect, is.unsorted,
lapply, mapply, match, mget, order, paste, pmax, pmax.int, pmin,
pmin.int, rank, rbind, rownames, sapply, setdiff, sort, table,
tapply, union, unique, unsplit, which.max, which.min
Loading required package: S4Vectors
Attaching package: 'S4Vectors'
The following object is masked from 'package:utils':
findMatches
The following objects are masked from 'package:base':
I, expand.grid, unname
Loading required package: IRanges
Loading required package: GenomeInfoDb
Loading required package: Biobase
Welcome to Bioconductor
Vignettes contain introductory material; view with
'browseVignettes()'. To cite Bioconductor, see
'citation("Biobase")', and for packages 'citation("pkgname")'.
Attaching package: 'Biobase'
The following object is masked from 'package:MatrixGenerics':
rowMedians
The following objects are masked from 'package:matrixStats':
anyMissing, rowMedians
> library(slingshot)
Loading required package: princurve
Loading required package: TrajectoryUtils
>
> test_check("tradeSeq")
2 parameter combinations, 2 use sequential method, 2 use subsampling method
Running Clustering on Parameter Combinations...
done.
2 parameter combinations, 2 use sequential method, 2 use subsampling method
Running Clustering on Parameter Combinations...
done.
2 parameter combinations, 2 use sequential method, 2 use subsampling method
Running Clustering on Parameter Combinations...
done.
2 parameter combinations, 2 use sequential method, 2 use subsampling method
Running Clustering on Parameter Combinations...
done.
2 parameter combinations, 2 use sequential method, 2 use subsampling method
Running Clustering on Parameter Combinations...
done.
2 parameter combinations, 2 use sequential method, 2 use subsampling method
Running Clustering on Parameter Combinations...
done.
[ FAIL 0 | WARN 1 | SKIP 0 | PASS 208 ]
[ FAIL 0 | WARN 1 | SKIP 0 | PASS 208 ]
>
> proc.time()
user system elapsed
683.985 10.100 1182.643
tradeSeq.Rcheck/tradeSeq-Ex.timings
| name | user | system | elapsed | |
| associationTest | 49.960 | 0.983 | 90.867 | |
| clusterExpressionPatterns | 0 | 0 | 0 | |
| conditionTest | 109.060 | 2.273 | 194.808 | |
| diffEndTest | 0.041 | 0.002 | 0.069 | |
| earlyDETest | 0.045 | 0.002 | 0.081 | |
| evaluateK | 25.932 | 0.339 | 46.812 | |
| fitGAM | 46.175 | 1.387 | 83.871 | |
| getSmootherPvalues | 0.053 | 0.003 | 0.106 | |
| getSmootherTestStats | 0.051 | 0.002 | 0.094 | |
| nknots | 0.021 | 0.001 | 0.037 | |
| patternTest | 0.038 | 0.002 | 0.071 | |
| plotGeneCount | 43.753 | 0.997 | 79.929 | |
| plotSmoothers | 49.220 | 1.143 | 86.437 | |
| plot_evalutateK_results | 26.000 | 0.336 | 46.896 | |
| predictCells | 0.021 | 0.002 | 0.047 | |
| predictSmooth | 0.035 | 0.004 | 0.073 | |
| startVsEndTest | 0.059 | 0.003 | 0.110 | |