| Back to Mac ARM64 build report for BioC 3.17 |
|
This page was generated on 2023-10-20 09:38:14 -0400 (Fri, 20 Oct 2023).
| Hostname | OS | Arch (*) | R version | Installed pkgs |
|---|---|---|---|---|
| kjohnson2 | macOS 12.6.1 Monterey | arm64 | 4.3.1 (2023-06-16) -- "Beagle Scouts" | 4347 |
| Click on any hostname to see more info about the system (e.g. compilers) (*) as reported by 'uname -p', except on Windows and Mac OS X | ||||
| Package 2111/2230 | Hostname | OS / Arch | INSTALL | BUILD | CHECK | BUILD BIN | ||||||||
| tomoda 1.10.0 (landing page) Wendao Liu
| kjohnson2 | macOS 12.6.1 Monterey / arm64 | OK | OK | OK | OK | ||||||||
|
To the developers/maintainers of the tomoda package: - Use the following Renviron settings to reproduce errors and warnings. - If 'R CMD check' started to fail recently on the Linux builder(s) over a missing dependency, add the missing dependency to 'Suggests:' in your DESCRIPTION file. See Renviron.bioc for more information. |
| Package: tomoda |
| Version: 1.10.0 |
| Command: /Library/Frameworks/R.framework/Resources/bin/R CMD check --install=check:tomoda.install-out.txt --library=/Library/Frameworks/R.framework/Resources/library --no-vignettes --timings tomoda_1.10.0.tar.gz |
| StartedAt: 2023-10-19 07:19:13 -0400 (Thu, 19 Oct 2023) |
| EndedAt: 2023-10-19 07:30:39 -0400 (Thu, 19 Oct 2023) |
| EllapsedTime: 686.6 seconds |
| RetCode: 0 |
| Status: OK |
| CheckDir: tomoda.Rcheck |
| Warnings: 0 |
##############################################################################
##############################################################################
###
### Running command:
###
### /Library/Frameworks/R.framework/Resources/bin/R CMD check --install=check:tomoda.install-out.txt --library=/Library/Frameworks/R.framework/Resources/library --no-vignettes --timings tomoda_1.10.0.tar.gz
###
##############################################################################
##############################################################################
* using log directory ‘/Users/biocbuild/bbs-3.17-bioc-mac-arm64/meat/tomoda.Rcheck’
* using R version 4.3.1 (2023-06-16)
* using platform: aarch64-apple-darwin20 (64-bit)
* R was compiled by
Apple clang version 14.0.0 (clang-1400.0.29.202)
GNU Fortran (GCC) 12.2.0
* running under: macOS Monterey 12.6.7
* using session charset: UTF-8
* using option ‘--no-vignettes’
* checking for file ‘tomoda/DESCRIPTION’ ... OK
* this is package ‘tomoda’ version ‘1.10.0’
* package encoding: UTF-8
* checking package namespace information ... OK
* checking package dependencies ... OK
* checking if this is a source package ... OK
* checking if there is a namespace ... OK
* checking for hidden files and directories ... OK
* checking for portable file names ... OK
* checking for sufficient/correct file permissions ... OK
* checking whether package ‘tomoda’ can be installed ... OK
* checking installed package size ... OK
* checking package directory ... OK
* checking ‘build’ directory ... OK
* checking DESCRIPTION meta-information ... OK
* checking top-level files ... OK
* checking for left-over files ... OK
* checking index information ... OK
* checking package subdirectories ... OK
* checking R files for non-ASCII characters ... OK
* checking R files for syntax errors ... OK
* checking whether the package can be loaded ... OK
* checking whether the package can be loaded with stated dependencies ... OK
* checking whether the package can be unloaded cleanly ... OK
* checking whether the namespace can be loaded with stated dependencies ... OK
* checking whether the namespace can be unloaded cleanly ... OK
* checking dependencies in R code ... OK
* checking S3 generic/method consistency ... OK
* checking replacement functions ... OK
* checking foreign function calls ... OK
* checking R code for possible problems ... OK
* checking Rd files ... OK
* checking Rd metadata ... OK
* checking Rd cross-references ... OK
* checking for missing documentation entries ... OK
* checking for code/documentation mismatches ... OK
* checking Rd \usage sections ... OK
* checking Rd contents ... OK
* checking for unstated dependencies in examples ... OK
* checking contents of ‘data’ directory ... OK
* checking data for non-ASCII characters ... OK
* checking data for ASCII and uncompressed saves ... OK
* checking files in ‘vignettes’ ... OK
* checking examples ... OK
Examples with CPU (user + system) or elapsed time > 5s
user system elapsed
findPeakGene 67.835 1.535 124.029
geneCorHeatmap 37.930 0.846 66.668
geneEmbedPlot 31.742 0.661 57.301
expHeatmap 29.218 0.754 52.461
embedPlot 3.324 0.117 5.796
* checking for unstated dependencies in ‘tests’ ... OK
* checking tests ...
Running ‘testthat.R’
OK
* checking for unstated dependencies in vignettes ... OK
* checking package vignettes in ‘inst/doc’ ... OK
* checking running R code from vignettes ... SKIPPED
* checking re-building of vignette outputs ... SKIPPED
* checking PDF version of manual ... OK
* DONE
Status: OK
tomoda.Rcheck/00install.out
############################################################################## ############################################################################## ### ### Running command: ### ### /Library/Frameworks/R.framework/Resources/bin/R CMD INSTALL tomoda ### ############################################################################## ############################################################################## * installing to library ‘/Library/Frameworks/R.framework/Versions/4.3-arm64/Resources/library’ * installing *source* package ‘tomoda’ ... ** using staged installation ** R ** data ** byte-compile and prepare package for lazy loading ** help *** installing help indices ** building package indices ** installing vignettes ** testing if installed package can be loaded from temporary location ** testing if installed package can be loaded from final location ** testing if installed package keeps a record of temporary installation path * DONE (tomoda)
tomoda.Rcheck/tests/testthat.Rout
R version 4.3.1 (2023-06-16) -- "Beagle Scouts"
Copyright (C) 2023 The R Foundation for Statistical Computing
Platform: aarch64-apple-darwin20 (64-bit)
R is free software and comes with ABSOLUTELY NO WARRANTY.
You are welcome to redistribute it under certain conditions.
Type 'license()' or 'licence()' for distribution details.
R is a collaborative project with many contributors.
Type 'contributors()' for more information and
'citation()' on how to cite R or R packages in publications.
Type 'demo()' for some demos, 'help()' for on-line help, or
'help.start()' for an HTML browser interface to help.
Type 'q()' to quit R.
> library(testthat)
> library(tomoda)
>
> test_check("tomoda")
[ FAIL 0 | WARN 1 | SKIP 0 | PASS 43 ]
[ FAIL 0 | WARN 1 | SKIP 0 | PASS 43 ]
>
> proc.time()
user system elapsed
37.003 1.319 67.481
tomoda.Rcheck/tomoda-Ex.timings
| name | user | system | elapsed | |
| corHeatmap | 2.525 | 0.070 | 4.574 | |
| createTomo | 1.776 | 0.058 | 3.258 | |
| embedPlot | 3.324 | 0.117 | 5.796 | |
| expHeatmap | 29.218 | 0.754 | 52.461 | |
| findPeak | 0.000 | 0.001 | 0.001 | |
| findPeakGene | 67.835 | 1.535 | 124.029 | |
| geneCorHeatmap | 37.930 | 0.846 | 66.668 | |
| geneEmbedPlot | 31.742 | 0.661 | 57.301 | |
| hierarchClust | 1.896 | 0.052 | 3.489 | |
| kmeansClust | 1.165 | 0.049 | 2.151 | |
| linePlot | 1.769 | 0.051 | 3.274 | |
| normalizeTomo | 0.187 | 0.008 | 0.347 | |
| runPCA | 1.081 | 0.031 | 1.990 | |
| runTSNE | 1.810 | 0.045 | 3.310 | |
| runUMAP | 1.389 | 0.042 | 2.565 | |
| scaleTomo | 0.586 | 0.019 | 1.093 | |
| tomoMatrix | 0.621 | 0.022 | 1.149 | |
| tomoSummarizedExperiment | 0.648 | 0.019 | 1.193 | |