| Back to Mac ARM64 build report for BioC 3.17 |
|
This page was generated on 2023-10-20 09:38:14 -0400 (Fri, 20 Oct 2023).
| Hostname | OS | Arch (*) | R version | Installed pkgs |
|---|---|---|---|---|
| kjohnson2 | macOS 12.6.1 Monterey | arm64 | 4.3.1 (2023-06-16) -- "Beagle Scouts" | 4347 |
| Click on any hostname to see more info about the system (e.g. compilers) (*) as reported by 'uname -p', except on Windows and Mac OS X | ||||
| Package 2105/2230 | Hostname | OS / Arch | INSTALL | BUILD | CHECK | BUILD BIN | ||||||||
| tkWidgets 1.78.0 (landing page) J. Zhang
| kjohnson2 | macOS 12.6.1 Monterey / arm64 | OK | OK | OK | OK | ||||||||
|
To the developers/maintainers of the tkWidgets package: - Use the following Renviron settings to reproduce errors and warnings. - If 'R CMD check' started to fail recently on the Linux builder(s) over a missing dependency, add the missing dependency to 'Suggests:' in your DESCRIPTION file. See Renviron.bioc for more information. |
| Package: tkWidgets |
| Version: 1.78.0 |
| Command: /Library/Frameworks/R.framework/Resources/bin/R CMD check --install=check:tkWidgets.install-out.txt --library=/Library/Frameworks/R.framework/Resources/library --no-vignettes --timings tkWidgets_1.78.0.tar.gz |
| StartedAt: 2023-10-19 07:09:53 -0400 (Thu, 19 Oct 2023) |
| EndedAt: 2023-10-19 07:11:25 -0400 (Thu, 19 Oct 2023) |
| EllapsedTime: 91.9 seconds |
| RetCode: 0 |
| Status: OK |
| CheckDir: tkWidgets.Rcheck |
| Warnings: 0 |
##############################################################################
##############################################################################
###
### Running command:
###
### /Library/Frameworks/R.framework/Resources/bin/R CMD check --install=check:tkWidgets.install-out.txt --library=/Library/Frameworks/R.framework/Resources/library --no-vignettes --timings tkWidgets_1.78.0.tar.gz
###
##############################################################################
##############################################################################
* using log directory ‘/Users/biocbuild/bbs-3.17-bioc-mac-arm64/meat/tkWidgets.Rcheck’
* using R version 4.3.1 (2023-06-16)
* using platform: aarch64-apple-darwin20 (64-bit)
* R was compiled by
Apple clang version 14.0.0 (clang-1400.0.29.202)
GNU Fortran (GCC) 12.2.0
* running under: macOS Monterey 12.6.7
* using session charset: UTF-8
* using option ‘--no-vignettes’
* checking for file ‘tkWidgets/DESCRIPTION’ ... OK
* this is package ‘tkWidgets’ version ‘1.78.0’
* checking package namespace information ... OK
* checking package dependencies ... OK
* checking if this is a source package ... OK
* checking if there is a namespace ... OK
* checking for hidden files and directories ... OK
* checking for portable file names ... OK
* checking for sufficient/correct file permissions ... OK
* checking whether package ‘tkWidgets’ can be installed ... OK
* checking installed package size ... OK
* checking package directory ... OK
* checking ‘build’ directory ... OK
* checking DESCRIPTION meta-information ... OK
* checking top-level files ... OK
* checking for left-over files ... OK
* checking index information ... OK
* checking package subdirectories ... OK
* checking R files for non-ASCII characters ... OK
* checking R files for syntax errors ... OK
* checking whether the package can be loaded ... OK
* checking whether the package can be loaded with stated dependencies ... OK
* checking whether the package can be unloaded cleanly ... OK
* checking whether the namespace can be loaded with stated dependencies ... OK
* checking whether the namespace can be unloaded cleanly ... OK
* checking startup messages can be suppressed ... OK
* checking dependencies in R code ... NOTE
'library' or 'require' calls to packages already attached by Depends:
‘DynDoc’ ‘methods’ ‘tools’ ‘widgetTools’
Please remove these calls from your code.
'library' or 'require' call to ‘Biobase’ in package code.
Please use :: or requireNamespace() instead.
See section 'Suggested packages' in the 'Writing R Extensions' manual.
Packages in Depends field not imported from:
‘DynDoc’ ‘methods’ ‘tools’ ‘widgetTools’
These packages need to be imported from (in the NAMESPACE file)
for when this namespace is loaded but not attached.
* checking S3 generic/method consistency ... OK
* checking replacement functions ... OK
* checking foreign function calls ... OK
* checking R code for possible problems ... NOTE
File ‘tkWidgets/R/zzz.R’:
.onLoad calls:
require("methods", quietly = TRUE)
require("widgetTools", quietly = TRUE)
require("DynDoc", quietly = TRUE)
require(Biobase)
Package startup functions should not change the search path.
See section ‘Good practice’ in '?.onAttach'.
.getPackNames: warning in .packages(all = TRUE): partial argument match
of 'all' to 'all.available'
.popPackList: warning in .packages(all = TRUE): partial argument match
of 'all' to 'all.available'
assignArgs: warning in assign("argsList", value, env = env): partial
argument match of 'env' to 'envir'
assignLineData: warning in assign("lineData", lineData, env = env):
partial argument match of 'env' to 'envir'
eExplorer : export: warning in assign(i, temp[[i]], env = .GlobalEnv):
partial argument match of 'env' to 'envir'
fileWizard : view: warning in read.table(file = args$file, head =
args$header, sep = args$sep, as.is = TRUE): partial argument match of
'head' to 'header'
fileWizard : finish: warning in read.table(file = args$file, head =
args$header, sep = args$sep, as.is = TRUE): partial argument match of
'head' to 'header'
finish: warning in assign(dataName, dataFile, env = .GlobalEnv):
partial argument match of 'env' to 'envir'
getRowNames: warning in read.table(file.name, sep = sep, nrow = 3,
header = header, skip = skip): partial argument match of 'nrow' to
'nrows'
objNameToList: warning in get(objNames[i], env = env): partial argument
match of 'env' to 'envir'
objectBrowser : viewEnv: warning in ls(env = env, all = TRUE): partial
argument match of 'env' to 'envir'
objectBrowser : viewEnv: warning in ls(env = env, all = TRUE): partial
argument match of 'all' to 'all.names'
objectBrowser : doEnv: warning in ls(env = get(item)): partial argument
match of 'env' to 'envir'
objectBrowser : up: warning in ls(env = get(selectedObj)): partial
argument match of 'env' to 'envir'
viewVignette : export: warning in assign(i, temp[[i]], env =
.GlobalEnv): partial argument match of 'env' to 'envir'
.onLoad: no visible global function definition for ‘addVigs2WinMenu’
fileWizard : brows: no visible global function definition for ‘tkcmd’
formatArg: no visible global function definition for ‘formula’
importPhenoData : getPData: no visible global function definition for
‘pData’
objNameToList: no visible global function definition for
‘package.contents’
vExplorer : write2VigList: no visible global function definition for
‘pkgVignettes’
Undefined global functions or variables:
addVigs2WinMenu formula pData package.contents pkgVignettes tkcmd
Consider adding
importFrom("stats", "formula")
to your NAMESPACE file.
* checking Rd files ... OK
* checking Rd metadata ... OK
* checking Rd cross-references ... OK
* checking for missing documentation entries ... OK
* checking for code/documentation mismatches ... OK
* checking Rd \usage sections ... OK
* checking Rd contents ... OK
* checking for unstated dependencies in examples ... OK
* checking sizes of PDF files under ‘inst/doc’ ... OK
* checking files in ‘vignettes’ ... OK
* checking examples ... OK
* checking for unstated dependencies in vignettes ... OK
* checking package vignettes in ‘inst/doc’ ... OK
* checking running R code from vignettes ... SKIPPED
* checking re-building of vignette outputs ... SKIPPED
* checking PDF version of manual ... OK
* DONE
Status: 2 NOTEs
See
‘/Users/biocbuild/bbs-3.17-bioc-mac-arm64/meat/tkWidgets.Rcheck/00check.log’
for details.
tkWidgets.Rcheck/00install.out
############################################################################## ############################################################################## ### ### Running command: ### ### /Library/Frameworks/R.framework/Resources/bin/R CMD INSTALL tkWidgets ### ############################################################################## ############################################################################## * installing to library ‘/Library/Frameworks/R.framework/Versions/4.3-arm64/Resources/library’ * installing *source* package ‘tkWidgets’ ... ** using staged installation ** R ** inst ** byte-compile and prepare package for lazy loading ** help *** installing help indices ** building package indices ** installing vignettes ** testing if installed package can be loaded from temporary location ** testing if installed package can be loaded from final location ** testing if installed package keeps a record of temporary installation path * DONE (tkWidgets)
tkWidgets.Rcheck/tkWidgets-Ex.timings
| name | user | system | elapsed | |
| DPExplorer | 0 | 0 | 0 | |
| WName | 0.002 | 0.001 | 0.007 | |
| appendSepDir | 0.001 | 0.000 | 0.010 | |
| args2XML | 0.005 | 0.007 | 0.021 | |
| argsWidget | 0 | 0 | 0 | |
| colInfo-class | 0.001 | 0.001 | 0.002 | |
| dataViewer | 0 | 0 | 0 | |
| dbArgsWidget | 0.000 | 0.000 | 0.001 | |
| eExplorer | 0.000 | 0.000 | 0.001 | |
| fileBrowser | 0.000 | 0.001 | 0.001 | |
| fileWizard | 0.001 | 0.000 | 0.003 | |
| getLightTW | 0 | 0 | 0 | |
| getWvalues | 0.002 | 0.001 | 0.005 | |
| guess.sep | 0.005 | 0.002 | 0.013 | |
| hasChar | 0.000 | 0.000 | 0.001 | |
| importPhenoData | 0 | 0 | 0 | |
| importWizard | 0.000 | 0.001 | 0.000 | |
| listSelect | 0.001 | 0.000 | 0.001 | |
| objNameToList | 0.005 | 0.000 | 0.014 | |
| objViewer | 0.001 | 0.000 | 0.000 | |
| objectBrowser | 0 | 0 | 0 | |
| pExplorer | 0.035 | 0.065 | 0.182 | |
| pickFiles | 0.001 | 0.002 | 0.003 | |
| pickItems | 0 | 0 | 0 | |
| pickObjs | 0.001 | 0.000 | 0.001 | |
| setArgsList | 0.000 | 0.001 | 0.000 | |
| stdType | 0.004 | 0.001 | 0.006 | |
| vExplorer | 0.000 | 0.000 | 0.001 | |
| values.Widget | 0.009 | 0.001 | 0.015 | |
| widgetRender | 0.000 | 0.001 | 0.005 | |