| Back to Mac ARM64 build report for BioC 3.17 |
|
This page was generated on 2023-10-20 09:38:13 -0400 (Fri, 20 Oct 2023).
| Hostname | OS | Arch (*) | R version | Installed pkgs |
|---|---|---|---|---|
| kjohnson2 | macOS 12.6.1 Monterey | arm64 | 4.3.1 (2023-06-16) -- "Beagle Scouts" | 4347 |
| Click on any hostname to see more info about the system (e.g. compilers) (*) as reported by 'uname -p', except on Windows and Mac OS X | ||||
| Package 2047/2230 | Hostname | OS / Arch | INSTALL | BUILD | CHECK | BUILD BIN | ||||||||
| sva 3.48.0 (landing page) Jeffrey T. Leek
| kjohnson2 | macOS 12.6.1 Monterey / arm64 | OK | OK | OK | OK | ||||||||
|
To the developers/maintainers of the sva package: - Use the following Renviron settings to reproduce errors and warnings. - If 'R CMD check' started to fail recently on the Linux builder(s) over a missing dependency, add the missing dependency to 'Suggests:' in your DESCRIPTION file. See Renviron.bioc for more information. |
| Package: sva |
| Version: 3.48.0 |
| Command: /Library/Frameworks/R.framework/Resources/bin/R CMD check --install=check:sva.install-out.txt --library=/Library/Frameworks/R.framework/Resources/library --no-vignettes --timings sva_3.48.0.tar.gz |
| StartedAt: 2023-10-19 05:34:23 -0400 (Thu, 19 Oct 2023) |
| EndedAt: 2023-10-19 05:41:38 -0400 (Thu, 19 Oct 2023) |
| EllapsedTime: 435.7 seconds |
| RetCode: 0 |
| Status: OK |
| CheckDir: sva.Rcheck |
| Warnings: 0 |
##############################################################################
##############################################################################
###
### Running command:
###
### /Library/Frameworks/R.framework/Resources/bin/R CMD check --install=check:sva.install-out.txt --library=/Library/Frameworks/R.framework/Resources/library --no-vignettes --timings sva_3.48.0.tar.gz
###
##############################################################################
##############################################################################
* using log directory ‘/Users/biocbuild/bbs-3.17-bioc-mac-arm64/meat/sva.Rcheck’
* using R version 4.3.1 (2023-06-16)
* using platform: aarch64-apple-darwin20 (64-bit)
* R was compiled by
Apple clang version 14.0.0 (clang-1400.0.29.202)
GNU Fortran (GCC) 12.2.0
* running under: macOS Monterey 12.6.7
* using session charset: UTF-8
* using option ‘--no-vignettes’
* checking for file ‘sva/DESCRIPTION’ ... OK
* this is package ‘sva’ version ‘3.48.0’
* checking package namespace information ... OK
* checking package dependencies ... OK
* checking if this is a source package ... OK
* checking if there is a namespace ... OK
* checking for hidden files and directories ... OK
* checking for portable file names ... OK
* checking for sufficient/correct file permissions ... OK
* checking whether package ‘sva’ can be installed ... OK
* used C compiler: ‘Apple clang version 14.0.0 (clang-1400.0.29.202)’
* used SDK: ‘MacOSX11.3.sdk’
* checking installed package size ... OK
* checking package directory ... OK
* checking ‘build’ directory ... OK
* checking DESCRIPTION meta-information ... OK
* checking top-level files ... OK
* checking for left-over files ... OK
* checking index information ... OK
* checking package subdirectories ... OK
* checking R files for non-ASCII characters ... OK
* checking R files for syntax errors ... OK
* checking whether the package can be loaded ... OK
* checking whether the package can be loaded with stated dependencies ... OK
* checking whether the package can be unloaded cleanly ... OK
* checking whether the namespace can be loaded with stated dependencies ... OK
* checking whether the namespace can be unloaded cleanly ... OK
* checking dependencies in R code ... OK
* checking S3 generic/method consistency ... OK
* checking replacement functions ... OK
* checking foreign function calls ... OK
* checking R code for possible problems ... OK
* checking Rd files ... OK
* checking Rd metadata ... OK
* checking Rd cross-references ... OK
* checking for missing documentation entries ... OK
* checking for code/documentation mismatches ... OK
* checking Rd \usage sections ... OK
* checking Rd contents ... OK
* checking for unstated dependencies in examples ... OK
* checking line endings in C/C++/Fortran sources/headers ... OK
* checking compiled code ... OK
* checking sizes of PDF files under ‘inst/doc’ ... OK
* checking files in ‘vignettes’ ... OK
* checking examples ... OK
Examples with CPU (user + system) or elapsed time > 5s
user system elapsed
sva_network 11.191 0.316 20.355
twostepsva.build 2.989 0.106 5.397
* checking for unstated dependencies in ‘tests’ ... OK
* checking tests ...
Running ‘testthat.R’
OK
* checking for unstated dependencies in vignettes ... OK
* checking package vignettes in ‘inst/doc’ ... OK
* checking running R code from vignettes ... SKIPPED
* checking re-building of vignette outputs ... SKIPPED
* checking PDF version of manual ... OK
* DONE
Status: OK
sva.Rcheck/00install.out
##############################################################################
##############################################################################
###
### Running command:
###
### /Library/Frameworks/R.framework/Resources/bin/R CMD INSTALL sva
###
##############################################################################
##############################################################################
* installing to library ‘/Library/Frameworks/R.framework/Versions/4.3-arm64/Resources/library’
* installing *source* package ‘sva’ ...
** using staged installation
** libs
using C compiler: ‘Apple clang version 14.0.0 (clang-1400.0.29.202)’
using SDK: ‘MacOSX11.3.sdk’
clang -arch arm64 -I"/Library/Frameworks/R.framework/Resources/include" -DNDEBUG -I/opt/R/arm64/include -fPIC -falign-functions=64 -Wall -g -O2 -c sva.c -o sva.o
sva.c:29:3: warning: suggest braces around initialization of subobject [-Wmissing-braces]
NULL
^~~~
{ }
/Library/Developer/CommandLineTools/usr/lib/clang/14.0.0/include/stddef.h:89:16: note: expanded from macro 'NULL'
# define NULL ((void*)0)
^~~~~~~~~~
1 warning generated.
clang -arch arm64 -dynamiclib -Wl,-headerpad_max_install_names -undefined dynamic_lookup -single_module -multiply_defined suppress -L/Library/Frameworks/R.framework/Resources/lib -L/opt/R/arm64/lib -o sva.so sva.o -F/Library/Frameworks/R.framework/.. -framework R -Wl,-framework -Wl,CoreFoundation
installing to /Library/Frameworks/R.framework/Versions/4.3-arm64/Resources/library/00LOCK-sva/00new/sva/libs
** R
** inst
** byte-compile and prepare package for lazy loading
** help
*** installing help indices
** building package indices
** installing vignettes
** testing if installed package can be loaded from temporary location
** checking absolute paths in shared objects and dynamic libraries
** testing if installed package can be loaded from final location
** testing if installed package keeps a record of temporary installation path
* DONE (sva)
sva.Rcheck/tests/testthat.Rout
R version 4.3.1 (2023-06-16) -- "Beagle Scouts"
Copyright (C) 2023 The R Foundation for Statistical Computing
Platform: aarch64-apple-darwin20 (64-bit)
R is free software and comes with ABSOLUTELY NO WARRANTY.
You are welcome to redistribute it under certain conditions.
Type 'license()' or 'licence()' for distribution details.
R is a collaborative project with many contributors.
Type 'contributors()' for more information and
'citation()' on how to cite R or R packages in publications.
Type 'demo()' for some demos, 'help()' for on-line help, or
'help.start()' for an HTML browser interface to help.
Type 'q()' to quit R.
> library(testthat)
> library(sva)
Loading required package: mgcv
Loading required package: nlme
This is mgcv 1.8-42. For overview type 'help("mgcv-package")'.
Loading required package: genefilter
Loading required package: BiocParallel
>
> test_check("sva")
Found 2 batches
Using full model in ComBat-seq.
Adjusting for 1 covariate(s) or covariate level(s)
[ FAIL 0 | WARN 0 | SKIP 0 | PASS 33 ]
>
> proc.time()
user system elapsed
55.602 3.489 103.974
sva.Rcheck/sva-Ex.timings
| name | user | system | elapsed | |
| ComBat | 2.564 | 0.043 | 4.681 | |
| ComBat_seq | 0.189 | 0.004 | 0.341 | |
| empirical.controls | 1.300 | 0.059 | 2.442 | |
| f.pvalue | 0.284 | 0.016 | 0.534 | |
| fstats | 0.686 | 0.022 | 1.252 | |
| fsva | 0.476 | 0.030 | 0.902 | |
| irwsva.build | 1.240 | 0.048 | 2.301 | |
| num.sv | 1.010 | 0.027 | 1.802 | |
| psva | 0.401 | 0.014 | 0.730 | |
| qsva | 0.394 | 0.125 | 0.846 | |
| read.degradation.matrix | 0.777 | 0.270 | 1.126 | |
| ssva | 0.607 | 0.067 | 1.211 | |
| sva | 1.014 | 0.090 | 1.968 | |
| sva.check | 0.575 | 0.022 | 1.065 | |
| sva_network | 11.191 | 0.316 | 20.355 | |
| svaseq | 0.593 | 0.029 | 1.013 | |
| twostepsva.build | 2.989 | 0.106 | 5.397 | |