| Back to Mac ARM64 build report for BioC 3.17 |
|
This page was generated on 2023-10-20 09:38:13 -0400 (Fri, 20 Oct 2023).
| Hostname | OS | Arch (*) | R version | Installed pkgs |
|---|---|---|---|---|
| kjohnson2 | macOS 12.6.1 Monterey | arm64 | 4.3.1 (2023-06-16) -- "Beagle Scouts" | 4347 |
| Click on any hostname to see more info about the system (e.g. compilers) (*) as reported by 'uname -p', except on Windows and Mac OS X | ||||
| Package 1992/2230 | Hostname | OS / Arch | INSTALL | BUILD | CHECK | BUILD BIN | ||||||||
| splatter 1.24.0 (landing page) Luke Zappia
| kjohnson2 | macOS 12.6.1 Monterey / arm64 | OK | OK | OK | OK | ||||||||
|
To the developers/maintainers of the splatter package: - Use the following Renviron settings to reproduce errors and warnings. - If 'R CMD check' started to fail recently on the Linux builder(s) over a missing dependency, add the missing dependency to 'Suggests:' in your DESCRIPTION file. See Renviron.bioc for more information. |
| Package: splatter |
| Version: 1.24.0 |
| Command: /Library/Frameworks/R.framework/Resources/bin/R CMD check --install=check:splatter.install-out.txt --library=/Library/Frameworks/R.framework/Resources/library --no-vignettes --timings splatter_1.24.0.tar.gz |
| StartedAt: 2023-10-19 03:54:21 -0400 (Thu, 19 Oct 2023) |
| EndedAt: 2023-10-19 04:10:55 -0400 (Thu, 19 Oct 2023) |
| EllapsedTime: 994.7 seconds |
| RetCode: 0 |
| Status: OK |
| CheckDir: splatter.Rcheck |
| Warnings: 0 |
##############################################################################
##############################################################################
###
### Running command:
###
### /Library/Frameworks/R.framework/Resources/bin/R CMD check --install=check:splatter.install-out.txt --library=/Library/Frameworks/R.framework/Resources/library --no-vignettes --timings splatter_1.24.0.tar.gz
###
##############################################################################
##############################################################################
* using log directory ‘/Users/biocbuild/bbs-3.17-bioc-mac-arm64/meat/splatter.Rcheck’
* using R version 4.3.1 (2023-06-16)
* using platform: aarch64-apple-darwin20 (64-bit)
* R was compiled by
Apple clang version 14.0.0 (clang-1400.0.29.202)
GNU Fortran (GCC) 12.2.0
* running under: macOS Monterey 12.6.7
* using session charset: UTF-8
* using option ‘--no-vignettes’
* checking for file ‘splatter/DESCRIPTION’ ... OK
* checking extension type ... Package
* this is package ‘splatter’ version ‘1.24.0’
* package encoding: UTF-8
* checking package namespace information ... OK
* checking package dependencies ... OK
* checking if this is a source package ... OK
* checking if there is a namespace ... OK
* checking for hidden files and directories ... OK
* checking for portable file names ... OK
* checking for sufficient/correct file permissions ... OK
* checking whether package ‘splatter’ can be installed ... OK
* checking installed package size ... OK
* checking package directory ... OK
* checking ‘build’ directory ... OK
* checking DESCRIPTION meta-information ... OK
* checking top-level files ... OK
* checking for left-over files ... OK
* checking index information ... OK
* checking package subdirectories ... OK
* checking R files for non-ASCII characters ... OK
* checking R files for syntax errors ... OK
* checking whether the package can be loaded ... OK
* checking whether the package can be loaded with stated dependencies ... OK
* checking whether the package can be unloaded cleanly ... OK
* checking whether the namespace can be loaded with stated dependencies ... OK
* checking whether the namespace can be unloaded cleanly ... OK
* checking dependencies in R code ... OK
* checking S3 generic/method consistency ... OK
* checking replacement functions ... OK
* checking foreign function calls ... OK
* checking R code for possible problems ... OK
* checking Rd files ... OK
* checking Rd metadata ... OK
* checking Rd cross-references ... OK
* checking for missing documentation entries ... OK
* checking for code/documentation mismatches ... OK
* checking Rd \usage sections ... OK
* checking Rd contents ... OK
* checking for unstated dependencies in examples ... OK
* checking files in ‘vignettes’ ... OK
* checking examples ... OK
Examples with CPU (user + system) or elapsed time > 5s
user system elapsed
scDDEstimate 37.340 0.846 76.982
mockBulkeQTL 5.965 0.548 12.735
BASiCSSimulate 5.394 0.263 11.178
kersplatEstimate 4.961 0.126 10.546
splatPopEstimate 3.861 0.072 6.537
splatEstimate 3.849 0.066 6.943
mockEmpiricalSet 3.640 0.200 7.896
summariseDiff 3.403 0.043 6.146
compareSCEs 3.069 0.067 5.757
diffSCEs 3.091 0.036 6.498
kersplatSample 2.441 0.090 5.112
* checking for unstated dependencies in ‘tests’ ... OK
* checking tests ...
Running ‘spelling.R’
Running ‘testthat.R’
OK
* checking for unstated dependencies in vignettes ... OK
* checking package vignettes in ‘inst/doc’ ... OK
* checking running R code from vignettes ... SKIPPED
* checking re-building of vignette outputs ... SKIPPED
* checking PDF version of manual ... OK
* DONE
Status: OK
splatter.Rcheck/00install.out
############################################################################## ############################################################################## ### ### Running command: ### ### /Library/Frameworks/R.framework/Resources/bin/R CMD INSTALL splatter ### ############################################################################## ############################################################################## * installing to library ‘/Library/Frameworks/R.framework/Versions/4.3-arm64/Resources/library’ * installing *source* package ‘splatter’ ... ** using staged installation ** R ** inst ** byte-compile and prepare package for lazy loading ** help *** installing help indices ** building package indices ** installing vignettes ** testing if installed package can be loaded from temporary location ** testing if installed package can be loaded from final location ** testing if installed package keeps a record of temporary installation path * DONE (splatter)
splatter.Rcheck/tests/spelling.Rout
R version 4.3.1 (2023-06-16) -- "Beagle Scouts"
Copyright (C) 2023 The R Foundation for Statistical Computing
Platform: aarch64-apple-darwin20 (64-bit)
R is free software and comes with ABSOLUTELY NO WARRANTY.
You are welcome to redistribute it under certain conditions.
Type 'license()' or 'licence()' for distribution details.
R is a collaborative project with many contributors.
Type 'contributors()' for more information and
'citation()' on how to cite R or R packages in publications.
Type 'demo()' for some demos, 'help()' for on-line help, or
'help.start()' for an HTML browser interface to help.
Type 'q()' to quit R.
> if(requireNamespace('spelling', quietly = TRUE))
+ spelling::spell_check_test(vignettes = TRUE, error = FALSE,
+ skip_on_cran = TRUE)
NULL
>
> proc.time()
user system elapsed
0.214 0.067 0.548
splatter.Rcheck/tests/testthat.Rout
R version 4.3.1 (2023-06-16) -- "Beagle Scouts"
Copyright (C) 2023 The R Foundation for Statistical Computing
Platform: aarch64-apple-darwin20 (64-bit)
R is free software and comes with ABSOLUTELY NO WARRANTY.
You are welcome to redistribute it under certain conditions.
Type 'license()' or 'licence()' for distribution details.
R is a collaborative project with many contributors.
Type 'contributors()' for more information and
'citation()' on how to cite R or R packages in publications.
Type 'demo()' for some demos, 'help()' for on-line help, or
'help.start()' for an HTML browser interface to help.
Type 'q()' to quit R.
> # setting R_TESTS to empty string because of
> # https://github.com/hadley/testthat/issues/144
> # revert this when that issue in R is fixed.
> Sys.setenv("R_TESTS" = "")
>
> library(testthat)
> library(splatter)
Loading required package: SingleCellExperiment
Loading required package: SummarizedExperiment
Loading required package: MatrixGenerics
Loading required package: matrixStats
Attaching package: 'MatrixGenerics'
The following objects are masked from 'package:matrixStats':
colAlls, colAnyNAs, colAnys, colAvgsPerRowSet, colCollapse,
colCounts, colCummaxs, colCummins, colCumprods, colCumsums,
colDiffs, colIQRDiffs, colIQRs, colLogSumExps, colMadDiffs,
colMads, colMaxs, colMeans2, colMedians, colMins, colOrderStats,
colProds, colQuantiles, colRanges, colRanks, colSdDiffs, colSds,
colSums2, colTabulates, colVarDiffs, colVars, colWeightedMads,
colWeightedMeans, colWeightedMedians, colWeightedSds,
colWeightedVars, rowAlls, rowAnyNAs, rowAnys, rowAvgsPerColSet,
rowCollapse, rowCounts, rowCummaxs, rowCummins, rowCumprods,
rowCumsums, rowDiffs, rowIQRDiffs, rowIQRs, rowLogSumExps,
rowMadDiffs, rowMads, rowMaxs, rowMeans2, rowMedians, rowMins,
rowOrderStats, rowProds, rowQuantiles, rowRanges, rowRanks,
rowSdDiffs, rowSds, rowSums2, rowTabulates, rowVarDiffs, rowVars,
rowWeightedMads, rowWeightedMeans, rowWeightedMedians,
rowWeightedSds, rowWeightedVars
Loading required package: GenomicRanges
Loading required package: stats4
Loading required package: BiocGenerics
Attaching package: 'BiocGenerics'
The following objects are masked from 'package:stats':
IQR, mad, sd, var, xtabs
The following objects are masked from 'package:base':
Filter, Find, Map, Position, Reduce, anyDuplicated, aperm, append,
as.data.frame, basename, cbind, colnames, dirname, do.call,
duplicated, eval, evalq, get, grep, grepl, intersect, is.unsorted,
lapply, mapply, match, mget, order, paste, pmax, pmax.int, pmin,
pmin.int, rank, rbind, rownames, sapply, setdiff, sort, table,
tapply, union, unique, unsplit, which.max, which.min
Loading required package: S4Vectors
Attaching package: 'S4Vectors'
The following object is masked from 'package:utils':
findMatches
The following objects are masked from 'package:base':
I, expand.grid, unname
Loading required package: IRanges
Loading required package: GenomeInfoDb
Loading required package: Biobase
Welcome to Bioconductor
Vignettes contain introductory material; view with
'browseVignettes()'. To cite Bioconductor, see
'citation("Biobase")', and for packages 'citation("pkgname")'.
Attaching package: 'Biobase'
The following object is masked from 'package:MatrixGenerics':
rowMedians
The following objects are masked from 'package:matrixStats':
anyMissing, rowMedians
>
> test_check("splatter")
-----------------------------------------------------
MCMC sampler has been started: 20000 iterations to go.
-----------------------------------------------------
-----------------------------------------------------
End of Burn-in period.
-----------------------------------------------------
-----------------------------------------------------
-----------------------------------------------------
All 20000 MCMC iterations have been completed.
-----------------------------------------------------
-----------------------------------------------------
-----------------------------------------------------
Please see below a summary of the overall acceptance rates.
-----------------------------------------------------
Minimum acceptance rate among mu[i]'s: 0.216267
Average acceptance rate among mu[i]'s: 0.447751
Maximum acceptance rate among mu[i]'s: 0.581867
Minimum acceptance rate among delta[i]'s: 0.373467
Average acceptance rate among delta[i]'s: 0.446514
Maximum acceptance rate among delta[i]'s: 0.498
Acceptance rate for phi (joint): 0.455867
Minimum acceptance rate among nu[j]'s: 0.3964
Average acceptance rate among nu[j]'s: 0.450696
Maximum acceptance rate among nu[j]'s: 0.506933
Minimum acceptance rate among theta[k]'s: 0.431867
Average acceptance rate among theta[k]'s: 0.431867
Maximum acceptance rate among theta[k]'s: 0.431867
-----------------------------------------------------
-----------------------------------------------------
MCMC sampler has been started: 20000 iterations to go.
-----------------------------------------------------
-----------------------------------------------------
End of Burn-in period.
-----------------------------------------------------
-----------------------------------------------------
-----------------------------------------------------
All 20000 MCMC iterations have been completed.
-----------------------------------------------------
-----------------------------------------------------
-----------------------------------------------------
Please see below a summary of the overall acceptance rates.
-----------------------------------------------------
Minimum acceptance rate among mu[i]'s: 0.167067
Average acceptance rate among mu[i]'s: 0.436682
Maximum acceptance rate among mu[i]'s: 0.578267
Minimum acceptance rate among delta[i]'s: 0.395933
Average acceptance rate among delta[i]'s: 0.454213
Maximum acceptance rate among delta[i]'s: 0.515067
Minimum acceptance rate among nu[jk]'s: 0.370533
Average acceptance rate among nu[jk]'s: 0.451502
Maximum acceptance rate among nu[jk]'s: 0.492467
Minimum acceptance rate among theta[k]'s: 0.4586
Average acceptance rate among theta[k]'s: 0.464833
Maximum acceptance rate among theta[k]'s: 0.471067
-----------------------------------------------------
[ FAIL 0 | WARN 12 | SKIP 0 | PASS 184 ]
[ FAIL 0 | WARN 12 | SKIP 0 | PASS 184 ]
>
> proc.time()
user system elapsed
234.965 7.046 427.005
splatter.Rcheck/splatter-Ex.timings
| name | user | system | elapsed | |
| BASiCSEstimate | 0.000 | 0.001 | 0.000 | |
| BASiCSSimulate | 5.394 | 0.263 | 11.178 | |
| addGeneLengths | 0.473 | 0.014 | 0.866 | |
| compareSCEs | 3.069 | 0.067 | 5.757 | |
| diffSCEs | 3.091 | 0.036 | 6.498 | |
| getParam | 0.001 | 0.000 | 0.001 | |
| getParams | 0.001 | 0.001 | 0.000 | |
| kersplatEstimate | 4.961 | 0.126 | 10.546 | |
| kersplatSample | 2.441 | 0.090 | 5.112 | |
| kersplatSetup | 0.180 | 0.020 | 0.414 | |
| kersplatSimulate | 0.001 | 0.001 | 0.000 | |
| listSims | 0.025 | 0.004 | 0.058 | |
| lun2Estimate | 0 | 0 | 0 | |
| lun2Simulate | 0.415 | 0.015 | 0.878 | |
| lunEstimate | 0.557 | 0.015 | 1.179 | |
| lunSimulate | 0.388 | 0.009 | 0.814 | |
| makeCompPanel | 0 | 0 | 0 | |
| makeDiffPanel | 0 | 0 | 0 | |
| makeOverallPanel | 0.000 | 0.001 | 0.000 | |
| mfaEstimate | 0.117 | 0.020 | 0.372 | |
| mfaSimulate | 0.559 | 0.021 | 1.162 | |
| minimiseSCE | 1.566 | 0.048 | 3.336 | |
| mockBulkMatrix | 0.001 | 0.000 | 0.000 | |
| mockBulkeQTL | 5.965 | 0.548 | 12.735 | |
| mockEmpiricalSet | 3.640 | 0.200 | 7.896 | |
| mockGFF | 0.002 | 0.001 | 0.002 | |
| mockVCF | 0.130 | 0.005 | 0.274 | |
| newParams | 0.002 | 0.000 | 0.007 | |
| phenoEstimate | 0.689 | 0.026 | 1.480 | |
| phenoSimulate | 1.208 | 0.052 | 2.565 | |
| scDDEstimate | 37.340 | 0.846 | 76.982 | |
| scDDSimulate | 0 | 0 | 0 | |
| setParam | 0.011 | 0.001 | 0.020 | |
| setParams | 0.028 | 0.003 | 0.061 | |
| simpleEstimate | 0.565 | 0.023 | 1.061 | |
| simpleSimulate | 0.593 | 0.017 | 1.114 | |
| sparseDCEstimate | 0.987 | 0.075 | 1.906 | |
| sparseDCSimulate | 1.644 | 0.233 | 3.321 | |
| splatEstimate | 3.849 | 0.066 | 6.943 | |
| splatPopEstimate | 3.861 | 0.072 | 6.537 | |
| splatPopQuantNorm | 0.031 | 0.001 | 0.062 | |
| splatPopSimulate | 0 | 0 | 0 | |
| splatPopSimulateMeans | 0.000 | 0.000 | 0.001 | |
| splatPopSimulateSC | 0.000 | 0.000 | 0.003 | |
| splatSimulate | 1.913 | 0.039 | 3.490 | |
| summariseDiff | 3.403 | 0.043 | 6.146 | |
| zinbEstimate | 2.531 | 0.124 | 4.616 | |
| zinbSimulate | 0.282 | 0.012 | 0.535 | |