| Back to Mac ARM64 build report for BioC 3.17 |
|
This page was generated on 2023-10-20 09:38:12 -0400 (Fri, 20 Oct 2023).
| Hostname | OS | Arch (*) | R version | Installed pkgs |
|---|---|---|---|---|
| kjohnson2 | macOS 12.6.1 Monterey | arm64 | 4.3.1 (2023-06-16) -- "Beagle Scouts" | 4347 |
| Click on any hostname to see more info about the system (e.g. compilers) (*) as reported by 'uname -p', except on Windows and Mac OS X | ||||
| Package 1915/2230 | Hostname | OS / Arch | INSTALL | BUILD | CHECK | BUILD BIN | ||||||||
| signeR 2.2.1 (landing page) Renan Valieris
| kjohnson2 | macOS 12.6.1 Monterey / arm64 | OK | OK | OK | OK | ||||||||
|
To the developers/maintainers of the signeR package: - Use the following Renviron settings to reproduce errors and warnings. - If 'R CMD check' started to fail recently on the Linux builder(s) over a missing dependency, add the missing dependency to 'Suggests:' in your DESCRIPTION file. See Renviron.bioc for more information. |
| Package: signeR |
| Version: 2.2.1 |
| Command: /Library/Frameworks/R.framework/Resources/bin/R CMD check --install=check:signeR.install-out.txt --library=/Library/Frameworks/R.framework/Resources/library --no-vignettes --timings signeR_2.2.1.tar.gz |
| StartedAt: 2023-10-19 01:08:02 -0400 (Thu, 19 Oct 2023) |
| EndedAt: 2023-10-19 01:21:32 -0400 (Thu, 19 Oct 2023) |
| EllapsedTime: 810.0 seconds |
| RetCode: 0 |
| Status: OK |
| CheckDir: signeR.Rcheck |
| Warnings: 0 |
##############################################################################
##############################################################################
###
### Running command:
###
### /Library/Frameworks/R.framework/Resources/bin/R CMD check --install=check:signeR.install-out.txt --library=/Library/Frameworks/R.framework/Resources/library --no-vignettes --timings signeR_2.2.1.tar.gz
###
##############################################################################
##############################################################################
* using log directory ‘/Users/biocbuild/bbs-3.17-bioc-mac-arm64/meat/signeR.Rcheck’
* using R version 4.3.1 (2023-06-16)
* using platform: aarch64-apple-darwin20 (64-bit)
* R was compiled by
Apple clang version 14.0.0 (clang-1400.0.29.202)
GNU Fortran (GCC) 12.2.0
* running under: macOS Monterey 12.6.7
* using session charset: UTF-8
* using option ‘--no-vignettes’
* checking for file ‘signeR/DESCRIPTION’ ... OK
* checking extension type ... Package
* this is package ‘signeR’ version ‘2.2.1’
* package encoding: UTF-8
* checking package namespace information ... OK
* checking package dependencies ... OK
* checking if this is a source package ... OK
* checking if there is a namespace ... OK
* checking for hidden files and directories ... OK
* checking for portable file names ... OK
* checking for sufficient/correct file permissions ... OK
* checking whether package ‘signeR’ can be installed ... OK
* used C compiler: ‘Apple clang version 14.0.0 (clang-1400.0.29.202)’
* used C++ compiler: ‘Apple clang version 14.0.0 (clang-1400.0.29.202)’
* used SDK: ‘MacOSX11.3.sdk’
* checking C++ specification ... NOTE
Specified C++11: please drop specification unless essential
* checking installed package size ... OK
* checking package directory ... OK
* checking ‘build’ directory ... OK
* checking DESCRIPTION meta-information ... OK
* checking top-level files ... OK
* checking for left-over files ... OK
* checking index information ... OK
* checking package subdirectories ... OK
* checking R files for non-ASCII characters ... OK
* checking R files for syntax errors ... OK
* checking whether the package can be loaded ... OK
* checking whether the package can be loaded with stated dependencies ... OK
* checking whether the package can be unloaded cleanly ... OK
* checking whether the namespace can be loaded with stated dependencies ... OK
* checking whether the namespace can be unloaded cleanly ... OK
* checking startup messages can be suppressed ... OK
* checking dependencies in R code ... OK
* checking S3 generic/method consistency ... OK
* checking replacement functions ... OK
* checking foreign function calls ... OK
* checking R code for possible problems ... NOTE
covariate: no visible binding for global variable ‘.’
denovo: no visible binding for global variable
‘BSgenome.Hsapiens.UCSC.hg19’
denovo: no visible binding for global variable
‘BSgenome.Hsapiens.UCSC.hg38’
explorepage: no visible binding for global variable ‘.’
fitting: no visible binding for global variable
‘BSgenome.Hsapiens.UCSC.hg19’
fitting: no visible binding for global variable
‘BSgenome.Hsapiens.UCSC.hg38’
genCountMatrixFromVcf: no visible global function definition for
‘alt<-’
signeRFlow : server : loadSig: no visible binding for global variable
‘sig’
signeRFlow : server : loadSig: no visible binding for global variable
‘sig_test’
tcgaexplorer : get_similarities_tcga: no visible binding for global
variable ‘project’
tcgaexplorer: no visible binding for global variable ‘.’
DiffExp,SignExp-character: no visible binding for global variable ‘fc’
ExposureBarplot,SignExp: no visible binding for global variable
‘Samples’
ExposureBarplot,SignExp: no visible binding for global variable
‘Signatures’
ExposureBoxplot,SignExp: no visible binding for global variable
‘Signatures’
ExposureBoxplot,SignExp: no visible binding for global variable
‘Samples’
ExposureClassify,ANY-character: no visible binding for global variable
‘Col’
ExposureClassify,ANY-character: no visible binding for global variable
‘Frequency’
ExposureClassify,ANY-character: no visible binding for global variable
‘Row’
ExposureClassifyCV,ANY-character: no visible binding for global
variable ‘Col’
ExposureClassifyCV,ANY-character: no visible binding for global
variable ‘Frequency’
ExposureClassifyCV,ANY-character: no visible binding for global
variable ‘Row’
ExposureCorrelation,SignExp-numeric: no visible binding for global
variable ‘Feature’
ExposureCorrelation,SignExp-numeric: no visible binding for global
variable ‘exposure’
ExposureCorrelation,matrix-numeric: no visible binding for global
variable ‘Feature’
ExposureCorrelation,matrix-numeric: no visible binding for global
variable ‘exposure’
Undefined global functions or variables:
. BSgenome.Hsapiens.UCSC.hg19 BSgenome.Hsapiens.UCSC.hg38 Col Feature
Frequency Row Samples Signatures alt<- exposure fc project sig
sig_test
* checking Rd files ... NOTE
prepare_Rd: cosmic_data.Rd:91-93: Dropping empty section \details
prepare_Rd: cosmic_data.Rd:98-100: Dropping empty section \references
prepare_Rd: cosmic_data.Rd:101-102: Dropping empty section \examples
prepare_Rd: tcga_similarities.Rd:96-98: Dropping empty section \details
prepare_Rd: tcga_similarities.Rd:99-101: Dropping empty section \source
prepare_Rd: tcga_similarities.Rd:102-104: Dropping empty section \references
prepare_Rd: tcga_similarities.Rd:105-106: Dropping empty section \examples
prepare_Rd: tcga_tumors.Rd:18-20: Dropping empty section \details
prepare_Rd: tcga_tumors.Rd:21-23: Dropping empty section \source
prepare_Rd: tcga_tumors.Rd:24-26: Dropping empty section \references
prepare_Rd: tcga_tumors.Rd:27-28: Dropping empty section \examples
* checking Rd metadata ... OK
* checking Rd cross-references ... OK
* checking for missing documentation entries ... OK
* checking for code/documentation mismatches ... OK
* checking Rd \usage sections ... OK
* checking Rd contents ... OK
* checking for unstated dependencies in examples ... OK
* checking contents of ‘data’ directory ... OK
* checking data for non-ASCII characters ... OK
* checking LazyData ... OK
* checking data for ASCII and uncompressed saves ... OK
* checking R/sysdata.rda ... OK
* checking line endings in C/C++/Fortran sources/headers ... OK
* checking line endings in Makefiles ... OK
* checking compilation flags in Makevars ... OK
* checking for GNU extensions in Makefiles ... OK
* checking for portable use of $(BLAS_LIBS) and $(LAPACK_LIBS) ... OK
* checking use of PKG_*FLAGS in Makefiles ... OK
* checking compiled code ... NOTE
Note: information on .o files is not available
* checking files in ‘vignettes’ ... OK
* checking examples ... OK
Examples with CPU (user + system) or elapsed time > 5s
user system elapsed
ExposureFuzzyClustering 6.511 0.092 11.720
ExposureClassifyCV 6.166 0.071 10.868
ExposureClassify 4.318 0.060 7.717
ExposureSurvModel 4.107 0.102 7.424
Diffexp 3.369 0.100 6.183
methods 2.768 0.085 5.161
* checking for unstated dependencies in vignettes ... OK
* checking package vignettes in ‘inst/doc’ ... OK
* checking running R code from vignettes ... SKIPPED
* checking re-building of vignette outputs ... SKIPPED
* checking PDF version of manual ... OK
* DONE
Status: 4 NOTEs
See
‘/Users/biocbuild/bbs-3.17-bioc-mac-arm64/meat/signeR.Rcheck/00check.log’
for details.
signeR.Rcheck/00install.out
############################################################################## ############################################################################## ### ### Running command: ### ### /Library/Frameworks/R.framework/Resources/bin/R CMD INSTALL signeR ### ############################################################################## ############################################################################## * installing to library ‘/Library/Frameworks/R.framework/Versions/4.3-arm64/Resources/library’ * installing *source* package ‘signeR’ ... ** using staged installation ** libs using C compiler: ‘Apple clang version 14.0.0 (clang-1400.0.29.202)’ using C++ compiler: ‘Apple clang version 14.0.0 (clang-1400.0.29.202)’ using C++11 using SDK: ‘MacOSX11.3.sdk’ clang++ -arch arm64 -std=gnu++11 -I"/Library/Frameworks/R.framework/Resources/include" -DNDEBUG -I'/Library/Frameworks/R.framework/Versions/4.3-arm64/Resources/library/Rcpp/include' -I'/Library/Frameworks/R.framework/Versions/4.3-arm64/Resources/library/RcppArmadillo/include' -I/opt/R/arm64/include -fPIC -falign-functions=64 -Wall -g -O2 -c RcppExports.cpp -o RcppExports.o clang++ -arch arm64 -std=gnu++11 -I"/Library/Frameworks/R.framework/Resources/include" -DNDEBUG -I'/Library/Frameworks/R.framework/Versions/4.3-arm64/Resources/library/Rcpp/include' -I'/Library/Frameworks/R.framework/Versions/4.3-arm64/Resources/library/RcppArmadillo/include' -I/opt/R/arm64/include -fPIC -falign-functions=64 -Wall -g -O2 -c fuzzy.cpp -o fuzzy.o clang++ -arch arm64 -std=gnu++11 -I"/Library/Frameworks/R.framework/Resources/include" -DNDEBUG -I'/Library/Frameworks/R.framework/Versions/4.3-arm64/Resources/library/Rcpp/include' -I'/Library/Frameworks/R.framework/Versions/4.3-arm64/Resources/library/RcppArmadillo/include' -I/opt/R/arm64/include -fPIC -falign-functions=64 -Wall -g -O2 -c gibbs_2.cpp -o gibbs_2.o clang -arch arm64 -I"/Library/Frameworks/R.framework/Resources/include" -DNDEBUG -I'/Library/Frameworks/R.framework/Versions/4.3-arm64/Resources/library/Rcpp/include' -I'/Library/Frameworks/R.framework/Versions/4.3-arm64/Resources/library/RcppArmadillo/include' -I/opt/R/arm64/include -fPIC -falign-functions=64 -Wall -g -O2 -c signeR_init.c -o signeR_init.o clang++ -arch arm64 -std=gnu++11 -dynamiclib -Wl,-headerpad_max_install_names -undefined dynamic_lookup -single_module -multiply_defined suppress -L/Library/Frameworks/R.framework/Resources/lib -L/opt/R/arm64/lib -o signeR.so RcppExports.o fuzzy.o gibbs_2.o signeR_init.o -Wl,-S -L/Library/Frameworks/R.framework/Resources/lib -lRlapack -L/Library/Frameworks/R.framework/Resources/lib -lRblas -L/opt/gfortran/lib/gcc/aarch64-apple-darwin20.0/12.2.0 -L/opt/gfortran/lib -lgfortran -lemutls_w -lquadmath -F/Library/Frameworks/R.framework/.. -framework R -Wl,-framework -Wl,CoreFoundation ld: warning: could not create compact unwind for ___emutls_get_address: registers 23 and 24 not saved contiguously in frame installing to /Library/Frameworks/R.framework/Versions/4.3-arm64/Resources/library/00LOCK-signeR/00new/signeR/libs ** R ** data *** moving datasets to lazyload DB ** inst ** byte-compile and prepare package for lazy loading ** help *** installing help indices ** building package indices ** installing vignettes ** testing if installed package can be loaded from temporary location ** checking absolute paths in shared objects and dynamic libraries ** testing if installed package can be loaded from final location ** testing if installed package keeps a record of temporary installation path * DONE (signeR)
signeR.Rcheck/signeR-Ex.timings
| name | user | system | elapsed | |
| Diffexp | 3.369 | 0.100 | 6.183 | |
| ExposureClassify | 4.318 | 0.060 | 7.717 | |
| ExposureClassifyCV | 6.166 | 0.071 | 10.868 | |
| ExposureCorrelation | 2.051 | 0.029 | 3.568 | |
| ExposureFuzzyClustering | 6.511 | 0.092 | 11.720 | |
| ExposureGLM | 1.586 | 0.015 | 2.802 | |
| ExposureHierarchicalClustering | 1.372 | 0.014 | 2.394 | |
| ExposureSurvModel | 4.107 | 0.102 | 7.424 | |
| ExposureSurvival | 1.856 | 0.027 | 3.420 | |
| genMatrix | 2.655 | 0.050 | 4.860 | |
| methods | 2.768 | 0.085 | 5.161 | |
| plots | 2.098 | 0.023 | 3.731 | |
| signeR-package | 0.001 | 0.001 | 0.002 | |
| signeR | 0.002 | 0.001 | 0.002 | |