| Back to Mac ARM64 build report for BioC 3.17 |
|
This page was generated on 2023-10-20 09:38:12 -0400 (Fri, 20 Oct 2023).
| Hostname | OS | Arch (*) | R version | Installed pkgs |
|---|---|---|---|---|
| kjohnson2 | macOS 12.6.1 Monterey | arm64 | 4.3.1 (2023-06-16) -- "Beagle Scouts" | 4347 |
| Click on any hostname to see more info about the system (e.g. compilers) (*) as reported by 'uname -p', except on Windows and Mac OS X | ||||
| Package 1913/2230 | Hostname | OS / Arch | INSTALL | BUILD | CHECK | BUILD BIN | ||||||||
| sights 1.26.0 (landing page) Elika Garg
| kjohnson2 | macOS 12.6.1 Monterey / arm64 | OK | OK | OK | OK | ||||||||
|
To the developers/maintainers of the sights package: - Use the following Renviron settings to reproduce errors and warnings. - If 'R CMD check' started to fail recently on the Linux builder(s) over a missing dependency, add the missing dependency to 'Suggests:' in your DESCRIPTION file. See Renviron.bioc for more information. |
| Package: sights |
| Version: 1.26.0 |
| Command: /Library/Frameworks/R.framework/Resources/bin/R CMD check --install=check:sights.install-out.txt --library=/Library/Frameworks/R.framework/Resources/library --no-vignettes --timings sights_1.26.0.tar.gz |
| StartedAt: 2023-10-19 01:06:12 -0400 (Thu, 19 Oct 2023) |
| EndedAt: 2023-10-19 01:09:52 -0400 (Thu, 19 Oct 2023) |
| EllapsedTime: 219.5 seconds |
| RetCode: 0 |
| Status: OK |
| CheckDir: sights.Rcheck |
| Warnings: 0 |
##############################################################################
##############################################################################
###
### Running command:
###
### /Library/Frameworks/R.framework/Resources/bin/R CMD check --install=check:sights.install-out.txt --library=/Library/Frameworks/R.framework/Resources/library --no-vignettes --timings sights_1.26.0.tar.gz
###
##############################################################################
##############################################################################
* using log directory ‘/Users/biocbuild/bbs-3.17-bioc-mac-arm64/meat/sights.Rcheck’
* using R version 4.3.1 (2023-06-16)
* using platform: aarch64-apple-darwin20 (64-bit)
* R was compiled by
Apple clang version 14.0.0 (clang-1400.0.29.202)
GNU Fortran (GCC) 12.2.0
* running under: macOS Monterey 12.6.7
* using session charset: UTF-8
* using option ‘--no-vignettes’
* checking for file ‘sights/DESCRIPTION’ ... OK
* checking extension type ... Package
* this is package ‘sights’ version ‘1.26.0’
* checking package namespace information ... OK
* checking package dependencies ... OK
* checking if this is a source package ... OK
* checking if there is a namespace ... OK
* checking for hidden files and directories ... OK
* checking for portable file names ... OK
* checking for sufficient/correct file permissions ... OK
* checking whether package ‘sights’ can be installed ... OK
* checking installed package size ... OK
* checking package directory ... OK
* checking ‘build’ directory ... OK
* checking DESCRIPTION meta-information ... OK
* checking top-level files ... OK
* checking for left-over files ... OK
* checking index information ... OK
* checking package subdirectories ... OK
* checking R files for non-ASCII characters ... OK
* checking R files for syntax errors ... OK
* checking whether the package can be loaded ... OK
* checking whether the package can be loaded with stated dependencies ... OK
* checking whether the package can be unloaded cleanly ... OK
* checking whether the namespace can be loaded with stated dependencies ... OK
* checking whether the namespace can be unloaded cleanly ... OK
* checking dependencies in R code ... OK
* checking S3 generic/method consistency ... OK
* checking replacement functions ... OK
* checking foreign function calls ... OK
* checking R code for possible problems ... OK
* checking Rd files ... OK
* checking Rd metadata ... OK
* checking Rd cross-references ... OK
* checking for missing documentation entries ... OK
* checking for code/documentation mismatches ... OK
* checking Rd \usage sections ... OK
* checking Rd contents ... OK
* checking for unstated dependencies in examples ... OK
* checking contents of ‘data’ directory ... OK
* checking data for non-ASCII characters ... OK
* checking LazyData ... OK
* checking data for ASCII and uncompressed saves ... OK
* checking R/sysdata.rda ... OK
* checking files in ‘vignettes’ ... OK
* checking examples ... OK
Examples with CPU (user + system) or elapsed time > 5s
user system elapsed
plotScatter 2.719 0.099 5.042
* checking for unstated dependencies in ‘tests’ ... OK
* checking tests ...
Running ‘testthat.R’
OK
* checking for unstated dependencies in vignettes ... OK
* checking package vignettes in ‘inst/doc’ ... OK
* checking running R code from vignettes ... SKIPPED
* checking re-building of vignette outputs ... SKIPPED
* checking PDF version of manual ... OK
* DONE
Status: OK
sights.Rcheck/00install.out
############################################################################## ############################################################################## ### ### Running command: ### ### /Library/Frameworks/R.framework/Resources/bin/R CMD INSTALL sights ### ############################################################################## ############################################################################## * installing to library ‘/Library/Frameworks/R.framework/Versions/4.3-arm64/Resources/library’ * installing *source* package ‘sights’ ... ** using staged installation ** R ** data *** moving datasets to lazyload DB ** inst ** byte-compile and prepare package for lazy loading ** help *** installing help indices ** building package indices ** installing vignettes ** testing if installed package can be loaded from temporary location ** testing if installed package can be loaded from final location ** testing if installed package keeps a record of temporary installation path * DONE (sights)
sights.Rcheck/tests/testthat.Rout
R version 4.3.1 (2023-06-16) -- "Beagle Scouts"
Copyright (C) 2023 The R Foundation for Statistical Computing
Platform: aarch64-apple-darwin20 (64-bit)
R is free software and comes with ABSOLUTELY NO WARRANTY.
You are welcome to redistribute it under certain conditions.
Type 'license()' or 'licence()' for distribution details.
R is a collaborative project with many contributors.
Type 'contributors()' for more information and
'citation()' on how to cite R or R packages in publications.
Type 'demo()' for some demos, 'help()' for on-line help, or
'help.start()' for an HTML browser interface to help.
Type 'q()' to quit R.
> library(testthat)
> library(sights)
> test_check("sights")
alpha= 2.527861 beta= 2.054019
alpha= 2.162155 beta= 2.810248
alpha= 2.162155 beta= 2.810248
alpha= 2.162155 beta= 2.810248
[ FAIL 0 | WARN 14 | SKIP 0 | PASS 65 ]
[ FAIL 0 | WARN 14 | SKIP 0 | PASS 65 ]
>
> proc.time()
user system elapsed
63.544 1.572 115.110
sights.Rcheck/sights-Ex.timings
| name | user | system | elapsed | |
| ex_dataMatrix | 0.022 | 0.004 | 0.043 | |
| inglese | 0.050 | 0.007 | 0.101 | |
| normLoess | 0.168 | 0.006 | 0.301 | |
| normMedFil | 0.082 | 0.003 | 0.146 | |
| normR | 0.035 | 0.002 | 0.077 | |
| normRobZ | 0.002 | 0.001 | 0.007 | |
| normSPAWN | 0.036 | 0.002 | 0.068 | |
| normSights | 0.003 | 0.001 | 0.009 | |
| normZ | 0.003 | 0.001 | 0.007 | |
| plot3d | 0.720 | 0.022 | 1.343 | |
| plotAutoco | 2.626 | 0.055 | 4.485 | |
| plotBox | 0.924 | 0.019 | 1.543 | |
| plotHeatmap | 1.703 | 0.031 | 3.120 | |
| plotHist | 0.325 | 0.007 | 0.566 | |
| plotIGFit | 0.240 | 0.005 | 0.401 | |
| plotScatter | 2.719 | 0.099 | 5.042 | |
| plotSights | 1.534 | 0.027 | 2.836 | |
| statFDR | 0.035 | 0.002 | 0.068 | |
| statRVM | 0.010 | 0.002 | 0.021 | |
| statSights | 0.015 | 0.002 | 0.030 | |
| statT | 0.027 | 0.002 | 0.052 | |