| Back to Mac ARM64 build report for BioC 3.17 |
|
This page was generated on 2023-10-20 09:38:11 -0400 (Fri, 20 Oct 2023).
| Hostname | OS | Arch (*) | R version | Installed pkgs |
|---|---|---|---|---|
| kjohnson2 | macOS 12.6.1 Monterey | arm64 | 4.3.1 (2023-06-16) -- "Beagle Scouts" | 4347 |
| Click on any hostname to see more info about the system (e.g. compilers) (*) as reported by 'uname -p', except on Windows and Mac OS X | ||||
| Package 1822/2230 | Hostname | OS / Arch | INSTALL | BUILD | CHECK | BUILD BIN | ||||||||
| scater 1.28.0 (landing page) Alan O'Callaghan
| kjohnson2 | macOS 12.6.1 Monterey / arm64 | OK | OK | OK | OK | ||||||||
|
To the developers/maintainers of the scater package: - Use the following Renviron settings to reproduce errors and warnings. - If 'R CMD check' started to fail recently on the Linux builder(s) over a missing dependency, add the missing dependency to 'Suggests:' in your DESCRIPTION file. See Renviron.bioc for more information. |
| Package: scater |
| Version: 1.28.0 |
| Command: /Library/Frameworks/R.framework/Resources/bin/R CMD check --install=check:scater.install-out.txt --library=/Library/Frameworks/R.framework/Resources/library --no-vignettes --timings scater_1.28.0.tar.gz |
| StartedAt: 2023-10-18 21:47:33 -0400 (Wed, 18 Oct 2023) |
| EndedAt: 2023-10-18 22:03:21 -0400 (Wed, 18 Oct 2023) |
| EllapsedTime: 947.4 seconds |
| RetCode: 0 |
| Status: OK |
| CheckDir: scater.Rcheck |
| Warnings: 0 |
##############################################################################
##############################################################################
###
### Running command:
###
### /Library/Frameworks/R.framework/Resources/bin/R CMD check --install=check:scater.install-out.txt --library=/Library/Frameworks/R.framework/Resources/library --no-vignettes --timings scater_1.28.0.tar.gz
###
##############################################################################
##############################################################################
* using log directory ‘/Users/biocbuild/bbs-3.17-bioc-mac-arm64/meat/scater.Rcheck’
* using R version 4.3.1 (2023-06-16)
* using platform: aarch64-apple-darwin20 (64-bit)
* R was compiled by
Apple clang version 14.0.0 (clang-1400.0.29.202)
GNU Fortran (GCC) 12.2.0
* running under: macOS Monterey 12.6.7
* using session charset: UTF-8
* using option ‘--no-vignettes’
* checking for file ‘scater/DESCRIPTION’ ... OK
* checking extension type ... Package
* this is package ‘scater’ version ‘1.28.0’
* package encoding: UTF-8
* checking package namespace information ... OK
* checking package dependencies ... OK
* checking if this is a source package ... OK
* checking if there is a namespace ... OK
* checking for hidden files and directories ... OK
* checking for portable file names ... OK
* checking for sufficient/correct file permissions ... OK
* checking whether package ‘scater’ can be installed ... OK
* checking installed package size ... OK
* checking package directory ... OK
* checking ‘build’ directory ... OK
* checking DESCRIPTION meta-information ... OK
* checking top-level files ... OK
* checking for left-over files ... OK
* checking index information ... OK
* checking package subdirectories ... OK
* checking R files for non-ASCII characters ... OK
* checking R files for syntax errors ... OK
* checking whether the package can be loaded ... OK
* checking whether the package can be loaded with stated dependencies ... OK
* checking whether the package can be unloaded cleanly ... OK
* checking whether the namespace can be loaded with stated dependencies ... OK
* checking whether the namespace can be unloaded cleanly ... OK
* checking dependencies in R code ... OK
* checking S3 generic/method consistency ... OK
* checking replacement functions ... OK
* checking foreign function calls ... OK
* checking R code for possible problems ... OK
* checking Rd files ... OK
* checking Rd metadata ... OK
* checking Rd cross-references ... OK
* checking for missing documentation entries ... OK
* checking for code/documentation mismatches ... OK
* checking Rd \usage sections ... OK
* checking Rd contents ... OK
* checking for unstated dependencies in examples ... OK
* checking files in ‘vignettes’ ... OK
* checking examples ... OK
Examples with CPU (user + system) or elapsed time > 5s
user system elapsed
plotReducedDim 10.467 0.421 16.808
plotRLE 7.034 0.374 13.184
runMultiUMAP 5.509 0.056 9.984
projectReducedDim 5.188 0.069 9.413
plotExpression 4.753 0.124 8.525
plotColData 4.472 0.091 7.772
plot_reddim 4.154 0.066 7.482
runUMAP 3.647 0.034 6.541
plotScater 3.216 0.113 5.937
plotDots 3.135 0.055 5.509
* checking for unstated dependencies in ‘tests’ ... OK
* checking tests ...
Running ‘testthat.R’
OK
* checking for unstated dependencies in vignettes ... OK
* checking package vignettes in ‘inst/doc’ ... OK
* checking running R code from vignettes ... SKIPPED
* checking re-building of vignette outputs ... SKIPPED
* checking PDF version of manual ... OK
* DONE
Status: OK
scater.Rcheck/00install.out
############################################################################## ############################################################################## ### ### Running command: ### ### /Library/Frameworks/R.framework/Resources/bin/R CMD INSTALL scater ### ############################################################################## ############################################################################## * installing to library ‘/Library/Frameworks/R.framework/Versions/4.3-arm64/Resources/library’ * installing *source* package ‘scater’ ... ** using staged installation ** R ** inst ** byte-compile and prepare package for lazy loading ** help *** installing help indices ** building package indices ** installing vignettes ** testing if installed package can be loaded from temporary location ** testing if installed package can be loaded from final location ** testing if installed package keeps a record of temporary installation path * DONE (scater)
scater.Rcheck/tests/testthat.Rout
R version 4.3.1 (2023-06-16) -- "Beagle Scouts"
Copyright (C) 2023 The R Foundation for Statistical Computing
Platform: aarch64-apple-darwin20 (64-bit)
R is free software and comes with ABSOLUTELY NO WARRANTY.
You are welcome to redistribute it under certain conditions.
Type 'license()' or 'licence()' for distribution details.
R is a collaborative project with many contributors.
Type 'contributors()' for more information and
'citation()' on how to cite R or R packages in publications.
Type 'demo()' for some demos, 'help()' for on-line help, or
'help.start()' for an HTML browser interface to help.
Type 'q()' to quit R.
> Sys.setenv("R_TESTS" = "")
> library(testthat)
> library(scater)
Loading required package: SingleCellExperiment
Loading required package: SummarizedExperiment
Loading required package: MatrixGenerics
Loading required package: matrixStats
Attaching package: 'MatrixGenerics'
The following objects are masked from 'package:matrixStats':
colAlls, colAnyNAs, colAnys, colAvgsPerRowSet, colCollapse,
colCounts, colCummaxs, colCummins, colCumprods, colCumsums,
colDiffs, colIQRDiffs, colIQRs, colLogSumExps, colMadDiffs,
colMads, colMaxs, colMeans2, colMedians, colMins, colOrderStats,
colProds, colQuantiles, colRanges, colRanks, colSdDiffs, colSds,
colSums2, colTabulates, colVarDiffs, colVars, colWeightedMads,
colWeightedMeans, colWeightedMedians, colWeightedSds,
colWeightedVars, rowAlls, rowAnyNAs, rowAnys, rowAvgsPerColSet,
rowCollapse, rowCounts, rowCummaxs, rowCummins, rowCumprods,
rowCumsums, rowDiffs, rowIQRDiffs, rowIQRs, rowLogSumExps,
rowMadDiffs, rowMads, rowMaxs, rowMeans2, rowMedians, rowMins,
rowOrderStats, rowProds, rowQuantiles, rowRanges, rowRanks,
rowSdDiffs, rowSds, rowSums2, rowTabulates, rowVarDiffs, rowVars,
rowWeightedMads, rowWeightedMeans, rowWeightedMedians,
rowWeightedSds, rowWeightedVars
Loading required package: GenomicRanges
Loading required package: stats4
Loading required package: BiocGenerics
Attaching package: 'BiocGenerics'
The following objects are masked from 'package:stats':
IQR, mad, sd, var, xtabs
The following objects are masked from 'package:base':
Filter, Find, Map, Position, Reduce, anyDuplicated, aperm, append,
as.data.frame, basename, cbind, colnames, dirname, do.call,
duplicated, eval, evalq, get, grep, grepl, intersect, is.unsorted,
lapply, mapply, match, mget, order, paste, pmax, pmax.int, pmin,
pmin.int, rank, rbind, rownames, sapply, setdiff, sort, table,
tapply, union, unique, unsplit, which.max, which.min
Loading required package: S4Vectors
Attaching package: 'S4Vectors'
The following object is masked from 'package:utils':
findMatches
The following objects are masked from 'package:base':
I, expand.grid, unname
Loading required package: IRanges
Loading required package: GenomeInfoDb
Loading required package: Biobase
Welcome to Bioconductor
Vignettes contain introductory material; view with
'browseVignettes()'. To cite Bioconductor, see
'citation("Biobase")', and for packages 'citation("pkgname")'.
Attaching package: 'Biobase'
The following object is masked from 'package:MatrixGenerics':
rowMedians
The following objects are masked from 'package:matrixStats':
anyMissing, rowMedians
Loading required package: scuttle
Loading required package: ggplot2
>
> test_check("scater")
Loading required package: Matrix
Attaching package: 'Matrix'
The following object is masked from 'package:S4Vectors':
expand
Loading required package: S4Arrays
Loading required package: abind
Attaching package: 'S4Arrays'
The following object is masked from 'package:abind':
abind
The following object is masked from 'package:base':
rowsum
Attaching package: 'DelayedArray'
The following objects are masked from 'package:base':
apply, scale, sweep
[ FAIL 0 | WARN 0 | SKIP 0 | PASS 800 ]
>
> proc.time()
user system elapsed
243.329 9.783 451.582
scater.Rcheck/scater-Ex.timings
| name | user | system | elapsed | |
| accessors | 1.858 | 0.059 | 2.939 | |
| annotateBMFeatures | 0.000 | 0.000 | 0.001 | |
| bootstraps | 0.487 | 0.008 | 0.838 | |
| defunct | 0.000 | 0.000 | 0.001 | |
| getExplanatoryPCs | 1.219 | 0.042 | 2.187 | |
| getVarianceExplained | 0.701 | 0.016 | 1.237 | |
| ggsce | 2.448 | 0.062 | 4.334 | |
| nexprs | 0.503 | 0.008 | 0.886 | |
| plotColData | 4.472 | 0.091 | 7.772 | |
| plotDots | 3.135 | 0.055 | 5.509 | |
| plotExplanatoryPCs | 1.462 | 0.020 | 2.617 | |
| plotExplanatoryVariables | 1.000 | 0.018 | 1.813 | |
| plotExpression | 4.753 | 0.124 | 8.525 | |
| plotGroupedHeatmap | 0.968 | 0.019 | 1.754 | |
| plotHeatmap | 0.900 | 0.019 | 1.634 | |
| plotHighestExprs | 1.470 | 0.029 | 2.661 | |
| plotPlatePosition | 1.507 | 0.022 | 2.643 | |
| plotRLE | 7.034 | 0.374 | 13.184 | |
| plotReducedDim | 10.467 | 0.421 | 16.808 | |
| plotRowData | 0.876 | 0.022 | 1.589 | |
| plotScater | 3.216 | 0.113 | 5.937 | |
| plot_reddim | 4.154 | 0.066 | 7.482 | |
| projectReducedDim | 5.188 | 0.069 | 9.413 | |
| retrieveCellInfo | 0.641 | 0.015 | 1.172 | |
| retrieveFeatureInfo | 0.683 | 0.012 | 1.238 | |
| runColDataPCA | 1.034 | 0.014 | 1.865 | |
| runMDS | 0.843 | 0.015 | 1.505 | |
| runMultiUMAP | 5.509 | 0.056 | 9.984 | |
| runNMF | 0.829 | 0.016 | 1.504 | |
| runPCA | 1.023 | 0.017 | 1.863 | |
| runTSNE | 1.458 | 0.023 | 2.628 | |
| runUMAP | 3.647 | 0.034 | 6.541 | |
| toSingleCellExperiment | 0.000 | 0.001 | 0.000 | |