| Back to Mac ARM64 build report for BioC 3.17 |
|
This page was generated on 2023-10-20 09:38:11 -0400 (Fri, 20 Oct 2023).
| Hostname | OS | Arch (*) | R version | Installed pkgs |
|---|---|---|---|---|
| kjohnson2 | macOS 12.6.1 Monterey | arm64 | 4.3.1 (2023-06-16) -- "Beagle Scouts" | 4347 |
| Click on any hostname to see more info about the system (e.g. compilers) (*) as reported by 'uname -p', except on Windows and Mac OS X | ||||
| Package 1845/2230 | Hostname | OS / Arch | INSTALL | BUILD | CHECK | BUILD BIN | ||||||||
| scMET 1.2.0 (landing page) Andreas C. Kapourani
| kjohnson2 | macOS 12.6.1 Monterey / arm64 | OK | OK | OK | OK | ||||||||
|
To the developers/maintainers of the scMET package: - Use the following Renviron settings to reproduce errors and warnings. - If 'R CMD check' started to fail recently on the Linux builder(s) over a missing dependency, add the missing dependency to 'Suggests:' in your DESCRIPTION file. See Renviron.bioc for more information. |
| Package: scMET |
| Version: 1.2.0 |
| Command: /Library/Frameworks/R.framework/Resources/bin/R CMD check --install=check:scMET.install-out.txt --library=/Library/Frameworks/R.framework/Resources/library --no-vignettes --timings scMET_1.2.0.tar.gz |
| StartedAt: 2023-10-18 22:41:58 -0400 (Wed, 18 Oct 2023) |
| EndedAt: 2023-10-18 22:48:23 -0400 (Wed, 18 Oct 2023) |
| EllapsedTime: 385.4 seconds |
| RetCode: 0 |
| Status: OK |
| CheckDir: scMET.Rcheck |
| Warnings: 0 |
##############################################################################
##############################################################################
###
### Running command:
###
### /Library/Frameworks/R.framework/Resources/bin/R CMD check --install=check:scMET.install-out.txt --library=/Library/Frameworks/R.framework/Resources/library --no-vignettes --timings scMET_1.2.0.tar.gz
###
##############################################################################
##############################################################################
* using log directory ‘/Users/biocbuild/bbs-3.17-bioc-mac-arm64/meat/scMET.Rcheck’
* using R version 4.3.1 (2023-06-16)
* using platform: aarch64-apple-darwin20 (64-bit)
* R was compiled by
Apple clang version 14.0.0 (clang-1400.0.29.202)
GNU Fortran (GCC) 12.2.0
* running under: macOS Monterey 12.6.7
* using session charset: UTF-8
* using option ‘--no-vignettes’
* checking for file ‘scMET/DESCRIPTION’ ... OK
* checking extension type ... Package
* this is package ‘scMET’ version ‘1.2.0’
* package encoding: UTF-8
* checking package namespace information ... OK
* checking package dependencies ... OK
* checking if this is a source package ... OK
* checking if there is a namespace ... OK
* checking for hidden files and directories ... OK
* checking for portable file names ... OK
* checking for sufficient/correct file permissions ... OK
* checking whether package ‘scMET’ can be installed ... OK
* used C++ compiler: ‘Apple clang version 14.0.0 (clang-1400.0.29.202)’
* used SDK: ‘MacOSX11.3.sdk’
* checking C++ specification ... OK
Not all R platforms support C++17
* checking installed package size ... OK
* checking package directory ... OK
* checking ‘build’ directory ... OK
* checking DESCRIPTION meta-information ... OK
* checking top-level files ... OK
* checking for left-over files ... OK
* checking index information ... OK
* checking package subdirectories ... OK
* checking R files for non-ASCII characters ... OK
* checking R files for syntax errors ... OK
* checking whether the package can be loaded ... OK
* checking whether the package can be loaded with stated dependencies ... OK
* checking whether the package can be unloaded cleanly ... OK
* checking whether the namespace can be loaded with stated dependencies ... OK
* checking whether the namespace can be unloaded cleanly ... OK
* checking startup messages can be suppressed ... OK
* checking dependencies in R code ... OK
* checking S3 generic/method consistency ... OK
* checking replacement functions ... OK
* checking foreign function calls ... OK
* checking R code for possible problems ... OK
* checking Rd files ... OK
* checking Rd metadata ... OK
* checking Rd cross-references ... OK
* checking for missing documentation entries ... OK
* checking for code/documentation mismatches ... OK
* checking Rd \usage sections ... OK
* checking Rd contents ... OK
* checking for unstated dependencies in examples ... OK
* checking contents of ‘data’ directory ... OK
* checking data for non-ASCII characters ... OK
* checking LazyData ... OK
* checking data for ASCII and uncompressed saves ... OK
* checking line endings in shell scripts ... OK
* checking line endings in C/C++/Fortran sources/headers ... OK
* checking line endings in Makefiles ... OK
* checking compilation flags in Makevars ... OK
* checking for GNU extensions in Makefiles ... NOTE
GNU make is a SystemRequirements.
* checking for portable use of $(BLAS_LIBS) and $(LAPACK_LIBS) ... OK
* checking use of PKG_*FLAGS in Makefiles ... OK
* checking compiled code ... NOTE
Note: information on .o files is not available
* checking files in ‘vignettes’ ... OK
* checking examples ... OK
Examples with CPU (user + system) or elapsed time > 5s
user system elapsed
scmet_plot_estimated_vs_true 23.276 0.421 40.715
scmet 15.966 0.418 29.269
scmet_plot_vf_tail_prob 15.515 0.320 28.183
scmet_plot_efdr_efnr_grid 15.429 0.324 28.124
scmet_plot_mean_var 15.382 0.330 27.939
scmet_hvf_lvf 15.174 0.362 27.674
sce_to_scmet 6.877 0.232 12.686
* checking for unstated dependencies in ‘tests’ ... OK
* checking tests ...
Running ‘testthat.R’
OK
* checking for unstated dependencies in vignettes ... OK
* checking package vignettes in ‘inst/doc’ ... OK
* checking running R code from vignettes ... SKIPPED
* checking re-building of vignette outputs ... SKIPPED
* checking PDF version of manual ... OK
* DONE
Status: 2 NOTEs
See
‘/Users/biocbuild/bbs-3.17-bioc-mac-arm64/meat/scMET.Rcheck/00check.log’
for details.
scMET.Rcheck/00install.out
##############################################################################
##############################################################################
###
### Running command:
###
### /Library/Frameworks/R.framework/Resources/bin/R CMD INSTALL scMET
###
##############################################################################
##############################################################################
* installing to library ‘/Library/Frameworks/R.framework/Versions/4.3-arm64/Resources/library’
* installing *source* package ‘scMET’ ...
** using staged installation
** libs
using C++ compiler: ‘Apple clang version 14.0.0 (clang-1400.0.29.202)’
using C++17
using SDK: ‘MacOSX11.3.sdk’
clang++ -arch arm64 -std=gnu++17 -I"/Library/Frameworks/R.framework/Resources/include" -DNDEBUG -I"../inst/include" -I"/Library/Frameworks/R.framework/Versions/4.3-arm64/Resources/library/StanHeaders/include/src" -DBOOST_DISABLE_ASSERTS -DEIGEN_NO_DEBUG -DBOOST_MATH_OVERFLOW_ERROR_POLICY=errno_on_error -D_HAS_AUTO_PTR_ETC=0 -I'/Library/Frameworks/R.framework/Versions/4.3-arm64/Resources/library/BH/include' -I'/Library/Frameworks/R.framework/Versions/4.3-arm64/Resources/library/Rcpp/include' -I'/Library/Frameworks/R.framework/Versions/4.3-arm64/Resources/library/RcppEigen/include' -I'/Library/Frameworks/R.framework/Versions/4.3-arm64/Resources/library/RcppParallel/include' -I'/Library/Frameworks/R.framework/Versions/4.3-arm64/Resources/library/rstan/include' -I'/Library/Frameworks/R.framework/Versions/4.3-arm64/Resources/library/StanHeaders/include' -I/opt/R/arm64/include -I'/Library/Frameworks/R.framework/Versions/4.3-arm64/Resources/library/RcppParallel/include' -D_REENTRANT -DSTAN_THREADS -D_HAS_AUTO_PTR_ETC=0 -fPIC -falign-functions=64 -Wall -g -O2 -c RcppExports.cpp -o RcppExports.o
In file included from RcppExports.cpp:4:
In file included from /Library/Frameworks/R.framework/Versions/4.3-arm64/Resources/library/RcppEigen/include/RcppEigen.h:25:
In file included from /Library/Frameworks/R.framework/Versions/4.3-arm64/Resources/library/RcppEigen/include/RcppEigenForward.h:30:
In file included from /Library/Frameworks/R.framework/Versions/4.3-arm64/Resources/library/RcppEigen/include/Eigen/Dense:1:
In file included from /Library/Frameworks/R.framework/Versions/4.3-arm64/Resources/library/RcppEigen/include/Eigen/Core:540:
/Library/Frameworks/R.framework/Versions/4.3-arm64/Resources/library/RcppEigen/include/Eigen/src/Core/util/ReenableStupidWarnings.h:14:30: warning: pragma diagnostic pop could not pop, no matching push [-Wunknown-pragmas]
#pragma clang diagnostic pop
^
In file included from RcppExports.cpp:4:
In file included from /Library/Frameworks/R.framework/Versions/4.3-arm64/Resources/library/RcppEigen/include/RcppEigen.h:25:
In file included from /Library/Frameworks/R.framework/Versions/4.3-arm64/Resources/library/RcppEigen/include/RcppEigenForward.h:30:
In file included from /Library/Frameworks/R.framework/Versions/4.3-arm64/Resources/library/RcppEigen/include/Eigen/Dense:2:
In file included from /Library/Frameworks/R.framework/Versions/4.3-arm64/Resources/library/RcppEigen/include/Eigen/LU:47:
/Library/Frameworks/R.framework/Versions/4.3-arm64/Resources/library/RcppEigen/include/Eigen/src/Core/util/ReenableStupidWarnings.h:14:30: warning: pragma diagnostic pop could not pop, no matching push [-Wunknown-pragmas]
#pragma clang diagnostic pop
^
In file included from RcppExports.cpp:4:
In file included from /Library/Frameworks/R.framework/Versions/4.3-arm64/Resources/library/RcppEigen/include/RcppEigen.h:25:
In file included from /Library/Frameworks/R.framework/Versions/4.3-arm64/Resources/library/RcppEigen/include/RcppEigenForward.h:30:
In file included from /Library/Frameworks/R.framework/Versions/4.3-arm64/Resources/library/RcppEigen/include/Eigen/Dense:3:
In file included from /Library/Frameworks/R.framework/Versions/4.3-arm64/Resources/library/RcppEigen/include/Eigen/Cholesky:12:
In file included from /Library/Frameworks/R.framework/Versions/4.3-arm64/Resources/library/RcppEigen/include/Eigen/Jacobi:29:
/Library/Frameworks/R.framework/Versions/4.3-arm64/Resources/library/RcppEigen/include/Eigen/src/Core/util/ReenableStupidWarnings.h:14:30: warning: pragma diagnostic pop could not pop, no matching push [-Wunknown-pragmas]
#pragma clang diagnostic pop
^
In file included from RcppExports.cpp:4:
In file included from /Library/Frameworks/R.framework/Versions/4.3-arm64/Resources/library/RcppEigen/include/RcppEigen.h:25:
In file included from /Library/Frameworks/R.framework/Versions/4.3-arm64/Resources/library/RcppEigen/include/RcppEigenForward.h:30:
In file included from /Library/Frameworks/R.framework/Versions/4.3-arm64/Resources/library/RcppEigen/include/Eigen/Dense:3:
In file included from /Library/Frameworks/R.framework/Versions/4.3-arm64/Resources/library/RcppEigen/include/Eigen/Cholesky:43:
/Library/Frameworks/R.framework/Versions/4.3-arm64/Resources/library/RcppEigen/include/Eigen/src/Core/util/ReenableStupidWarnings.h:14:30: warning: pragma diagnostic pop could not pop, no matching push [-Wunknown-pragmas]
#pragma clang diagnostic pop
^
In file included from RcppExports.cpp:4:
In file included from /Library/Frameworks/R.framework/Versions/4.3-arm64/Resources/library/RcppEigen/include/RcppEigen.h:25:
In file included from /Library/Frameworks/R.framework/Versions/4.3-arm64/Resources/library/RcppEigen/include/RcppEigenForward.h:30:
In file included from /Library/Frameworks/R.framework/Versions/4.3-arm64/Resources/library/RcppEigen/include/Eigen/Dense:4:
In file included from /Library/Frameworks/R.framework/Versions/4.3-arm64/Resources/library/RcppEigen/include/Eigen/QR:15:
In file included from /Library/Frameworks/R.framework/Versions/4.3-arm64/Resources/library/RcppEigen/include/Eigen/Householder:27:
/Library/Frameworks/R.framework/Versions/4.3-arm64/Resources/library/RcppEigen/include/Eigen/src/Core/util/ReenableStupidWarnings.h:14:30: warning: pragma diagnostic pop could not pop, no matching push [-Wunknown-pragmas]
#pragma clang diagnostic pop
^
In file included from RcppExports.cpp:4:
In file included from /Library/Frameworks/R.framework/Versions/4.3-arm64/Resources/library/RcppEigen/include/RcppEigen.h:25:
In file included from /Library/Frameworks/R.framework/Versions/4.3-arm64/Resources/library/RcppEigen/include/RcppEigenForward.h:30:
In file included from /Library/Frameworks/R.framework/Versions/4.3-arm64/Resources/library/RcppEigen/include/Eigen/Dense:4:
In file included from /Library/Frameworks/R.framework/Versions/4.3-arm64/Resources/library/RcppEigen/include/Eigen/QR:48:
/Library/Frameworks/R.framework/Versions/4.3-arm64/Resources/library/RcppEigen/include/Eigen/src/Core/util/ReenableStupidWarnings.h:14:30: warning: pragma diagnostic pop could not pop, no matching push [-Wunknown-pragmas]
#pragma clang diagnostic pop
^
In file included from RcppExports.cpp:4:
In file included from /Library/Frameworks/R.framework/Versions/4.3-arm64/Resources/library/RcppEigen/include/RcppEigen.h:25:
In file included from /Library/Frameworks/R.framework/Versions/4.3-arm64/Resources/library/RcppEigen/include/RcppEigenForward.h:30:
In file included from /Library/Frameworks/R.framework/Versions/4.3-arm64/Resources/library/RcppEigen/include/Eigen/Dense:5:
In file included from /Library/Frameworks/R.framework/Versions/4.3-arm64/Resources/library/RcppEigen/include/Eigen/SVD:48:
/Library/Frameworks/R.framework/Versions/4.3-arm64/Resources/library/RcppEigen/include/Eigen/src/Core/util/ReenableStupidWarnings.h:14:30: warning: pragma diagnostic pop could not pop, no matching push [-Wunknown-pragmas]
#pragma clang diagnostic pop
^
In file included from RcppExports.cpp:4:
In file included from /Library/Frameworks/R.framework/Versions/4.3-arm64/Resources/library/RcppEigen/include/RcppEigen.h:25:
In file included from /Library/Frameworks/R.framework/Versions/4.3-arm64/Resources/library/RcppEigen/include/RcppEigenForward.h:30:
In file included from /Library/Frameworks/R.framework/Versions/4.3-arm64/Resources/library/RcppEigen/include/Eigen/Dense:6:
In file included from /Library/Frameworks/R.framework/Versions/4.3-arm64/Resources/library/RcppEigen/include/Eigen/Geometry:58:
/Library/Frameworks/R.framework/Versions/4.3-arm64/Resources/library/RcppEigen/include/Eigen/src/Core/util/ReenableStupidWarnings.h:14:30: warning: pragma diagnostic pop could not pop, no matching push [-Wunknown-pragmas]
#pragma clang diagnostic pop
^
In file included from RcppExports.cpp:4:
In file included from /Library/Frameworks/R.framework/Versions/4.3-arm64/Resources/library/RcppEigen/include/RcppEigen.h:25:
In file included from /Library/Frameworks/R.framework/Versions/4.3-arm64/Resources/library/RcppEigen/include/RcppEigenForward.h:30:
In file included from /Library/Frameworks/R.framework/Versions/4.3-arm64/Resources/library/RcppEigen/include/Eigen/Dense:7:
In file included from /Library/Frameworks/R.framework/Versions/4.3-arm64/Resources/library/RcppEigen/include/Eigen/Eigenvalues:58:
/Library/Frameworks/R.framework/Versions/4.3-arm64/Resources/library/RcppEigen/include/Eigen/src/Core/util/ReenableStupidWarnings.h:14:30: warning: pragma diagnostic pop could not pop, no matching push [-Wunknown-pragmas]
#pragma clang diagnostic pop
^
In file included from RcppExports.cpp:4:
In file included from /Library/Frameworks/R.framework/Versions/4.3-arm64/Resources/library/RcppEigen/include/RcppEigen.h:25:
In file included from /Library/Frameworks/R.framework/Versions/4.3-arm64/Resources/library/RcppEigen/include/RcppEigenForward.h:31:
In file included from /Library/Frameworks/R.framework/Versions/4.3-arm64/Resources/library/RcppEigen/include/Eigen/Sparse:26:
In file included from /Library/Frameworks/R.framework/Versions/4.3-arm64/Resources/library/RcppEigen/include/Eigen/SparseCore:66:
/Library/Frameworks/R.framework/Versions/4.3-arm64/Resources/library/RcppEigen/include/Eigen/src/Core/util/ReenableStupidWarnings.h:14:30: warning: pragma diagnostic pop could not pop, no matching push [-Wunknown-pragmas]
#pragma clang diagnostic pop
^
In file included from RcppExports.cpp:4:
In file included from /Library/Frameworks/R.framework/Versions/4.3-arm64/Resources/library/RcppEigen/include/RcppEigen.h:25:
In file included from /Library/Frameworks/R.framework/Versions/4.3-arm64/Resources/library/RcppEigen/include/RcppEigenForward.h:31:
In file included from /Library/Frameworks/R.framework/Versions/4.3-arm64/Resources/library/RcppEigen/include/Eigen/Sparse:27:
In file included from /Library/Frameworks/R.framework/Versions/4.3-arm64/Resources/library/RcppEigen/include/Eigen/OrderingMethods:71:
/Library/Frameworks/R.framework/Versions/4.3-arm64/Resources/library/RcppEigen/include/Eigen/src/Core/util/ReenableStupidWarnings.h:14:30: warning: pragma diagnostic pop could not pop, no matching push [-Wunknown-pragmas]
#pragma clang diagnostic pop
^
In file included from RcppExports.cpp:4:
In file included from /Library/Frameworks/R.framework/Versions/4.3-arm64/Resources/library/RcppEigen/include/RcppEigen.h:25:
In file included from /Library/Frameworks/R.framework/Versions/4.3-arm64/Resources/library/RcppEigen/include/RcppEigenForward.h:31:
In file included from /Library/Frameworks/R.framework/Versions/4.3-arm64/Resources/library/RcppEigen/include/Eigen/Sparse:29:
In file included from /Library/Frameworks/R.framework/Versions/4.3-arm64/Resources/library/RcppEigen/include/Eigen/SparseCholesky:43:
/Library/Frameworks/R.framework/Versions/4.3-arm64/Resources/library/RcppEigen/include/Eigen/src/Core/util/ReenableStupidWarnings.h:14:30: warning: pragma diagnostic pop could not pop, no matching push [-Wunknown-pragmas]
#pragma clang diagnostic pop
^
In file included from RcppExports.cpp:4:
In file included from /Library/Frameworks/R.framework/Versions/4.3-arm64/Resources/library/RcppEigen/include/RcppEigen.h:25:
In file included from /Library/Frameworks/R.framework/Versions/4.3-arm64/Resources/library/RcppEigen/include/RcppEigenForward.h:31:
In file included from /Library/Frameworks/R.framework/Versions/4.3-arm64/Resources/library/RcppEigen/include/Eigen/Sparse:32:
In file included from /Library/Frameworks/R.framework/Versions/4.3-arm64/Resources/library/RcppEigen/include/Eigen/SparseQR:34:
/Library/Frameworks/R.framework/Versions/4.3-arm64/Resources/library/RcppEigen/include/Eigen/src/Core/util/ReenableStupidWarnings.h:14:30: warning: pragma diagnostic pop could not pop, no matching push [-Wunknown-pragmas]
#pragma clang diagnostic pop
^
In file included from RcppExports.cpp:4:
In file included from /Library/Frameworks/R.framework/Versions/4.3-arm64/Resources/library/RcppEigen/include/RcppEigen.h:25:
In file included from /Library/Frameworks/R.framework/Versions/4.3-arm64/Resources/library/RcppEigen/include/RcppEigenForward.h:31:
In file included from /Library/Frameworks/R.framework/Versions/4.3-arm64/Resources/library/RcppEigen/include/Eigen/Sparse:33:
In file included from /Library/Frameworks/R.framework/Versions/4.3-arm64/Resources/library/RcppEigen/include/Eigen/IterativeLinearSolvers:46:
/Library/Frameworks/R.framework/Versions/4.3-arm64/Resources/library/RcppEigen/include/Eigen/src/Core/util/ReenableStupidWarnings.h:14:30: warning: pragma diagnostic pop could not pop, no matching push [-Wunknown-pragmas]
#pragma clang diagnostic pop
^
In file included from RcppExports.cpp:4:
In file included from /Library/Frameworks/R.framework/Versions/4.3-arm64/Resources/library/RcppEigen/include/RcppEigen.h:25:
In file included from /Library/Frameworks/R.framework/Versions/4.3-arm64/Resources/library/RcppEigen/include/RcppEigenForward.h:32:
In file included from /Library/Frameworks/R.framework/Versions/4.3-arm64/Resources/library/RcppEigen/include/Eigen/CholmodSupport:45:
/Library/Frameworks/R.framework/Versions/4.3-arm64/Resources/library/RcppEigen/include/Eigen/src/Core/util/ReenableStupidWarnings.h:14:30: warning: pragma diagnostic pop could not pop, no matching push [-Wunknown-pragmas]
#pragma clang diagnostic pop
^
In file included from RcppExports.cpp:4:
In file included from /Library/Frameworks/R.framework/Versions/4.3-arm64/Resources/library/RcppEigen/include/RcppEigen.h:25:
In file included from /Library/Frameworks/R.framework/Versions/4.3-arm64/Resources/library/RcppEigen/include/RcppEigenForward.h:35:
In file included from /Library/Frameworks/R.framework/Versions/4.3-arm64/Resources/library/RcppEigen/include/unsupported/Eigen/KroneckerProduct:34:
/Library/Frameworks/R.framework/Versions/4.3-arm64/Resources/library/RcppEigen/include/unsupported/Eigen/../../Eigen/src/Core/util/ReenableStupidWarnings.h:14:30: warning: pragma diagnostic pop could not pop, no matching push [-Wunknown-pragmas]
#pragma clang diagnostic pop
^
In file included from RcppExports.cpp:4:
In file included from /Library/Frameworks/R.framework/Versions/4.3-arm64/Resources/library/RcppEigen/include/RcppEigen.h:25:
In file included from /Library/Frameworks/R.framework/Versions/4.3-arm64/Resources/library/RcppEigen/include/RcppEigenForward.h:39:
In file included from /Library/Frameworks/R.framework/Versions/4.3-arm64/Resources/library/RcppEigen/include/unsupported/Eigen/Polynomials:135:
/Library/Frameworks/R.framework/Versions/4.3-arm64/Resources/library/RcppEigen/include/unsupported/Eigen/../../Eigen/src/Core/util/ReenableStupidWarnings.h:14:30: warning: pragma diagnostic pop could not pop, no matching push [-Wunknown-pragmas]
#pragma clang diagnostic pop
^
In file included from RcppExports.cpp:4:
In file included from /Library/Frameworks/R.framework/Versions/4.3-arm64/Resources/library/RcppEigen/include/RcppEigen.h:25:
In file included from /Library/Frameworks/R.framework/Versions/4.3-arm64/Resources/library/RcppEigen/include/RcppEigenForward.h:40:
In file included from /Library/Frameworks/R.framework/Versions/4.3-arm64/Resources/library/RcppEigen/include/unsupported/Eigen/SparseExtra:51:
/Library/Frameworks/R.framework/Versions/4.3-arm64/Resources/library/RcppEigen/include/unsupported/Eigen/../../Eigen/src/Core/util/ReenableStupidWarnings.h:14:30: warning: pragma diagnostic pop could not pop, no matching push [-Wunknown-pragmas]
#pragma clang diagnostic pop
^
18 warnings generated.
clang++ -arch arm64 -std=gnu++17 -I"/Library/Frameworks/R.framework/Resources/include" -DNDEBUG -I"../inst/include" -I"/Library/Frameworks/R.framework/Versions/4.3-arm64/Resources/library/StanHeaders/include/src" -DBOOST_DISABLE_ASSERTS -DEIGEN_NO_DEBUG -DBOOST_MATH_OVERFLOW_ERROR_POLICY=errno_on_error -D_HAS_AUTO_PTR_ETC=0 -I'/Library/Frameworks/R.framework/Versions/4.3-arm64/Resources/library/BH/include' -I'/Library/Frameworks/R.framework/Versions/4.3-arm64/Resources/library/Rcpp/include' -I'/Library/Frameworks/R.framework/Versions/4.3-arm64/Resources/library/RcppEigen/include' -I'/Library/Frameworks/R.framework/Versions/4.3-arm64/Resources/library/RcppParallel/include' -I'/Library/Frameworks/R.framework/Versions/4.3-arm64/Resources/library/rstan/include' -I'/Library/Frameworks/R.framework/Versions/4.3-arm64/Resources/library/StanHeaders/include' -I/opt/R/arm64/include -I'/Library/Frameworks/R.framework/Versions/4.3-arm64/Resources/library/RcppParallel/include' -D_REENTRANT -DSTAN_THREADS -D_HAS_AUTO_PTR_ETC=0 -fPIC -falign-functions=64 -Wall -g -O2 -c stanExports_scmet.cc -o stanExports_scmet.o
In file included from stanExports_scmet.cc:5:
In file included from ./stanExports_scmet.h:6:
In file included from /Library/Frameworks/R.framework/Versions/4.3-arm64/Resources/library/rstan/include/rstan/rstaninc.hpp:3:
In file included from /Library/Frameworks/R.framework/Versions/4.3-arm64/Resources/library/StanHeaders/include/stan/math/prim/mat/fun/Eigen.hpp:1:
In file included from /Library/Frameworks/R.framework/Versions/4.3-arm64/Resources/library/StanHeaders/include/stan/math/prim/mat/fun/../../fun/Eigen.hpp:22:
In file included from /Library/Frameworks/R.framework/Versions/4.3-arm64/Resources/library/RcppEigen/include/Eigen/Dense:1:
In file included from /Library/Frameworks/R.framework/Versions/4.3-arm64/Resources/library/RcppEigen/include/Eigen/Core:540:
/Library/Frameworks/R.framework/Versions/4.3-arm64/Resources/library/RcppEigen/include/Eigen/src/Core/util/ReenableStupidWarnings.h:14:30: warning: pragma diagnostic pop could not pop, no matching push [-Wunknown-pragmas]
#pragma clang diagnostic pop
^
In file included from stanExports_scmet.cc:5:
In file included from ./stanExports_scmet.h:6:
In file included from /Library/Frameworks/R.framework/Versions/4.3-arm64/Resources/library/rstan/include/rstan/rstaninc.hpp:3:
In file included from /Library/Frameworks/R.framework/Versions/4.3-arm64/Resources/library/StanHeaders/include/stan/math/prim/mat/fun/Eigen.hpp:1:
In file included from /Library/Frameworks/R.framework/Versions/4.3-arm64/Resources/library/StanHeaders/include/stan/math/prim/mat/fun/../../fun/Eigen.hpp:22:
In file included from /Library/Frameworks/R.framework/Versions/4.3-arm64/Resources/library/RcppEigen/include/Eigen/Dense:2:
In file included from /Library/Frameworks/R.framework/Versions/4.3-arm64/Resources/library/RcppEigen/include/Eigen/LU:47:
/Library/Frameworks/R.framework/Versions/4.3-arm64/Resources/library/RcppEigen/include/Eigen/src/Core/util/ReenableStupidWarnings.h:14:30: warning: pragma diagnostic pop could not pop, no matching push [-Wunknown-pragmas]
#pragma clang diagnostic pop
^
In file included from stanExports_scmet.cc:5:
In file included from ./stanExports_scmet.h:6:
In file included from /Library/Frameworks/R.framework/Versions/4.3-arm64/Resources/library/rstan/include/rstan/rstaninc.hpp:3:
In file included from /Library/Frameworks/R.framework/Versions/4.3-arm64/Resources/library/StanHeaders/include/stan/math/prim/mat/fun/Eigen.hpp:1:
In file included from /Library/Frameworks/R.framework/Versions/4.3-arm64/Resources/library/StanHeaders/include/stan/math/prim/mat/fun/../../fun/Eigen.hpp:22:
In file included from /Library/Frameworks/R.framework/Versions/4.3-arm64/Resources/library/RcppEigen/include/Eigen/Dense:3:
In file included from /Library/Frameworks/R.framework/Versions/4.3-arm64/Resources/library/RcppEigen/include/Eigen/Cholesky:12:
In file included from /Library/Frameworks/R.framework/Versions/4.3-arm64/Resources/library/RcppEigen/include/Eigen/Jacobi:29:
/Library/Frameworks/R.framework/Versions/4.3-arm64/Resources/library/RcppEigen/include/Eigen/src/Core/util/ReenableStupidWarnings.h:14:30: warning: pragma diagnostic pop could not pop, no matching push [-Wunknown-pragmas]
#pragma clang diagnostic pop
^
In file included from stanExports_scmet.cc:5:
In file included from ./stanExports_scmet.h:6:
In file included from /Library/Frameworks/R.framework/Versions/4.3-arm64/Resources/library/rstan/include/rstan/rstaninc.hpp:3:
In file included from /Library/Frameworks/R.framework/Versions/4.3-arm64/Resources/library/StanHeaders/include/stan/math/prim/mat/fun/Eigen.hpp:1:
In file included from /Library/Frameworks/R.framework/Versions/4.3-arm64/Resources/library/StanHeaders/include/stan/math/prim/mat/fun/../../fun/Eigen.hpp:22:
In file included from /Library/Frameworks/R.framework/Versions/4.3-arm64/Resources/library/RcppEigen/include/Eigen/Dense:3:
In file included from /Library/Frameworks/R.framework/Versions/4.3-arm64/Resources/library/RcppEigen/include/Eigen/Cholesky:43:
/Library/Frameworks/R.framework/Versions/4.3-arm64/Resources/library/RcppEigen/include/Eigen/src/Core/util/ReenableStupidWarnings.h:14:30: warning: pragma diagnostic pop could not pop, no matching push [-Wunknown-pragmas]
#pragma clang diagnostic pop
^
In file included from stanExports_scmet.cc:5:
In file included from ./stanExports_scmet.h:6:
In file included from /Library/Frameworks/R.framework/Versions/4.3-arm64/Resources/library/rstan/include/rstan/rstaninc.hpp:3:
In file included from /Library/Frameworks/R.framework/Versions/4.3-arm64/Resources/library/StanHeaders/include/stan/math/prim/mat/fun/Eigen.hpp:1:
In file included from /Library/Frameworks/R.framework/Versions/4.3-arm64/Resources/library/StanHeaders/include/stan/math/prim/mat/fun/../../fun/Eigen.hpp:22:
In file included from /Library/Frameworks/R.framework/Versions/4.3-arm64/Resources/library/RcppEigen/include/Eigen/Dense:4:
In file included from /Library/Frameworks/R.framework/Versions/4.3-arm64/Resources/library/RcppEigen/include/Eigen/QR:15:
In file included from /Library/Frameworks/R.framework/Versions/4.3-arm64/Resources/library/RcppEigen/include/Eigen/Householder:27:
/Library/Frameworks/R.framework/Versions/4.3-arm64/Resources/library/RcppEigen/include/Eigen/src/Core/util/ReenableStupidWarnings.h:14:30: warning: pragma diagnostic pop could not pop, no matching push [-Wunknown-pragmas]
#pragma clang diagnostic pop
^
In file included from stanExports_scmet.cc:5:
In file included from ./stanExports_scmet.h:6:
In file included from /Library/Frameworks/R.framework/Versions/4.3-arm64/Resources/library/rstan/include/rstan/rstaninc.hpp:3:
In file included from /Library/Frameworks/R.framework/Versions/4.3-arm64/Resources/library/StanHeaders/include/stan/math/prim/mat/fun/Eigen.hpp:1:
In file included from /Library/Frameworks/R.framework/Versions/4.3-arm64/Resources/library/StanHeaders/include/stan/math/prim/mat/fun/../../fun/Eigen.hpp:22:
In file included from /Library/Frameworks/R.framework/Versions/4.3-arm64/Resources/library/RcppEigen/include/Eigen/Dense:4:
In file included from /Library/Frameworks/R.framework/Versions/4.3-arm64/Resources/library/RcppEigen/include/Eigen/QR:48:
/Library/Frameworks/R.framework/Versions/4.3-arm64/Resources/library/RcppEigen/include/Eigen/src/Core/util/ReenableStupidWarnings.h:14:30: warning: pragma diagnostic pop could not pop, no matching push [-Wunknown-pragmas]
#pragma clang diagnostic pop
^
In file included from stanExports_scmet.cc:5:
In file included from ./stanExports_scmet.h:6:
In file included from /Library/Frameworks/R.framework/Versions/4.3-arm64/Resources/library/rstan/include/rstan/rstaninc.hpp:3:
In file included from /Library/Frameworks/R.framework/Versions/4.3-arm64/Resources/library/StanHeaders/include/stan/math/prim/mat/fun/Eigen.hpp:1:
In file included from /Library/Frameworks/R.framework/Versions/4.3-arm64/Resources/library/StanHeaders/include/stan/math/prim/mat/fun/../../fun/Eigen.hpp:22:
In file included from /Library/Frameworks/R.framework/Versions/4.3-arm64/Resources/library/RcppEigen/include/Eigen/Dense:5:
In file included from /Library/Frameworks/R.framework/Versions/4.3-arm64/Resources/library/RcppEigen/include/Eigen/SVD:48:
/Library/Frameworks/R.framework/Versions/4.3-arm64/Resources/library/RcppEigen/include/Eigen/src/Core/util/ReenableStupidWarnings.h:14:30: warning: pragma diagnostic pop could not pop, no matching push [-Wunknown-pragmas]
#pragma clang diagnostic pop
^
In file included from stanExports_scmet.cc:5:
In file included from ./stanExports_scmet.h:6:
In file included from /Library/Frameworks/R.framework/Versions/4.3-arm64/Resources/library/rstan/include/rstan/rstaninc.hpp:3:
In file included from /Library/Frameworks/R.framework/Versions/4.3-arm64/Resources/library/StanHeaders/include/stan/math/prim/mat/fun/Eigen.hpp:1:
In file included from /Library/Frameworks/R.framework/Versions/4.3-arm64/Resources/library/StanHeaders/include/stan/math/prim/mat/fun/../../fun/Eigen.hpp:22:
In file included from /Library/Frameworks/R.framework/Versions/4.3-arm64/Resources/library/RcppEigen/include/Eigen/Dense:6:
In file included from /Library/Frameworks/R.framework/Versions/4.3-arm64/Resources/library/RcppEigen/include/Eigen/Geometry:58:
/Library/Frameworks/R.framework/Versions/4.3-arm64/Resources/library/RcppEigen/include/Eigen/src/Core/util/ReenableStupidWarnings.h:14:30: warning: pragma diagnostic pop could not pop, no matching push [-Wunknown-pragmas]
#pragma clang diagnostic pop
^
In file included from stanExports_scmet.cc:5:
In file included from ./stanExports_scmet.h:6:
In file included from /Library/Frameworks/R.framework/Versions/4.3-arm64/Resources/library/rstan/include/rstan/rstaninc.hpp:3:
In file included from /Library/Frameworks/R.framework/Versions/4.3-arm64/Resources/library/StanHeaders/include/stan/math/prim/mat/fun/Eigen.hpp:1:
In file included from /Library/Frameworks/R.framework/Versions/4.3-arm64/Resources/library/StanHeaders/include/stan/math/prim/mat/fun/../../fun/Eigen.hpp:22:
In file included from /Library/Frameworks/R.framework/Versions/4.3-arm64/Resources/library/RcppEigen/include/Eigen/Dense:7:
In file included from /Library/Frameworks/R.framework/Versions/4.3-arm64/Resources/library/RcppEigen/include/Eigen/Eigenvalues:58:
/Library/Frameworks/R.framework/Versions/4.3-arm64/Resources/library/RcppEigen/include/Eigen/src/Core/util/ReenableStupidWarnings.h:14:30: warning: pragma diagnostic pop could not pop, no matching push [-Wunknown-pragmas]
#pragma clang diagnostic pop
^
In file included from stanExports_scmet.cc:5:
In file included from ./stanExports_scmet.h:6:
In file included from /Library/Frameworks/R.framework/Versions/4.3-arm64/Resources/library/rstan/include/rstan/rstaninc.hpp:3:
In file included from /Library/Frameworks/R.framework/Versions/4.3-arm64/Resources/library/StanHeaders/include/stan/math/prim/mat/fun/Eigen.hpp:1:
In file included from /Library/Frameworks/R.framework/Versions/4.3-arm64/Resources/library/StanHeaders/include/stan/math/prim/mat/fun/../../fun/Eigen.hpp:23:
In file included from /Library/Frameworks/R.framework/Versions/4.3-arm64/Resources/library/RcppEigen/include/Eigen/Sparse:26:
In file included from /Library/Frameworks/R.framework/Versions/4.3-arm64/Resources/library/RcppEigen/include/Eigen/SparseCore:66:
/Library/Frameworks/R.framework/Versions/4.3-arm64/Resources/library/RcppEigen/include/Eigen/src/Core/util/ReenableStupidWarnings.h:14:30: warning: pragma diagnostic pop could not pop, no matching push [-Wunknown-pragmas]
#pragma clang diagnostic pop
^
In file included from stanExports_scmet.cc:5:
In file included from ./stanExports_scmet.h:6:
In file included from /Library/Frameworks/R.framework/Versions/4.3-arm64/Resources/library/rstan/include/rstan/rstaninc.hpp:3:
In file included from /Library/Frameworks/R.framework/Versions/4.3-arm64/Resources/library/StanHeaders/include/stan/math/prim/mat/fun/Eigen.hpp:1:
In file included from /Library/Frameworks/R.framework/Versions/4.3-arm64/Resources/library/StanHeaders/include/stan/math/prim/mat/fun/../../fun/Eigen.hpp:23:
In file included from /Library/Frameworks/R.framework/Versions/4.3-arm64/Resources/library/RcppEigen/include/Eigen/Sparse:27:
In file included from /Library/Frameworks/R.framework/Versions/4.3-arm64/Resources/library/RcppEigen/include/Eigen/OrderingMethods:71:
/Library/Frameworks/R.framework/Versions/4.3-arm64/Resources/library/RcppEigen/include/Eigen/src/Core/util/ReenableStupidWarnings.h:14:30: warning: pragma diagnostic pop could not pop, no matching push [-Wunknown-pragmas]
#pragma clang diagnostic pop
^
In file included from stanExports_scmet.cc:5:
In file included from ./stanExports_scmet.h:6:
In file included from /Library/Frameworks/R.framework/Versions/4.3-arm64/Resources/library/rstan/include/rstan/rstaninc.hpp:3:
In file included from /Library/Frameworks/R.framework/Versions/4.3-arm64/Resources/library/StanHeaders/include/stan/math/prim/mat/fun/Eigen.hpp:1:
In file included from /Library/Frameworks/R.framework/Versions/4.3-arm64/Resources/library/StanHeaders/include/stan/math/prim/mat/fun/../../fun/Eigen.hpp:23:
In file included from /Library/Frameworks/R.framework/Versions/4.3-arm64/Resources/library/RcppEigen/include/Eigen/Sparse:29:
In file included from /Library/Frameworks/R.framework/Versions/4.3-arm64/Resources/library/RcppEigen/include/Eigen/SparseCholesky:43:
/Library/Frameworks/R.framework/Versions/4.3-arm64/Resources/library/RcppEigen/include/Eigen/src/Core/util/ReenableStupidWarnings.h:14:30: warning: pragma diagnostic pop could not pop, no matching push [-Wunknown-pragmas]
#pragma clang diagnostic pop
^
In file included from stanExports_scmet.cc:5:
In file included from ./stanExports_scmet.h:6:
In file included from /Library/Frameworks/R.framework/Versions/4.3-arm64/Resources/library/rstan/include/rstan/rstaninc.hpp:3:
In file included from /Library/Frameworks/R.framework/Versions/4.3-arm64/Resources/library/StanHeaders/include/stan/math/prim/mat/fun/Eigen.hpp:1:
In file included from /Library/Frameworks/R.framework/Versions/4.3-arm64/Resources/library/StanHeaders/include/stan/math/prim/mat/fun/../../fun/Eigen.hpp:23:
In file included from /Library/Frameworks/R.framework/Versions/4.3-arm64/Resources/library/RcppEigen/include/Eigen/Sparse:32:
In file included from /Library/Frameworks/R.framework/Versions/4.3-arm64/Resources/library/RcppEigen/include/Eigen/SparseQR:34:
/Library/Frameworks/R.framework/Versions/4.3-arm64/Resources/library/RcppEigen/include/Eigen/src/Core/util/ReenableStupidWarnings.h:14:30: warning: pragma diagnostic pop could not pop, no matching push [-Wunknown-pragmas]
#pragma clang diagnostic pop
^
In file included from stanExports_scmet.cc:5:
In file included from ./stanExports_scmet.h:6:
In file included from /Library/Frameworks/R.framework/Versions/4.3-arm64/Resources/library/rstan/include/rstan/rstaninc.hpp:3:
In file included from /Library/Frameworks/R.framework/Versions/4.3-arm64/Resources/library/StanHeaders/include/stan/math/prim/mat/fun/Eigen.hpp:1:
In file included from /Library/Frameworks/R.framework/Versions/4.3-arm64/Resources/library/StanHeaders/include/stan/math/prim/mat/fun/../../fun/Eigen.hpp:23:
In file included from /Library/Frameworks/R.framework/Versions/4.3-arm64/Resources/library/RcppEigen/include/Eigen/Sparse:33:
In file included from /Library/Frameworks/R.framework/Versions/4.3-arm64/Resources/library/RcppEigen/include/Eigen/IterativeLinearSolvers:46:
/Library/Frameworks/R.framework/Versions/4.3-arm64/Resources/library/RcppEigen/include/Eigen/src/Core/util/ReenableStupidWarnings.h:14:30: warning: pragma diagnostic pop could not pop, no matching push [-Wunknown-pragmas]
#pragma clang diagnostic pop
^
In file included from stanExports_scmet.cc:5:
In file included from ./stanExports_scmet.h:6:
In file included from /Library/Frameworks/R.framework/Versions/4.3-arm64/Resources/library/rstan/include/rstan/rstaninc.hpp:4:
In file included from /Library/Frameworks/R.framework/Versions/4.3-arm64/Resources/library/rstan/include/rstan/stan_fit.hpp:22:
In file included from /Library/Frameworks/R.framework/Versions/4.3-arm64/Resources/library/RcppEigen/include/RcppEigen.h:25:
In file included from /Library/Frameworks/R.framework/Versions/4.3-arm64/Resources/library/RcppEigen/include/RcppEigenForward.h:32:
In file included from /Library/Frameworks/R.framework/Versions/4.3-arm64/Resources/library/RcppEigen/include/Eigen/CholmodSupport:45:
/Library/Frameworks/R.framework/Versions/4.3-arm64/Resources/library/RcppEigen/include/Eigen/src/Core/util/ReenableStupidWarnings.h:14:30: warning: pragma diagnostic pop could not pop, no matching push [-Wunknown-pragmas]
#pragma clang diagnostic pop
^
In file included from stanExports_scmet.cc:5:
In file included from ./stanExports_scmet.h:6:
In file included from /Library/Frameworks/R.framework/Versions/4.3-arm64/Resources/library/rstan/include/rstan/rstaninc.hpp:4:
In file included from /Library/Frameworks/R.framework/Versions/4.3-arm64/Resources/library/rstan/include/rstan/stan_fit.hpp:22:
In file included from /Library/Frameworks/R.framework/Versions/4.3-arm64/Resources/library/RcppEigen/include/RcppEigen.h:25:
In file included from /Library/Frameworks/R.framework/Versions/4.3-arm64/Resources/library/RcppEigen/include/RcppEigenForward.h:35:
In file included from /Library/Frameworks/R.framework/Versions/4.3-arm64/Resources/library/RcppEigen/include/unsupported/Eigen/KroneckerProduct:34:
/Library/Frameworks/R.framework/Versions/4.3-arm64/Resources/library/RcppEigen/include/unsupported/Eigen/../../Eigen/src/Core/util/ReenableStupidWarnings.h:14:30: warning: pragma diagnostic pop could not pop, no matching push [-Wunknown-pragmas]
#pragma clang diagnostic pop
^
In file included from stanExports_scmet.cc:5:
In file included from ./stanExports_scmet.h:6:
In file included from /Library/Frameworks/R.framework/Versions/4.3-arm64/Resources/library/rstan/include/rstan/rstaninc.hpp:4:
In file included from /Library/Frameworks/R.framework/Versions/4.3-arm64/Resources/library/rstan/include/rstan/stan_fit.hpp:22:
In file included from /Library/Frameworks/R.framework/Versions/4.3-arm64/Resources/library/RcppEigen/include/RcppEigen.h:25:
In file included from /Library/Frameworks/R.framework/Versions/4.3-arm64/Resources/library/RcppEigen/include/RcppEigenForward.h:39:
In file included from /Library/Frameworks/R.framework/Versions/4.3-arm64/Resources/library/RcppEigen/include/unsupported/Eigen/Polynomials:135:
/Library/Frameworks/R.framework/Versions/4.3-arm64/Resources/library/RcppEigen/include/unsupported/Eigen/../../Eigen/src/Core/util/ReenableStupidWarnings.h:14:30: warning: pragma diagnostic pop could not pop, no matching push [-Wunknown-pragmas]
#pragma clang diagnostic pop
^
In file included from stanExports_scmet.cc:5:
In file included from ./stanExports_scmet.h:6:
In file included from /Library/Frameworks/R.framework/Versions/4.3-arm64/Resources/library/rstan/include/rstan/rstaninc.hpp:4:
In file included from /Library/Frameworks/R.framework/Versions/4.3-arm64/Resources/library/rstan/include/rstan/stan_fit.hpp:22:
In file included from /Library/Frameworks/R.framework/Versions/4.3-arm64/Resources/library/RcppEigen/include/RcppEigen.h:25:
In file included from /Library/Frameworks/R.framework/Versions/4.3-arm64/Resources/library/RcppEigen/include/RcppEigenForward.h:40:
In file included from /Library/Frameworks/R.framework/Versions/4.3-arm64/Resources/library/RcppEigen/include/unsupported/Eigen/SparseExtra:51:
/Library/Frameworks/R.framework/Versions/4.3-arm64/Resources/library/RcppEigen/include/unsupported/Eigen/../../Eigen/src/Core/util/ReenableStupidWarnings.h:14:30: warning: pragma diagnostic pop could not pop, no matching push [-Wunknown-pragmas]
#pragma clang diagnostic pop
^
In file included from stanExports_scmet.cc:5:
In file included from ./stanExports_scmet.h:6:
In file included from /Library/Frameworks/R.framework/Versions/4.3-arm64/Resources/library/rstan/include/rstan/rstaninc.hpp:4:
In file included from /Library/Frameworks/R.framework/Versions/4.3-arm64/Resources/library/rstan/include/rstan/stan_fit.hpp:35:
In file included from /Library/Frameworks/R.framework/Versions/4.3-arm64/Resources/library/StanHeaders/include/src/stan/services/diagnose/diagnose.hpp:8:
In file included from /Library/Frameworks/R.framework/Versions/4.3-arm64/Resources/library/StanHeaders/include/src/stan/model/test_gradients.hpp:7:
In file included from /Library/Frameworks/R.framework/Versions/4.3-arm64/Resources/library/StanHeaders/include/src/stan/model/log_prob_grad.hpp:4:
In file included from /Library/Frameworks/R.framework/Versions/4.3-arm64/Resources/library/StanHeaders/include/stan/math/rev.hpp:8:
In file included from /Library/Frameworks/R.framework/Versions/4.3-arm64/Resources/library/StanHeaders/include/stan/math/rev/core.hpp:28:
In file included from /Library/Frameworks/R.framework/Versions/4.3-arm64/Resources/library/StanHeaders/include/stan/math/rev/core/operator_addition.hpp:6:
/Library/Frameworks/R.framework/Versions/4.3-arm64/Resources/library/StanHeaders/include/stan/math/prim/err/check_matching_dims.hpp:33:8: warning: unused variable 'error' [-Wunused-variable]
bool error = false;
^
In file included from stanExports_scmet.cc:5:
In file included from ./stanExports_scmet.h:6:
In file included from /Library/Frameworks/R.framework/Versions/4.3-arm64/Resources/library/rstan/include/rstan/rstaninc.hpp:4:
In file included from /Library/Frameworks/R.framework/Versions/4.3-arm64/Resources/library/rstan/include/rstan/stan_fit.hpp:35:
In file included from /Library/Frameworks/R.framework/Versions/4.3-arm64/Resources/library/StanHeaders/include/src/stan/services/diagnose/diagnose.hpp:8:
In file included from /Library/Frameworks/R.framework/Versions/4.3-arm64/Resources/library/StanHeaders/include/src/stan/model/test_gradients.hpp:7:
In file included from /Library/Frameworks/R.framework/Versions/4.3-arm64/Resources/library/StanHeaders/include/src/stan/model/log_prob_grad.hpp:4:
In file included from /Library/Frameworks/R.framework/Versions/4.3-arm64/Resources/library/StanHeaders/include/stan/math/rev.hpp:8:
In file included from /Library/Frameworks/R.framework/Versions/4.3-arm64/Resources/library/StanHeaders/include/stan/math/rev/core.hpp:54:
In file included from /Library/Frameworks/R.framework/Versions/4.3-arm64/Resources/library/StanHeaders/include/stan/math/rev/core/profiling.hpp:9:
In file included from /Library/Frameworks/R.framework/Versions/4.3-arm64/Resources/library/StanHeaders/include/stan/math/prim/err.hpp:50:
/Library/Frameworks/R.framework/Versions/4.3-arm64/Resources/library/StanHeaders/include/stan/math/prim/err/hmm_check.hpp:33:7: warning: unused variable 'n_transitions' [-Wunused-variable]
int n_transitions = log_omegas.cols() - 1;
^
In file included from stanExports_scmet.cc:5:
In file included from ./stanExports_scmet.h:6:
In file included from /Library/Frameworks/R.framework/Versions/4.3-arm64/Resources/library/rstan/include/rstan/rstaninc.hpp:4:
In file included from /Library/Frameworks/R.framework/Versions/4.3-arm64/Resources/library/rstan/include/rstan/stan_fit.hpp:35:
In file included from /Library/Frameworks/R.framework/Versions/4.3-arm64/Resources/library/StanHeaders/include/src/stan/services/diagnose/diagnose.hpp:8:
In file included from /Library/Frameworks/R.framework/Versions/4.3-arm64/Resources/library/StanHeaders/include/src/stan/model/test_gradients.hpp:7:
In file included from /Library/Frameworks/R.framework/Versions/4.3-arm64/Resources/library/StanHeaders/include/src/stan/model/log_prob_grad.hpp:4:
In file included from /Library/Frameworks/R.framework/Versions/4.3-arm64/Resources/library/StanHeaders/include/stan/math/rev.hpp:10:
In file included from /Library/Frameworks/R.framework/Versions/4.3-arm64/Resources/library/StanHeaders/include/stan/math/rev/fun.hpp:7:
In file included from /Library/Frameworks/R.framework/Versions/4.3-arm64/Resources/library/StanHeaders/include/stan/math/prim/fun.hpp:118:
/Library/Frameworks/R.framework/Versions/4.3-arm64/Resources/library/StanHeaders/include/stan/math/prim/fun/gp_matern52_cov.hpp:275:10: warning: unused variable 'neg_root_5' [-Wunused-variable]
double neg_root_5 = -root_5;
^
In file included from stanExports_scmet.cc:5:
In file included from ./stanExports_scmet.h:6:
In file included from /Library/Frameworks/R.framework/Versions/4.3-arm64/Resources/library/rstan/include/rstan/rstaninc.hpp:4:
In file included from /Library/Frameworks/R.framework/Versions/4.3-arm64/Resources/library/rstan/include/rstan/stan_fit.hpp:35:
In file included from /Library/Frameworks/R.framework/Versions/4.3-arm64/Resources/library/StanHeaders/include/src/stan/services/diagnose/diagnose.hpp:8:
In file included from /Library/Frameworks/R.framework/Versions/4.3-arm64/Resources/library/StanHeaders/include/src/stan/model/test_gradients.hpp:7:
In file included from /Library/Frameworks/R.framework/Versions/4.3-arm64/Resources/library/StanHeaders/include/src/stan/model/log_prob_grad.hpp:4:
In file included from /Library/Frameworks/R.framework/Versions/4.3-arm64/Resources/library/StanHeaders/include/stan/math/rev.hpp:10:
In file included from /Library/Frameworks/R.framework/Versions/4.3-arm64/Resources/library/StanHeaders/include/stan/math/rev/fun.hpp:7:
In file included from /Library/Frameworks/R.framework/Versions/4.3-arm64/Resources/library/StanHeaders/include/stan/math/prim/fun.hpp:183:
/Library/Frameworks/R.framework/Versions/4.3-arm64/Resources/library/StanHeaders/include/stan/math/prim/fun/log_mix.hpp:86:13: warning: unused variable 'N' [-Wunused-variable]
const int N = stan::math::size(theta);
^
In file included from stanExports_scmet.cc:5:
In file included from ./stanExports_scmet.h:6:
In file included from /Library/Frameworks/R.framework/Versions/4.3-arm64/Resources/library/rstan/include/rstan/rstaninc.hpp:4:
In file included from /Library/Frameworks/R.framework/Versions/4.3-arm64/Resources/library/rstan/include/rstan/stan_fit.hpp:35:
In file included from /Library/Frameworks/R.framework/Versions/4.3-arm64/Resources/library/StanHeaders/include/src/stan/services/diagnose/diagnose.hpp:8:
In file included from /Library/Frameworks/R.framework/Versions/4.3-arm64/Resources/library/StanHeaders/include/src/stan/model/test_gradients.hpp:7:
In file included from /Library/Frameworks/R.framework/Versions/4.3-arm64/Resources/library/StanHeaders/include/src/stan/model/log_prob_grad.hpp:4:
In file included from /Library/Frameworks/R.framework/Versions/4.3-arm64/Resources/library/StanHeaders/include/stan/math/rev.hpp:13:
In file included from /Library/Frameworks/R.framework/Versions/4.3-arm64/Resources/library/StanHeaders/include/stan/math/prim.hpp:16:
In file included from /Library/Frameworks/R.framework/Versions/4.3-arm64/Resources/library/StanHeaders/include/stan/math/prim/prob.hpp:87:
/Library/Frameworks/R.framework/Versions/4.3-arm64/Resources/library/StanHeaders/include/stan/math/prim/prob/double_exponential_cdf.hpp:82:10: warning: unused variable 'N' [-Wunused-variable]
size_t N = max_size(y, mu, sigma);
^
In file included from stanExports_scmet.cc:5:
In file included from ./stanExports_scmet.h:6:
In file included from /Library/Frameworks/R.framework/Versions/4.3-arm64/Resources/library/rstan/include/rstan/rstaninc.hpp:4:
In file included from /Library/Frameworks/R.framework/Versions/4.3-arm64/Resources/library/rstan/include/rstan/stan_fit.hpp:35:
In file included from /Library/Frameworks/R.framework/Versions/4.3-arm64/Resources/library/StanHeaders/include/src/stan/services/diagnose/diagnose.hpp:8:
In file included from /Library/Frameworks/R.framework/Versions/4.3-arm64/Resources/library/StanHeaders/include/src/stan/model/test_gradients.hpp:7:
In file included from /Library/Frameworks/R.framework/Versions/4.3-arm64/Resources/library/StanHeaders/include/src/stan/model/log_prob_grad.hpp:4:
In file included from /Library/Frameworks/R.framework/Versions/4.3-arm64/Resources/library/StanHeaders/include/stan/math/rev.hpp:13:
In file included from /Library/Frameworks/R.framework/Versions/4.3-arm64/Resources/library/StanHeaders/include/stan/math/prim.hpp:16:
In file included from /Library/Frameworks/R.framework/Versions/4.3-arm64/Resources/library/StanHeaders/include/stan/math/prim/prob.hpp:128:
/Library/Frameworks/R.framework/Versions/4.3-arm64/Resources/library/StanHeaders/include/stan/math/prim/prob/gaussian_dlm_obs_rng.hpp:98:7: warning: unused variable 'n' [-Wunused-variable]
int n = G.rows(); // number of states
^
In file included from stanExports_scmet.cc:5:
In file included from ./stanExports_scmet.h:6:
In file included from /Library/Frameworks/R.framework/Versions/4.3-arm64/Resources/library/rstan/include/rstan/rstaninc.hpp:4:
In file included from /Library/Frameworks/R.framework/Versions/4.3-arm64/Resources/library/rstan/include/rstan/stan_fit.hpp:35:
In file included from /Library/Frameworks/R.framework/Versions/4.3-arm64/Resources/library/StanHeaders/include/src/stan/services/diagnose/diagnose.hpp:8:
In file included from /Library/Frameworks/R.framework/Versions/4.3-arm64/Resources/library/StanHeaders/include/src/stan/model/test_gradients.hpp:7:
In file included from /Library/Frameworks/R.framework/Versions/4.3-arm64/Resources/library/StanHeaders/include/src/stan/model/log_prob_grad.hpp:4:
In file included from /Library/Frameworks/R.framework/Versions/4.3-arm64/Resources/library/StanHeaders/include/stan/math/rev.hpp:13:
In file included from /Library/Frameworks/R.framework/Versions/4.3-arm64/Resources/library/StanHeaders/include/stan/math/prim.hpp:16:
In file included from /Library/Frameworks/R.framework/Versions/4.3-arm64/Resources/library/StanHeaders/include/stan/math/prim/prob.hpp:139:
/Library/Frameworks/R.framework/Versions/4.3-arm64/Resources/library/StanHeaders/include/stan/math/prim/prob/hmm_marginal.hpp:26:13: warning: unused variable 'n_states' [-Wunused-variable]
const int n_states = omegas.rows();
^
In file included from stanExports_scmet.cc:5:
In file included from ./stanExports_scmet.h:6:
In file included from /Library/Frameworks/R.framework/Versions/4.3-arm64/Resources/library/rstan/include/rstan/rstaninc.hpp:4:
In file included from /Library/Frameworks/R.framework/Versions/4.3-arm64/Resources/library/rstan/include/rstan/stan_fit.hpp:35:
In file included from /Library/Frameworks/R.framework/Versions/4.3-arm64/Resources/library/StanHeaders/include/src/stan/services/diagnose/diagnose.hpp:8:
In file included from /Library/Frameworks/R.framework/Versions/4.3-arm64/Resources/library/StanHeaders/include/src/stan/model/test_gradients.hpp:7:
In file included from /Library/Frameworks/R.framework/Versions/4.3-arm64/Resources/library/StanHeaders/include/src/stan/model/log_prob_grad.hpp:4:
In file included from /Library/Frameworks/R.framework/Versions/4.3-arm64/Resources/library/StanHeaders/include/stan/math/rev.hpp:13:
In file included from /Library/Frameworks/R.framework/Versions/4.3-arm64/Resources/library/StanHeaders/include/stan/math/prim.hpp:16:
In file included from /Library/Frameworks/R.framework/Versions/4.3-arm64/Resources/library/StanHeaders/include/stan/math/prim/prob.hpp:315:
/Library/Frameworks/R.framework/Versions/4.3-arm64/Resources/library/StanHeaders/include/stan/math/prim/prob/std_normal_rng.hpp:23:22: warning: unused variable 'function' [-Wunused-variable]
static const char* function = "std_normal_rng";
^
In file included from stanExports_scmet.cc:5:
In file included from ./stanExports_scmet.h:6:
In file included from /Library/Frameworks/R.framework/Versions/4.3-arm64/Resources/library/rstan/include/rstan/rstaninc.hpp:4:
In file included from /Library/Frameworks/R.framework/Versions/4.3-arm64/Resources/library/rstan/include/rstan/stan_fit.hpp:35:
In file included from /Library/Frameworks/R.framework/Versions/4.3-arm64/Resources/library/StanHeaders/include/src/stan/services/diagnose/diagnose.hpp:8:
In file included from /Library/Frameworks/R.framework/Versions/4.3-arm64/Resources/library/StanHeaders/include/src/stan/model/test_gradients.hpp:7:
In file included from /Library/Frameworks/R.framework/Versions/4.3-arm64/Resources/library/StanHeaders/include/src/stan/model/log_prob_grad.hpp:4:
In file included from /Library/Frameworks/R.framework/Versions/4.3-arm64/Resources/library/StanHeaders/include/stan/math/rev.hpp:13:
In file included from /Library/Frameworks/R.framework/Versions/4.3-arm64/Resources/library/StanHeaders/include/stan/math/prim.hpp:16:
In file included from /Library/Frameworks/R.framework/Versions/4.3-arm64/Resources/library/StanHeaders/include/stan/math/prim/prob.hpp:335:
/Library/Frameworks/R.framework/Versions/4.3-arm64/Resources/library/StanHeaders/include/stan/math/prim/prob/von_mises_cdf.hpp:72:10: warning: unused variable 'ck' [-Wunused-variable]
double ck = 50;
^
In file included from stanExports_scmet.cc:5:
In file included from ./stanExports_scmet.h:6:
In file included from /Library/Frameworks/R.framework/Versions/4.3-arm64/Resources/library/rstan/include/rstan/rstaninc.hpp:4:
/Library/Frameworks/R.framework/Versions/4.3-arm64/Resources/library/rstan/include/rstan/stan_fit.hpp:1238:9: warning: variable 'ret' set but not used [-Wunused-but-set-variable]
int ret = stan::services::error_codes::CONFIG;
^
In file included from stanExports_scmet.cc:5:
In file included from ./stanExports_scmet.h:8:
In file included from /Library/Frameworks/R.framework/Versions/4.3-arm64/Resources/library/StanHeaders/include/src/stan/model/model_header.hpp:15:
In file included from /Library/Frameworks/R.framework/Versions/4.3-arm64/Resources/library/StanHeaders/include/src/stan/model/indexing.hpp:9:
/Library/Frameworks/R.framework/Versions/4.3-arm64/Resources/library/StanHeaders/include/src/stan/model/indexing/rvalue.hpp:610:13: warning: unused variable 'cols' [-Wunused-variable]
const int cols = rvalue_index_size(idxs.tail_.head_, x_ref.cols());
^
In file included from stanExports_scmet.cc:5:
In file included from ./stanExports_scmet.h:8:
In file included from /Library/Frameworks/R.framework/Versions/4.3-arm64/Resources/library/StanHeaders/include/src/stan/model/model_header.hpp:15:
In file included from /Library/Frameworks/R.framework/Versions/4.3-arm64/Resources/library/StanHeaders/include/src/stan/model/indexing.hpp:10:
/Library/Frameworks/R.framework/Versions/4.3-arm64/Resources/library/StanHeaders/include/src/stan/model/indexing/rvalue_varmat.hpp:241:22: warning: unused variable 'x_cols' [-Wunused-variable]
const Eigen::Index x_cols = x.cols();
^
In file included from stanExports_scmet.cc:5:
In file included from ./stanExports_scmet.h:6:
In file included from /Library/Frameworks/R.framework/Versions/4.3-arm64/Resources/library/rstan/include/rstan/rstaninc.hpp:4:
In file included from /Library/Frameworks/R.framework/Versions/4.3-arm64/Resources/library/rstan/include/rstan/stan_fit.hpp:35:
In file included from /Library/Frameworks/R.framework/Versions/4.3-arm64/Resources/library/StanHeaders/include/src/stan/services/diagnose/diagnose.hpp:8:
In file included from /Library/Frameworks/R.framework/Versions/4.3-arm64/Resources/library/StanHeaders/include/src/stan/model/test_gradients.hpp:7:
In file included from /Library/Frameworks/R.framework/Versions/4.3-arm64/Resources/library/StanHeaders/include/src/stan/model/log_prob_grad.hpp:4:
In file included from /Library/Frameworks/R.framework/Versions/4.3-arm64/Resources/library/StanHeaders/include/stan/math/rev.hpp:8:
In file included from /Library/Frameworks/R.framework/Versions/4.3-arm64/Resources/library/StanHeaders/include/stan/math/rev/core.hpp:29:
In file included from /Library/Frameworks/R.framework/Versions/4.3-arm64/Resources/library/StanHeaders/include/stan/math/rev/core/operator_divide_equal.hpp:5:
In file included from /Library/Frameworks/R.framework/Versions/4.3-arm64/Resources/library/StanHeaders/include/stan/math/rev/core/operator_division.hpp:14:
In file included from /Library/Frameworks/R.framework/Versions/4.3-arm64/Resources/library/StanHeaders/include/stan/math/rev/core/operator_multiplication.hpp:7:
/Library/Frameworks/R.framework/Versions/4.3-arm64/Resources/library/StanHeaders/include/stan/math/rev/core/operator_subtraction.hpp:88:43: warning: lambda capture 'b' is not used [-Wunused-lambda-capture]
[avi = a.vi_, b](const auto& vi) mutable {
^
/Library/Frameworks/R.framework/Versions/4.3-arm64/Resources/library/StanHeaders/include/stan/math/rev/core/operator_minus_equal.hpp:24:16: note: in instantiation of function template specialization 'stan::math::operator-<double, nullptr>' requested here
vi_ = (*this - b).vi_;
^
/Library/Frameworks/R.framework/Versions/4.3-arm64/Resources/library/StanHeaders/include/stan/math/prim/core/complex_base.hpp:136:9: note: in instantiation of member function 'stan::math::var_value<double>::operator-=' requested here
re_ -= x;
^
/Library/Frameworks/R.framework/Versions/4.3-arm64/Resources/library/StanHeaders/include/stan/math/prim/core/operator_subtraction.hpp:24:5: note: in instantiation of function template specialization 'stan::math::complex_base<stan::math::var_value<double>>::operator-=<int>' requested here
y -= rhs;
^
/Library/Frameworks/R.framework/Versions/4.3-arm64/Resources/library/StanHeaders/include/stan/math/prim/core/operator_subtraction.hpp:55:20: note: in instantiation of function template specialization 'stan::math::internal::complex_subtract<std::complex<stan::math::var>, int>' requested here
return internal::complex_subtract(x, y);
^
/Library/Frameworks/R.framework/Versions/4.3-arm64/Resources/library/StanHeaders/include/stan/math/prim/fun/acosh.hpp:105:31: note: in instantiation of function template specialization 'stan::math::operator-<stan::math::var_value<double>, int>' requested here
auto y = log(z + sqrt(z * z - 1));
^
/Library/Frameworks/R.framework/Versions/4.3-arm64/Resources/library/StanHeaders/include/stan/math/rev/fun/acosh.hpp:94:32: note: in instantiation of function template specialization 'stan::math::internal::complex_acosh<stan::math::var_value<double>>' requested here
return stan::math::internal::complex_acosh(z);
^
In file included from stanExports_scmet.cc:5:
In file included from ./stanExports_scmet.h:6:
In file included from /Library/Frameworks/R.framework/Versions/4.3-arm64/Resources/library/rstan/include/rstan/rstaninc.hpp:4:
In file included from /Library/Frameworks/R.framework/Versions/4.3-arm64/Resources/library/rstan/include/rstan/stan_fit.hpp:35:
In file included from /Library/Frameworks/R.framework/Versions/4.3-arm64/Resources/library/StanHeaders/include/src/stan/services/diagnose/diagnose.hpp:8:
In file included from /Library/Frameworks/R.framework/Versions/4.3-arm64/Resources/library/StanHeaders/include/src/stan/model/test_gradients.hpp:7:
In file included from /Library/Frameworks/R.framework/Versions/4.3-arm64/Resources/library/StanHeaders/include/src/stan/model/log_prob_grad.hpp:4:
In file included from /Library/Frameworks/R.framework/Versions/4.3-arm64/Resources/library/StanHeaders/include/stan/math/rev.hpp:8:
In file included from /Library/Frameworks/R.framework/Versions/4.3-arm64/Resources/library/StanHeaders/include/stan/math/rev/core.hpp:28:
/Library/Frameworks/R.framework/Versions/4.3-arm64/Resources/library/StanHeaders/include/stan/math/rev/core/operator_addition.hpp:84:43: warning: lambda capture 'b' is not used [-Wunused-lambda-capture]
[avi = a.vi_, b](const auto& vi) mutable {
^
/Library/Frameworks/R.framework/Versions/4.3-arm64/Resources/library/StanHeaders/include/stan/math/rev/fun/grad_inc_beta.hpp:45:43: note: in instantiation of function template specialization 'stan::math::operator+<int, nullptr>' requested here
grad_2F1(dF1, dF2, a + b, var(1.0), a + 1, z);
^
In file included from stanExports_scmet.cc:5:
In file included from ./stanExports_scmet.h:6:
In file included from /Library/Frameworks/R.framework/Versions/4.3-arm64/Resources/library/rstan/include/rstan/rstaninc.hpp:4:
In file included from /Library/Frameworks/R.framework/Versions/4.3-arm64/Resources/library/rstan/include/rstan/stan_fit.hpp:35:
In file included from /Library/Frameworks/R.framework/Versions/4.3-arm64/Resources/library/StanHeaders/include/src/stan/services/diagnose/diagnose.hpp:8:
In file included from /Library/Frameworks/R.framework/Versions/4.3-arm64/Resources/library/StanHeaders/include/src/stan/model/test_gradients.hpp:7:
In file included from /Library/Frameworks/R.framework/Versions/4.3-arm64/Resources/library/StanHeaders/include/src/stan/model/log_prob_grad.hpp:4:
In file included from /Library/Frameworks/R.framework/Versions/4.3-arm64/Resources/library/StanHeaders/include/stan/math/rev.hpp:8:
In file included from /Library/Frameworks/R.framework/Versions/4.3-arm64/Resources/library/StanHeaders/include/stan/math/rev/core.hpp:28:
/Library/Frameworks/R.framework/Versions/4.3-arm64/Resources/library/StanHeaders/include/stan/math/rev/core/operator_addition.hpp:84:43: warning: lambda capture 'b' is not used [-Wunused-lambda-capture]
[avi = a.vi_, b](const auto& vi) mutable {
^
/Library/Frameworks/R.framework/Versions/4.3-arm64/Resources/library/StanHeaders/include/stan/math/prim/fun/trigamma.hpp:63:31: note: in instantiation of function template specialization 'stan::math::operator+<double, nullptr>' requested here
value = -trigamma_impl(-x + 1.0) + square(pi() / sin(-pi() * x));
^
/Library/Frameworks/R.framework/Versions/4.3-arm64/Resources/library/StanHeaders/include/stan/math/rev/fun/trigamma.hpp:23:44: note: in instantiation of function template specialization 'stan::math::trigamma_impl<stan::math::var_value<double>>' requested here
inline var trigamma(const var& u) { return trigamma_impl(u); }
^
In file included from stanExports_scmet.cc:5:
In file included from ./stanExports_scmet.h:6:
In file included from /Library/Frameworks/R.framework/Versions/4.3-arm64/Resources/library/rstan/include/rstan/rstaninc.hpp:4:
In file included from /Library/Frameworks/R.framework/Versions/4.3-arm64/Resources/library/rstan/include/rstan/stan_fit.hpp:35:
In file included from /Library/Frameworks/R.framework/Versions/4.3-arm64/Resources/library/StanHeaders/include/src/stan/services/diagnose/diagnose.hpp:8:
In file included from /Library/Frameworks/R.framework/Versions/4.3-arm64/Resources/library/StanHeaders/include/src/stan/model/test_gradients.hpp:7:
In file included from /Library/Frameworks/R.framework/Versions/4.3-arm64/Resources/library/StanHeaders/include/src/stan/model/log_prob_grad.hpp:4:
In file included from /Library/Frameworks/R.framework/Versions/4.3-arm64/Resources/library/StanHeaders/include/stan/math/rev.hpp:8:
In file included from /Library/Frameworks/R.framework/Versions/4.3-arm64/Resources/library/StanHeaders/include/stan/math/rev/core.hpp:29:
In file included from /Library/Frameworks/R.framework/Versions/4.3-arm64/Resources/library/StanHeaders/include/stan/math/rev/core/operator_divide_equal.hpp:5:
In file included from /Library/Frameworks/R.framework/Versions/4.3-arm64/Resources/library/StanHeaders/include/stan/math/rev/core/operator_division.hpp:14:
In file included from /Library/Frameworks/R.framework/Versions/4.3-arm64/Resources/library/StanHeaders/include/stan/math/rev/core/operator_multiplication.hpp:7:
/Library/Frameworks/R.framework/Versions/4.3-arm64/Resources/library/StanHeaders/include/stan/math/rev/core/operator_subtraction.hpp:113:43: warning: lambda capture 'a' is not used [-Wunused-lambda-capture]
[bvi = b.vi_, a](const auto& vi) mutable {
^
/Library/Frameworks/R.framework/Versions/4.3-arm64/Resources/library/StanHeaders/include/stan/math/prim/fun/lub_constrain.hpp:115:24: note: in instantiation of function template specialization 'stan::math::operator-<double, nullptr>' requested here
lp += log(ub - lb) - x - 2 * log1p(exp_minus_x);
^
/Library/Frameworks/R.framework/Versions/4.3-arm64/Resources/library/StanHeaders/include/src/stan/io/reader.hpp:748:24: note: in instantiation of function template specialization 'stan::math::lub_constrain<stan::math::var_value<double>, int, int, stan::math::var_value<double>>' requested here
return stan::math::lub_constrain(scalar(), lb, ub, lp);
^
/Library/Frameworks/R.framework/Versions/4.3-arm64/Resources/library/StanHeaders/include/src/stan/io/reader.hpp:1574:14: note: in instantiation of function template specialization 'stan::io::reader<stan::math::var_value<double>>::scalar_lub_constrain<int, int>' requested here
v(i) = scalar_lub_constrain(lb, ub, lp);
^
./stanExports_scmet.h:519:29: note: in instantiation of function template specialization 'stan::io::reader<stan::math::var_value<double>>::vector_lub_constrain<int, int>' requested here
w_mu = in__.vector_lub_constrain(-(10), 10, N_X, lp__);
^
/Library/Frameworks/R.framework/Versions/4.3-arm64/Resources/library/StanHeaders/include/src/stan/model/log_prob_grad.hpp:40:36: note: in instantiation of function template specialization 'model_scmet_namespace::model_scmet::log_prob<true, true, stan::math::var_value<double>>' requested here
var adLogProb = model.template log_prob<propto, jacobian_adjust_transform>(
^
/Library/Frameworks/R.framework/Versions/4.3-arm64/Resources/library/StanHeaders/include/src/stan/services/util/initialize.hpp:166:31: note: in instantiation of function template specialization 'stan::model::log_prob_grad<true, true, model_scmet_namespace::model_scmet>' requested here
log_prob = stan::model::log_prob_grad<true, Jacobian>(
^
/Library/Frameworks/R.framework/Versions/4.3-arm64/Resources/library/StanHeaders/include/src/stan/services/diagnose/diagnose.hpp:49:43: note: in instantiation of function template specialization 'stan::services::util::initialize<true, model_scmet_namespace::model_scmet, boost::random::additive_combine_engine<boost::random::linear_congruential_engine<unsigned int, 40014, 0, 2147483563>, boost::random::linear_congruential_engine<unsigned int, 40692, 0, 2147483399>>>' requested here
std::vector<double> cont_vector = util::initialize(
^
/Library/Frameworks/R.framework/Versions/4.3-arm64/Resources/library/rstan/include/rstan/stan_fit.hpp:467:45: note: in instantiation of function template specialization 'stan::services::diagnose::diagnose<model_scmet_namespace::model_scmet>' requested here
return_code = stan::services::diagnose::diagnose(model,
^
/Library/Frameworks/R.framework/Versions/4.3-arm64/Resources/library/rstan/include/rstan/stan_fit.hpp:1201:11: note: in instantiation of function template specialization 'rstan::(anonymous namespace)::command<model_scmet_namespace::model_scmet, boost::random::additive_combine_engine<boost::random::linear_congruential_engine<unsigned int, 40014, 0, 2147483563>, boost::random::linear_congruential_engine<unsigned int, 40692, 0, 2147483399>>>' requested here
ret = command(args, model_, holder, names_oi_tidx_,
^
stanExports_scmet.cc:15:87: note: in instantiation of member function 'rstan::stan_fit<model_scmet_namespace::model_scmet, boost::random::additive_combine_engine<boost::random::linear_congruential_engine<unsigned int, 40014, 0, 2147483563>, boost::random::linear_congruential_engine<unsigned int, 40692, 0, 2147483399>>>::call_sampler' requested here
.method("call_sampler", &rstan::stan_fit<stan_model, boost::random::ecuyer1988> ::call_sampler)
^
In file included from stanExports_scmet.cc:5:
In file included from ./stanExports_scmet.h:6:
In file included from /Library/Frameworks/R.framework/Versions/4.3-arm64/Resources/library/rstan/include/rstan/rstaninc.hpp:4:
In file included from /Library/Frameworks/R.framework/Versions/4.3-arm64/Resources/library/rstan/include/rstan/stan_fit.hpp:35:
In file included from /Library/Frameworks/R.framework/Versions/4.3-arm64/Resources/library/StanHeaders/include/src/stan/services/diagnose/diagnose.hpp:8:
In file included from /Library/Frameworks/R.framework/Versions/4.3-arm64/Resources/library/StanHeaders/include/src/stan/model/test_gradients.hpp:7:
In file included from /Library/Frameworks/R.framework/Versions/4.3-arm64/Resources/library/StanHeaders/include/src/stan/model/log_prob_grad.hpp:4:
In file included from /Library/Frameworks/R.framework/Versions/4.3-arm64/Resources/library/StanHeaders/include/stan/math/rev.hpp:8:
In file included from /Library/Frameworks/R.framework/Versions/4.3-arm64/Resources/library/StanHeaders/include/stan/math/rev/core.hpp:52:
/Library/Frameworks/R.framework/Versions/4.3-arm64/Resources/library/StanHeaders/include/stan/math/rev/core/precomputed_gradients.hpp:83:59: warning: lambda capture 'this' is not used [-Wunused-lambda-capture]
container_operands_(index_apply<N_containers>([&, this](auto... Is) {
^
/Library/Frameworks/R.framework/Versions/4.3-arm64/Resources/library/StanHeaders/include/stan/math/rev/functor/operands_and_partials.hpp:167:16: note: in instantiation of function template specialization 'stan::math::precomputed_gradients_vari_template<>::precomputed_gradients_vari_template<>' requested here
return new precomputed_gradients_vari_template<
^
/Library/Frameworks/R.framework/Versions/4.3-arm64/Resources/library/StanHeaders/include/stan/math/prim/prob/inv_gamma_lpdf.hpp:119:23: note: in instantiation of member function 'stan::math::operands_and_partials<const stan::math::var_value<double> &, const double &, const double &, double, double, stan::math::var_value<double>>::build' requested here
return ops_partials.build(logp);
^
/Library/Frameworks/R.framework/Versions/4.3-arm64/Resources/library/StanHeaders/include/stan/math/prim/prob/inv_gamma_log.hpp:32:10: note: in instantiation of function template specialization 'stan::math::inv_gamma_lpdf<true, stan::math::var_value<double>, double, double, nullptr>' requested here
return inv_gamma_lpdf<propto, T_y, T_shape, T_scale>(y, alpha, beta);
^
./stanExports_scmet.h:633:28: note: in instantiation of function template specialization 'stan::math::inv_gamma_log<true, stan::math::var_value<double>, double, double>' requested here
lp_accum__.add(inv_gamma_log<propto__>(s_gamma, a_sgamma, b_sgamma));
^
/Library/Frameworks/R.framework/Versions/4.3-arm64/Resources/library/StanHeaders/include/src/stan/model/log_prob_grad.hpp:40:36: note: in instantiation of function template specialization 'model_scmet_namespace::model_scmet::log_prob<true, true, stan::math::var_value<double>>' requested here
var adLogProb = model.template log_prob<propto, jacobian_adjust_transform>(
^
/Library/Frameworks/R.framework/Versions/4.3-arm64/Resources/library/StanHeaders/include/src/stan/services/util/initialize.hpp:166:31: note: in instantiation of function template specialization 'stan::model::log_prob_grad<true, true, model_scmet_namespace::model_scmet>' requested here
log_prob = stan::model::log_prob_grad<true, Jacobian>(
^
/Library/Frameworks/R.framework/Versions/4.3-arm64/Resources/library/StanHeaders/include/src/stan/services/diagnose/diagnose.hpp:49:43: note: in instantiation of function template specialization 'stan::services::util::initialize<true, model_scmet_namespace::model_scmet, boost::random::additive_combine_engine<boost::random::linear_congruential_engine<unsigned int, 40014, 0, 2147483563>, boost::random::linear_congruential_engine<unsigned int, 40692, 0, 2147483399>>>' requested here
std::vector<double> cont_vector = util::initialize(
^
/Library/Frameworks/R.framework/Versions/4.3-arm64/Resources/library/rstan/include/rstan/stan_fit.hpp:467:45: note: in instantiation of function template specialization 'stan::services::diagnose::diagnose<model_scmet_namespace::model_scmet>' requested here
return_code = stan::services::diagnose::diagnose(model,
^
/Library/Frameworks/R.framework/Versions/4.3-arm64/Resources/library/rstan/include/rstan/stan_fit.hpp:1201:11: note: in instantiation of function template specialization 'rstan::(anonymous namespace)::command<model_scmet_namespace::model_scmet, boost::random::additive_combine_engine<boost::random::linear_congruential_engine<unsigned int, 40014, 0, 2147483563>, boost::random::linear_congruential_engine<unsigned int, 40692, 0, 2147483399>>>' requested here
ret = command(args, model_, holder, names_oi_tidx_,
^
stanExports_scmet.cc:15:87: note: in instantiation of member function 'rstan::stan_fit<model_scmet_namespace::model_scmet, boost::random::additive_combine_engine<boost::random::linear_congruential_engine<unsigned int, 40014, 0, 2147483563>, boost::random::linear_congruential_engine<unsigned int, 40692, 0, 2147483399>>>::call_sampler' requested here
.method("call_sampler", &rstan::stan_fit<stan_model, boost::random::ecuyer1988> ::call_sampler)
^
In file included from stanExports_scmet.cc:5:
In file included from ./stanExports_scmet.h:6:
In file included from /Library/Frameworks/R.framework/Versions/4.3-arm64/Resources/library/rstan/include/rstan/rstaninc.hpp:4:
In file included from /Library/Frameworks/R.framework/Versions/4.3-arm64/Resources/library/rstan/include/rstan/stan_fit.hpp:35:
In file included from /Library/Frameworks/R.framework/Versions/4.3-arm64/Resources/library/StanHeaders/include/src/stan/services/diagnose/diagnose.hpp:8:
In file included from /Library/Frameworks/R.framework/Versions/4.3-arm64/Resources/library/StanHeaders/include/src/stan/model/test_gradients.hpp:7:
In file included from /Library/Frameworks/R.framework/Versions/4.3-arm64/Resources/library/StanHeaders/include/src/stan/model/log_prob_grad.hpp:4:
In file included from /Library/Frameworks/R.framework/Versions/4.3-arm64/Resources/library/StanHeaders/include/stan/math/rev.hpp:8:
In file included from /Library/Frameworks/R.framework/Versions/4.3-arm64/Resources/library/StanHeaders/include/stan/math/rev/core.hpp:52:
/Library/Frameworks/R.framework/Versions/4.3-arm64/Resources/library/StanHeaders/include/stan/math/rev/core/precomputed_gradients.hpp:86:60: warning: lambda capture 'this' is not used [-Wunused-lambda-capture]
container_gradients_(index_apply<N_containers>([&, this](auto... Is) {
^
In file included from stanExports_scmet.cc:5:
In file included from ./stanExports_scmet.h:6:
In file included from /Library/Frameworks/R.framework/Versions/4.3-arm64/Resources/library/rstan/include/rstan/rstaninc.hpp:4:
In file included from /Library/Frameworks/R.framework/Versions/4.3-arm64/Resources/library/rstan/include/rstan/stan_fit.hpp:35:
In file included from /Library/Frameworks/R.framework/Versions/4.3-arm64/Resources/library/StanHeaders/include/src/stan/services/diagnose/diagnose.hpp:8:
In file included from /Library/Frameworks/R.framework/Versions/4.3-arm64/Resources/library/StanHeaders/include/src/stan/model/test_gradients.hpp:7:
In file included from /Library/Frameworks/R.framework/Versions/4.3-arm64/Resources/library/StanHeaders/include/src/stan/model/log_prob_grad.hpp:4:
In file included from /Library/Frameworks/R.framework/Versions/4.3-arm64/Resources/library/StanHeaders/include/stan/math/rev.hpp:8:
In file included from /Library/Frameworks/R.framework/Versions/4.3-arm64/Resources/library/StanHeaders/include/stan/math/rev/core.hpp:29:
In file included from /Library/Frameworks/R.framework/Versions/4.3-arm64/Resources/library/StanHeaders/include/stan/math/rev/core/operator_divide_equal.hpp:5:
In file included from /Library/Frameworks/R.framework/Versions/4.3-arm64/Resources/library/StanHeaders/include/stan/math/rev/core/operator_division.hpp:14:
In file included from /Library/Frameworks/R.framework/Versions/4.3-arm64/Resources/library/StanHeaders/include/stan/math/rev/core/operator_multiplication.hpp:7:
/Library/Frameworks/R.framework/Versions/4.3-arm64/Resources/library/StanHeaders/include/stan/math/rev/core/operator_subtraction.hpp:113:43: warning: lambda capture 'a' is not used [-Wunused-lambda-capture]
[bvi = b.vi_, a](const auto& vi) mutable {
^
./stanExports_scmet.h:645:243: note: in instantiation of function template specialization 'stan::math::operator-<int, nullptr>' requested here
lp_accum__.add(beta_binomial_log<propto__>(segment(y, pos, get_base1(C, j, "C", 1)), segment(n, pos, get_base1(C, j, "C", 1)), ((get_base1(mu, j, "mu", 1) / get_base1(gamma, j, "gamma", 1)) - get_base1(mu, j, "mu", 1)), ((((1 - get_base1(mu, j, "mu", 1)) / get_base1(gamma, j, "gamma", 1)) + get_base1(mu, j, "mu", 1)) - 1)));
^
/Library/Frameworks/R.framework/Versions/4.3-arm64/Resources/library/StanHeaders/include/src/stan/model/log_prob_grad.hpp:40:36: note: in instantiation of function template specialization 'model_scmet_namespace::model_scmet::log_prob<true, true, stan::math::var_value<double>>' requested here
var adLogProb = model.template log_prob<propto, jacobian_adjust_transform>(
^
/Library/Frameworks/R.framework/Versions/4.3-arm64/Resources/library/StanHeaders/include/src/stan/services/util/initialize.hpp:166:31: note: in instantiation of function template specialization 'stan::model::log_prob_grad<true, true, model_scmet_namespace::model_scmet>' requested here
log_prob = stan::model::log_prob_grad<true, Jacobian>(
^
/Library/Frameworks/R.framework/Versions/4.3-arm64/Resources/library/StanHeaders/include/src/stan/services/diagnose/diagnose.hpp:49:43: note: in instantiation of function template specialization 'stan::services::util::initialize<true, model_scmet_namespace::model_scmet, boost::random::additive_combine_engine<boost::random::linear_congruential_engine<unsigned int, 40014, 0, 2147483563>, boost::random::linear_congruential_engine<unsigned int, 40692, 0, 2147483399>>>' requested here
std::vector<double> cont_vector = util::initialize(
^
/Library/Frameworks/R.framework/Versions/4.3-arm64/Resources/library/rstan/include/rstan/stan_fit.hpp:467:45: note: in instantiation of function template specialization 'stan::services::diagnose::diagnose<model_scmet_namespace::model_scmet>' requested here
return_code = stan::services::diagnose::diagnose(model,
^
/Library/Frameworks/R.framework/Versions/4.3-arm64/Resources/library/rstan/include/rstan/stan_fit.hpp:1201:11: note: in instantiation of function template specialization 'rstan::(anonymous namespace)::command<model_scmet_namespace::model_scmet, boost::random::additive_combine_engine<boost::random::linear_congruential_engine<unsigned int, 40014, 0, 2147483563>, boost::random::linear_congruential_engine<unsigned int, 40692, 0, 2147483399>>>' requested here
ret = command(args, model_, holder, names_oi_tidx_,
^
stanExports_scmet.cc:15:87: note: in instantiation of member function 'rstan::stan_fit<model_scmet_namespace::model_scmet, boost::random::additive_combine_engine<boost::random::linear_congruential_engine<unsigned int, 40014, 0, 2147483563>, boost::random::linear_congruential_engine<unsigned int, 40692, 0, 2147483399>>>::call_sampler' requested here
.method("call_sampler", &rstan::stan_fit<stan_model, boost::random::ecuyer1988> ::call_sampler)
^
In file included from stanExports_scmet.cc:5:
In file included from ./stanExports_scmet.h:6:
In file included from /Library/Frameworks/R.framework/Versions/4.3-arm64/Resources/library/rstan/include/rstan/rstaninc.hpp:4:
In file included from /Library/Frameworks/R.framework/Versions/4.3-arm64/Resources/library/rstan/include/rstan/stan_fit.hpp:35:
In file included from /Library/Frameworks/R.framework/Versions/4.3-arm64/Resources/library/StanHeaders/include/src/stan/services/diagnose/diagnose.hpp:8:
In file included from /Library/Frameworks/R.framework/Versions/4.3-arm64/Resources/library/StanHeaders/include/src/stan/model/test_gradients.hpp:7:
In file included from /Library/Frameworks/R.framework/Versions/4.3-arm64/Resources/library/StanHeaders/include/src/stan/model/log_prob_grad.hpp:4:
In file included from /Library/Frameworks/R.framework/Versions/4.3-arm64/Resources/library/StanHeaders/include/stan/math/rev.hpp:8:
In file included from /Library/Frameworks/R.framework/Versions/4.3-arm64/Resources/library/StanHeaders/include/stan/math/rev/core.hpp:29:
In file included from /Library/Frameworks/R.framework/Versions/4.3-arm64/Resources/library/StanHeaders/include/stan/math/rev/core/operator_divide_equal.hpp:5:
In file included from /Library/Frameworks/R.framework/Versions/4.3-arm64/Resources/library/StanHeaders/include/stan/math/rev/core/operator_division.hpp:14:
In file included from /Library/Frameworks/R.framework/Versions/4.3-arm64/Resources/library/StanHeaders/include/stan/math/rev/core/operator_multiplication.hpp:7:
/Library/Frameworks/R.framework/Versions/4.3-arm64/Resources/library/StanHeaders/include/stan/math/rev/core/operator_subtraction.hpp:88:43: warning: lambda capture 'b' is not used [-Wunused-lambda-capture]
[avi = a.vi_, b](const auto& vi) mutable {
^
./stanExports_scmet.h:645:336: note: in instantiation of function template specialization 'stan::math::operator-<int, nullptr>' requested here
lp_accum__.add(beta_binomial_log<propto__>(segment(y, pos, get_base1(C, j, "C", 1)), segment(n, pos, get_base1(C, j, "C", 1)), ((get_base1(mu, j, "mu", 1) / get_base1(gamma, j, "gamma", 1)) - get_base1(mu, j, "mu", 1)), ((((1 - get_base1(mu, j, "mu", 1)) / get_base1(gamma, j, "gamma", 1)) + get_base1(mu, j, "mu", 1)) - 1)));
^
/Library/Frameworks/R.framework/Versions/4.3-arm64/Resources/library/StanHeaders/include/src/stan/model/log_prob_grad.hpp:40:36: note: in instantiation of function template specialization 'model_scmet_namespace::model_scmet::log_prob<true, true, stan::math::var_value<double>>' requested here
var adLogProb = model.template log_prob<propto, jacobian_adjust_transform>(
^
/Library/Frameworks/R.framework/Versions/4.3-arm64/Resources/library/StanHeaders/include/src/stan/services/util/initialize.hpp:166:31: note: in instantiation of function template specialization 'stan::model::log_prob_grad<true, true, model_scmet_namespace::model_scmet>' requested here
log_prob = stan::model::log_prob_grad<true, Jacobian>(
^
/Library/Frameworks/R.framework/Versions/4.3-arm64/Resources/library/StanHeaders/include/src/stan/services/diagnose/diagnose.hpp:49:43: note: in instantiation of function template specialization 'stan::services::util::initialize<true, model_scmet_namespace::model_scmet, boost::random::additive_combine_engine<boost::random::linear_congruential_engine<unsigned int, 40014, 0, 2147483563>, boost::random::linear_congruential_engine<unsigned int, 40692, 0, 2147483399>>>' requested here
std::vector<double> cont_vector = util::initialize(
^
/Library/Frameworks/R.framework/Versions/4.3-arm64/Resources/library/rstan/include/rstan/stan_fit.hpp:467:45: note: in instantiation of function template specialization 'stan::services::diagnose::diagnose<model_scmet_namespace::model_scmet>' requested here
return_code = stan::services::diagnose::diagnose(model,
^
/Library/Frameworks/R.framework/Versions/4.3-arm64/Resources/library/rstan/include/rstan/stan_fit.hpp:1201:11: note: in instantiation of function template specialization 'rstan::(anonymous namespace)::command<model_scmet_namespace::model_scmet, boost::random::additive_combine_engine<boost::random::linear_congruential_engine<unsigned int, 40014, 0, 2147483563>, boost::random::linear_congruential_engine<unsigned int, 40692, 0, 2147483399>>>' requested here
ret = command(args, model_, holder, names_oi_tidx_,
^
stanExports_scmet.cc:15:87: note: in instantiation of member function 'rstan::stan_fit<model_scmet_namespace::model_scmet, boost::random::additive_combine_engine<boost::random::linear_congruential_engine<unsigned int, 40014, 0, 2147483563>, boost::random::linear_congruential_engine<unsigned int, 40692, 0, 2147483399>>>::call_sampler' requested here
.method("call_sampler", &rstan::stan_fit<stan_model, boost::random::ecuyer1988> ::call_sampler)
^
In file included from stanExports_scmet.cc:5:
In file included from ./stanExports_scmet.h:6:
In file included from /Library/Frameworks/R.framework/Versions/4.3-arm64/Resources/library/rstan/include/rstan/rstaninc.hpp:4:
In file included from /Library/Frameworks/R.framework/Versions/4.3-arm64/Resources/library/rstan/include/rstan/stan_fit.hpp:35:
In file included from /Library/Frameworks/R.framework/Versions/4.3-arm64/Resources/library/StanHeaders/include/src/stan/services/diagnose/diagnose.hpp:8:
In file included from /Library/Frameworks/R.framework/Versions/4.3-arm64/Resources/library/StanHeaders/include/src/stan/model/test_gradients.hpp:7:
In file included from /Library/Frameworks/R.framework/Versions/4.3-arm64/Resources/library/StanHeaders/include/src/stan/model/log_prob_grad.hpp:4:
In file included from /Library/Frameworks/R.framework/Versions/4.3-arm64/Resources/library/StanHeaders/include/stan/math/rev.hpp:8:
In file included from /Library/Frameworks/R.framework/Versions/4.3-arm64/Resources/library/StanHeaders/include/stan/math/rev/core.hpp:59:
/Library/Frameworks/R.framework/Versions/4.3-arm64/Resources/library/StanHeaders/include/stan/math/rev/core/set_zero_all_adjoints.hpp:14:13: warning: 'static' function 'set_zero_all_adjoints' declared in header file should be declared 'static inline' [-Wunneeded-internal-declaration]
static void set_zero_all_adjoints() {
^
In file included from stanExports_scmet.cc:5:
In file included from ./stanExports_scmet.h:6:
In file included from /Library/Frameworks/R.framework/Versions/4.3-arm64/Resources/library/rstan/include/rstan/rstaninc.hpp:4:
In file included from /Library/Frameworks/R.framework/Versions/4.3-arm64/Resources/library/rstan/include/rstan/stan_fit.hpp:35:
In file included from /Library/Frameworks/R.framework/Versions/4.3-arm64/Resources/library/StanHeaders/include/src/stan/services/diagnose/diagnose.hpp:8:
In file included from /Library/Frameworks/R.framework/Versions/4.3-arm64/Resources/library/StanHeaders/include/src/stan/model/test_gradients.hpp:7:
In file included from /Library/Frameworks/R.framework/Versions/4.3-arm64/Resources/library/StanHeaders/include/src/stan/model/log_prob_grad.hpp:4:
In file included from /Library/Frameworks/R.framework/Versions/4.3-arm64/Resources/library/StanHeaders/include/stan/math/rev.hpp:10:
In file included from /Library/Frameworks/R.framework/Versions/4.3-arm64/Resources/library/StanHeaders/include/stan/math/rev/fun.hpp:7:
In file included from /Library/Frameworks/R.framework/Versions/4.3-arm64/Resources/library/StanHeaders/include/stan/math/prim/fun.hpp:110:
/Library/Frameworks/R.framework/Versions/4.3-arm64/Resources/library/StanHeaders/include/stan/math/prim/fun/generalized_inverse.hpp:34:9: warning: unused type alias 'value_t' [-Wunused-local-typedef]
using value_t = value_type_t<EigMat>;
^
In file included from stanExports_scmet.cc:5:
In file included from ./stanExports_scmet.h:6:
In file included from /Library/Frameworks/R.framework/Versions/4.3-arm64/Resources/library/rstan/include/rstan/rstaninc.hpp:4:
In file included from /Library/Frameworks/R.framework/Versions/4.3-arm64/Resources/library/rstan/include/rstan/stan_fit.hpp:35:
In file included from /Library/Frameworks/R.framework/Versions/4.3-arm64/Resources/library/StanHeaders/include/src/stan/services/diagnose/diagnose.hpp:8:
In file included from /Library/Frameworks/R.framework/Versions/4.3-arm64/Resources/library/StanHeaders/include/src/stan/model/test_gradients.hpp:7:
In file included from /Library/Frameworks/R.framework/Versions/4.3-arm64/Resources/library/StanHeaders/include/src/stan/model/log_prob_grad.hpp:4:
In file included from /Library/Frameworks/R.framework/Versions/4.3-arm64/Resources/library/StanHeaders/include/stan/math/rev.hpp:10:
In file included from /Library/Frameworks/R.framework/Versions/4.3-arm64/Resources/library/StanHeaders/include/stan/math/rev/fun.hpp:7:
In file included from /Library/Frameworks/R.framework/Versions/4.3-arm64/Resources/library/StanHeaders/include/stan/math/prim/fun.hpp:319:
/Library/Frameworks/R.framework/Versions/4.3-arm64/Resources/library/StanHeaders/include/stan/math/prim/fun/tail.hpp:46:9: warning: unused type alias 'idx_t' [-Wunused-local-typedef]
using idx_t = index_type_t<std::vector<T>>;
^
In file included from stanExports_scmet.cc:5:
In file included from ./stanExports_scmet.h:6:
In file included from /Library/Frameworks/R.framework/Versions/4.3-arm64/Resources/library/rstan/include/rstan/rstaninc.hpp:4:
In file included from /Library/Frameworks/R.framework/Versions/4.3-arm64/Resources/library/rstan/include/rstan/stan_fit.hpp:35:
In file included from /Library/Frameworks/R.framework/Versions/4.3-arm64/Resources/library/StanHeaders/include/src/stan/services/diagnose/diagnose.hpp:8:
In file included from /Library/Frameworks/R.framework/Versions/4.3-arm64/Resources/library/StanHeaders/include/src/stan/model/test_gradients.hpp:7:
In file included from /Library/Frameworks/R.framework/Versions/4.3-arm64/Resources/library/StanHeaders/include/src/stan/model/log_prob_grad.hpp:4:
In file included from /Library/Frameworks/R.framework/Versions/4.3-arm64/Resources/library/StanHeaders/include/stan/math/rev.hpp:10:
In file included from /Library/Frameworks/R.framework/Versions/4.3-arm64/Resources/library/StanHeaders/include/stan/math/rev/fun.hpp:32:
/Library/Frameworks/R.framework/Versions/4.3-arm64/Resources/library/StanHeaders/include/stan/math/rev/fun/cholesky_decompose.hpp:83:11: warning: unused type alias 'Block_' [-Wunused-local-typedef]
using Block_ = Eigen::Block<Eigen::MatrixXd>;
^
In file included from stanExports_scmet.cc:5:
In file included from ./stanExports_scmet.h:6:
In file included from /Library/Frameworks/R.framework/Versions/4.3-arm64/Resources/library/rstan/include/rstan/rstaninc.hpp:4:
In file included from /Library/Frameworks/R.framework/Versions/4.3-arm64/Resources/library/rstan/include/rstan/stan_fit.hpp:35:
In file included from /Library/Frameworks/R.framework/Versions/4.3-arm64/Resources/library/StanHeaders/include/src/stan/services/diagnose/diagnose.hpp:8:
In file included from /Library/Frameworks/R.framework/Versions/4.3-arm64/Resources/library/StanHeaders/include/src/stan/model/test_gradients.hpp:7:
In file included from /Library/Frameworks/R.framework/Versions/4.3-arm64/Resources/library/StanHeaders/include/src/stan/model/log_prob_grad.hpp:4:
In file included from /Library/Frameworks/R.framework/Versions/4.3-arm64/Resources/library/StanHeaders/include/stan/math/rev.hpp:10:
In file included from /Library/Frameworks/R.framework/Versions/4.3-arm64/Resources/library/StanHeaders/include/stan/math/rev/fun.hpp:34:
/Library/Frameworks/R.framework/Versions/4.3-arm64/Resources/library/StanHeaders/include/stan/math/rev/fun/cholesky_factor_constrain.hpp:32:9: warning: unused type alias 'T_scalar' [-Wunused-local-typedef]
using T_scalar = value_type_t<T>;
^
In file included from stanExports_scmet.cc:5:
In file included from ./stanExports_scmet.h:6:
In file included from /Library/Frameworks/R.framework/Versions/4.3-arm64/Resources/library/rstan/include/rstan/rstaninc.hpp:4:
In file included from /Library/Frameworks/R.framework/Versions/4.3-arm64/Resources/library/rstan/include/rstan/stan_fit.hpp:35:
In file included from /Library/Frameworks/R.framework/Versions/4.3-arm64/Resources/library/StanHeaders/include/src/stan/services/diagnose/diagnose.hpp:8:
In file included from /Library/Frameworks/R.framework/Versions/4.3-arm64/Resources/library/StanHeaders/include/src/stan/model/test_gradients.hpp:7:
In file included from /Library/Frameworks/R.framework/Versions/4.3-arm64/Resources/library/StanHeaders/include/src/stan/model/log_prob_grad.hpp:4:
In file included from /Library/Frameworks/R.framework/Versions/4.3-arm64/Resources/library/StanHeaders/include/stan/math/rev.hpp:10:
In file included from /Library/Frameworks/R.framework/Versions/4.3-arm64/Resources/library/StanHeaders/include/stan/math/rev/fun.hpp:71:
/Library/Frameworks/R.framework/Versions/4.3-arm64/Resources/library/StanHeaders/include/stan/math/rev/fun/generalized_inverse.hpp:64:9: warning: unused type alias 'value_t' [-Wunused-local-typedef]
using value_t = value_type_t<VarMat>;
^
In file included from stanExports_scmet.cc:5:
In file included from ./stanExports_scmet.h:6:
In file included from /Library/Frameworks/R.framework/Versions/4.3-arm64/Resources/library/rstan/include/rstan/rstaninc.hpp:4:
In file included from /Library/Frameworks/R.framework/Versions/4.3-arm64/Resources/library/rstan/include/rstan/stan_fit.hpp:35:
In file included from /Library/Frameworks/R.framework/Versions/4.3-arm64/Resources/library/StanHeaders/include/src/stan/services/diagnose/diagnose.hpp:8:
In file included from /Library/Frameworks/R.framework/Versions/4.3-arm64/Resources/library/StanHeaders/include/src/stan/model/test_gradients.hpp:7:
In file included from /Library/Frameworks/R.framework/Versions/4.3-arm64/Resources/library/StanHeaders/include/src/stan/model/log_prob_grad.hpp:4:
In file included from /Library/Frameworks/R.framework/Versions/4.3-arm64/Resources/library/StanHeaders/include/stan/math/rev.hpp:13:
In file included from /Library/Frameworks/R.framework/Versions/4.3-arm64/Resources/library/StanHeaders/include/stan/math/prim.hpp:16:
In file included from /Library/Frameworks/R.framework/Versions/4.3-arm64/Resources/library/StanHeaders/include/stan/math/prim/prob.hpp:10:
In file included from /Library/Frameworks/R.framework/Versions/4.3-arm64/Resources/library/StanHeaders/include/stan/math/prim/prob/bernoulli_logit_glm_log.hpp:5:
/Library/Frameworks/R.framework/Versions/4.3-arm64/Resources/library/StanHeaders/include/stan/math/prim/prob/bernoulli_logit_glm_lpmf.hpp:59:9: warning: unused type alias 'T_y_val' [-Wunused-local-typedef]
using T_y_val =
^
In file included from stanExports_scmet.cc:5:
In file included from ./stanExports_scmet.h:6:
In file included from /Library/Frameworks/R.framework/Versions/4.3-arm64/Resources/library/rstan/include/rstan/rstaninc.hpp:4:
In file included from /Library/Frameworks/R.framework/Versions/4.3-arm64/Resources/library/rstan/include/rstan/stan_fit.hpp:35:
In file included from /Library/Frameworks/R.framework/Versions/4.3-arm64/Resources/library/StanHeaders/include/src/stan/services/diagnose/diagnose.hpp:8:
In file included from /Library/Frameworks/R.framework/Versions/4.3-arm64/Resources/library/StanHeaders/include/src/stan/model/test_gradients.hpp:7:
In file included from /Library/Frameworks/R.framework/Versions/4.3-arm64/Resources/library/StanHeaders/include/src/stan/model/log_prob_grad.hpp:4:
In file included from /Library/Frameworks/R.framework/Versions/4.3-arm64/Resources/library/StanHeaders/include/stan/math/rev.hpp:13:
In file included from /Library/Frameworks/R.framework/Versions/4.3-arm64/Resources/library/StanHeaders/include/stan/math/prim.hpp:16:
In file included from /Library/Frameworks/R.framework/Versions/4.3-arm64/Resources/library/StanHeaders/include/stan/math/prim/prob.hpp:31:
In file included from /Library/Frameworks/R.framework/Versions/4.3-arm64/Resources/library/StanHeaders/include/stan/math/prim/prob/beta_log.hpp:5:
/Library/Frameworks/R.framework/Versions/4.3-arm64/Resources/library/StanHeaders/include/stan/math/prim/prob/beta_lpdf.hpp:50:9: warning: unused type alias 'T_partials_matrix' [-Wunused-local-typedef]
using T_partials_matrix = Eigen::Matrix<T_partials_return, Eigen::Dynamic, 1>;
^
In file included from stanExports_scmet.cc:5:
In file included from ./stanExports_scmet.h:6:
In file included from /Library/Frameworks/R.framework/Versions/4.3-arm64/Resources/library/rstan/include/rstan/rstaninc.hpp:4:
In file included from /Library/Frameworks/R.framework/Versions/4.3-arm64/Resources/library/rstan/include/rstan/stan_fit.hpp:35:
In file included from /Library/Frameworks/R.framework/Versions/4.3-arm64/Resources/library/StanHeaders/include/src/stan/services/diagnose/diagnose.hpp:8:
In file included from /Library/Frameworks/R.framework/Versions/4.3-arm64/Resources/library/StanHeaders/include/src/stan/model/test_gradients.hpp:7:
In file included from /Library/Frameworks/R.framework/Versions/4.3-arm64/Resources/library/StanHeaders/include/src/stan/model/log_prob_grad.hpp:4:
In file included from /Library/Frameworks/R.framework/Versions/4.3-arm64/Resources/library/StanHeaders/include/stan/math/rev.hpp:13:
In file included from /Library/Frameworks/R.framework/Versions/4.3-arm64/Resources/library/StanHeaders/include/stan/math/prim.hpp:16:
In file included from /Library/Frameworks/R.framework/Versions/4.3-arm64/Resources/library/StanHeaders/include/stan/math/prim/prob.hpp:37:
In file included from /Library/Frameworks/R.framework/Versions/4.3-arm64/Resources/library/StanHeaders/include/stan/math/prim/prob/beta_proportion_log.hpp:5:
/Library/Frameworks/R.framework/Versions/4.3-arm64/Resources/library/StanHeaders/include/stan/math/prim/prob/beta_proportion_lpdf.hpp:55:9: warning: unused type alias 'T_partials_array' [-Wunused-local-typedef]
using T_partials_array = Eigen::Array<T_partials_return, Eigen::Dynamic, 1>;
^
In file included from stanExports_scmet.cc:5:
In file included from ./stanExports_scmet.h:6:
In file included from /Library/Frameworks/R.framework/Versions/4.3-arm64/Resources/library/rstan/include/rstan/rstaninc.hpp:4:
In file included from /Library/Frameworks/R.framework/Versions/4.3-arm64/Resources/library/rstan/include/rstan/stan_fit.hpp:35:
In file included from /Library/Frameworks/R.framework/Versions/4.3-arm64/Resources/library/StanHeaders/include/src/stan/services/diagnose/diagnose.hpp:8:
In file included from /Library/Frameworks/R.framework/Versions/4.3-arm64/Resources/library/StanHeaders/include/src/stan/model/test_gradients.hpp:7:
In file included from /Library/Frameworks/R.framework/Versions/4.3-arm64/Resources/library/StanHeaders/include/src/stan/model/log_prob_grad.hpp:4:
In file included from /Library/Frameworks/R.framework/Versions/4.3-arm64/Resources/library/StanHeaders/include/stan/math/rev.hpp:13:
In file included from /Library/Frameworks/R.framework/Versions/4.3-arm64/Resources/library/StanHeaders/include/stan/math/prim.hpp:16:
In file included from /Library/Frameworks/R.framework/Versions/4.3-arm64/Resources/library/StanHeaders/include/stan/math/prim/prob.hpp:63:
In file included from /Library/Frameworks/R.framework/Versions/4.3-arm64/Resources/library/StanHeaders/include/stan/math/prim/prob/cauchy_log.hpp:5:
/Library/Frameworks/R.framework/Versions/4.3-arm64/Resources/library/StanHeaders/include/stan/math/prim/prob/cauchy_lpdf.hpp:45:9: warning: unused type alias 'T_partials_array' [-Wunused-local-typedef]
using T_partials_array = Eigen::Array<T_partials_return, Eigen::Dynamic, 1>;
^
In file included from stanExports_scmet.cc:5:
In file included from ./stanExports_scmet.h:6:
In file included from /Library/Frameworks/R.framework/Versions/4.3-arm64/Resources/library/rstan/include/rstan/rstaninc.hpp:4:
In file included from /Library/Frameworks/R.framework/Versions/4.3-arm64/Resources/library/rstan/include/rstan/stan_fit.hpp:35:
In file included from /Library/Frameworks/R.framework/Versions/4.3-arm64/Resources/library/StanHeaders/include/src/stan/services/diagnose/diagnose.hpp:8:
In file included from /Library/Frameworks/R.framework/Versions/4.3-arm64/Resources/library/StanHeaders/include/src/stan/model/test_gradients.hpp:7:
In file included from /Library/Frameworks/R.framework/Versions/4.3-arm64/Resources/library/StanHeaders/include/src/stan/model/log_prob_grad.hpp:4:
In file included from /Library/Frameworks/R.framework/Versions/4.3-arm64/Resources/library/StanHeaders/include/stan/math/rev.hpp:13:
In file included from /Library/Frameworks/R.framework/Versions/4.3-arm64/Resources/library/StanHeaders/include/stan/math/prim.hpp:16:
In file included from /Library/Frameworks/R.framework/Versions/4.3-arm64/Resources/library/StanHeaders/include/stan/math/prim/prob.hpp:74:
In file included from /Library/Frameworks/R.framework/Versions/4.3-arm64/Resources/library/StanHeaders/include/stan/math/prim/prob/dirichlet_log.hpp:5:
/Library/Frameworks/R.framework/Versions/4.3-arm64/Resources/library/StanHeaders/include/stan/math/prim/prob/dirichlet_lpdf.hpp:60:9: warning: unused type alias 'T_partials_vec' [-Wunused-local-typedef]
using T_partials_vec = typename Eigen::Matrix<T_partials_return, -1, 1>;
^
In file included from stanExports_scmet.cc:5:
In file included from ./stanExports_scmet.h:6:
In file included from /Library/Frameworks/R.framework/Versions/4.3-arm64/Resources/library/rstan/include/rstan/rstaninc.hpp:4:
In file included from /Library/Frameworks/R.framework/Versions/4.3-arm64/Resources/library/rstan/include/rstan/stan_fit.hpp:35:
In file included from /Library/Frameworks/R.framework/Versions/4.3-arm64/Resources/library/StanHeaders/include/src/stan/services/diagnose/diagnose.hpp:8:
In file included from /Library/Frameworks/R.framework/Versions/4.3-arm64/Resources/library/StanHeaders/include/src/stan/model/test_gradients.hpp:7:
In file included from /Library/Frameworks/R.framework/Versions/4.3-arm64/Resources/library/StanHeaders/include/src/stan/model/log_prob_grad.hpp:4:
In file included from /Library/Frameworks/R.framework/Versions/4.3-arm64/Resources/library/StanHeaders/include/stan/math/rev.hpp:13:
In file included from /Library/Frameworks/R.framework/Versions/4.3-arm64/Resources/library/StanHeaders/include/stan/math/prim.hpp:16:
In file included from /Library/Frameworks/R.framework/Versions/4.3-arm64/Resources/library/StanHeaders/include/stan/math/prim/prob.hpp:91:
In file included from /Library/Frameworks/R.framework/Versions/4.3-arm64/Resources/library/StanHeaders/include/stan/math/prim/prob/double_exponential_log.hpp:5:
/Library/Frameworks/R.framework/Versions/4.3-arm64/Resources/library/StanHeaders/include/stan/math/prim/prob/double_exponential_lpdf.hpp:44:9: warning: unused type alias 'T_partials_array' [-Wunused-local-typedef]
using T_partials_array = Eigen::Array<T_partials_return, Eigen::Dynamic, 1>;
^
In file included from stanExports_scmet.cc:5:
In file included from ./stanExports_scmet.h:6:
In file included from /Library/Frameworks/R.framework/Versions/4.3-arm64/Resources/library/rstan/include/rstan/rstaninc.hpp:4:
In file included from /Library/Frameworks/R.framework/Versions/4.3-arm64/Resources/library/rstan/include/rstan/stan_fit.hpp:35:
In file included from /Library/Frameworks/R.framework/Versions/4.3-arm64/Resources/library/StanHeaders/include/src/stan/services/diagnose/diagnose.hpp:8:
In file included from /Library/Frameworks/R.framework/Versions/4.3-arm64/Resources/library/StanHeaders/include/src/stan/model/test_gradients.hpp:7:
In file included from /Library/Frameworks/R.framework/Versions/4.3-arm64/Resources/library/StanHeaders/include/src/stan/model/log_prob_grad.hpp:4:
In file included from /Library/Frameworks/R.framework/Versions/4.3-arm64/Resources/library/StanHeaders/include/stan/math/rev.hpp:13:
In file included from /Library/Frameworks/R.framework/Versions/4.3-arm64/Resources/library/StanHeaders/include/stan/math/prim.hpp:16:
In file included from /Library/Frameworks/R.framework/Versions/4.3-arm64/Resources/library/StanHeaders/include/stan/math/prim/prob.hpp:111:
/Library/Frameworks/R.framework/Versions/4.3-arm64/Resources/library/StanHeaders/include/stan/math/prim/prob/frechet_cdf.hpp:30:9: warning: unused type alias 'T_partials_array' [-Wunused-local-typedef]
using T_partials_array = Eigen::Array<T_partials_return, Eigen::Dynamic, 1>;
^
In file included from stanExports_scmet.cc:5:
In file included from ./stanExports_scmet.h:6:
In file included from /Library/Frameworks/R.framework/Versions/4.3-arm64/Resources/library/rstan/include/rstan/rstaninc.hpp:4:
In file included from /Library/Frameworks/R.framework/Versions/4.3-arm64/Resources/library/rstan/include/rstan/stan_fit.hpp:35:
In file included from /Library/Frameworks/R.framework/Versions/4.3-arm64/Resources/library/StanHeaders/include/src/stan/services/diagnose/diagnose.hpp:8:
In file included from /Library/Frameworks/R.framework/Versions/4.3-arm64/Resources/library/StanHeaders/include/src/stan/model/test_gradients.hpp:7:
In file included from /Library/Frameworks/R.framework/Versions/4.3-arm64/Resources/library/StanHeaders/include/src/stan/model/log_prob_grad.hpp:4:
In file included from /Library/Frameworks/R.framework/Versions/4.3-arm64/Resources/library/StanHeaders/include/stan/math/rev.hpp:13:
In file included from /Library/Frameworks/R.framework/Versions/4.3-arm64/Resources/library/StanHeaders/include/stan/math/prim.hpp:16:
In file included from /Library/Frameworks/R.framework/Versions/4.3-arm64/Resources/library/StanHeaders/include/stan/math/prim/prob.hpp:245:
In file included from /Library/Frameworks/R.framework/Versions/4.3-arm64/Resources/library/StanHeaders/include/stan/math/prim/prob/ordered_logistic_log.hpp:5:
/Library/Frameworks/R.framework/Versions/4.3-arm64/Resources/library/StanHeaders/include/stan/math/prim/prob/ordered_logistic_lpmf.hpp:76:9: warning: unused type alias 'T_partials_array' [-Wunused-local-typedef]
using T_partials_array = Eigen::Array<T_partials_return, -1, 1>;
^
In file included from stanExports_scmet.cc:5:
In file included from ./stanExports_scmet.h:6:
In file included from /Library/Frameworks/R.framework/Versions/4.3-arm64/Resources/library/rstan/include/rstan/rstaninc.hpp:4:
In file included from /Library/Frameworks/R.framework/Versions/4.3-arm64/Resources/library/rstan/include/rstan/stan_fit.hpp:35:
In file included from /Library/Frameworks/R.framework/Versions/4.3-arm64/Resources/library/StanHeaders/include/src/stan/services/diagnose/diagnose.hpp:8:
In file included from /Library/Frameworks/R.framework/Versions/4.3-arm64/Resources/library/StanHeaders/include/src/stan/model/test_gradients.hpp:7:
In file included from /Library/Frameworks/R.framework/Versions/4.3-arm64/Resources/library/StanHeaders/include/src/stan/model/log_prob_grad.hpp:4:
In file included from /Library/Frameworks/R.framework/Versions/4.3-arm64/Resources/library/StanHeaders/include/stan/math/rev.hpp:13:
In file included from /Library/Frameworks/R.framework/Versions/4.3-arm64/Resources/library/StanHeaders/include/stan/math/prim.hpp:16:
In file included from /Library/Frameworks/R.framework/Versions/4.3-arm64/Resources/library/StanHeaders/include/stan/math/prim/prob.hpp:277:
In file included from /Library/Frameworks/R.framework/Versions/4.3-arm64/Resources/library/StanHeaders/include/stan/math/prim/prob/poisson_log_glm_log.hpp:5:
/Library/Frameworks/R.framework/Versions/4.3-arm64/Resources/library/StanHeaders/include/stan/math/prim/prob/poisson_log_glm_lpmf.hpp:62:9: warning: unused type alias 'T_alpha_val' [-Wunused-local-typedef]
using T_alpha_val = typename std::conditional_t<
^
In file included from stanExports_scmet.cc:5:
In file included from ./stanExports_scmet.h:8:
In file included from /Library/Frameworks/R.framework/Versions/4.3-arm64/Resources/library/StanHeaders/include/src/stan/model/model_header.hpp:15:
In file included from /Library/Frameworks/R.framework/Versions/4.3-arm64/Resources/library/StanHeaders/include/src/stan/model/indexing.hpp:8:
/Library/Frameworks/R.framework/Versions/4.3-arm64/Resources/library/StanHeaders/include/src/stan/model/indexing/lvalue_varmat.hpp:349:9: warning: unused type alias 'pair_type' [-Wunused-local-typedef]
using pair_type = std::pair<int, arena_vec>;
^
In file included from stanExports_scmet.cc:5:
./stanExports_scmet.h:403:24: warning: unused typedef 'local_scalar_t__' [-Wunused-local-typedef]
typedef double local_scalar_t__;
^
55 warnings generated.
clang++ -arch arm64 -std=gnu++17 -dynamiclib -Wl,-headerpad_max_install_names -undefined dynamic_lookup -single_module -multiply_defined suppress -L/Library/Frameworks/R.framework/Resources/lib -L/opt/R/arm64/lib -o scMET.so RcppExports.o stanExports_scmet.o -L/Library/Frameworks/R.framework/Versions/4.3-arm64/Resources/library/RcppParallel/lib/ -Wl,-rpath,/Library/Frameworks/R.framework/Versions/4.3-arm64/Resources/library/RcppParallel/lib/ -ltbb -ltbbmalloc -F/Library/Frameworks/R.framework/.. -framework R -Wl,-framework -Wl,CoreFoundation
installing to /Library/Frameworks/R.framework/Versions/4.3-arm64/Resources/library/00LOCK-scMET/00new/scMET/libs
** R
** data
*** moving datasets to lazyload DB
** inst
** byte-compile and prepare package for lazy loading
** help
*** installing help indices
** building package indices
** installing vignettes
** testing if installed package can be loaded from temporary location
** checking absolute paths in shared objects and dynamic libraries
** testing if installed package can be loaded from final location
** testing if installed package keeps a record of temporary installation path
* DONE (scMET)
scMET.Rcheck/tests/testthat.Rout
R version 4.3.1 (2023-06-16) -- "Beagle Scouts"
Copyright (C) 2023 The R Foundation for Statistical Computing
Platform: aarch64-apple-darwin20 (64-bit)
R is free software and comes with ABSOLUTELY NO WARRANTY.
You are welcome to redistribute it under certain conditions.
Type 'license()' or 'licence()' for distribution details.
R is a collaborative project with many contributors.
Type 'contributors()' for more information and
'citation()' on how to cite R or R packages in publications.
Type 'demo()' for some demos, 'help()' for on-line help, or
'help.start()' for an HTML browser interface to help.
Type 'q()' to quit R.
> library(testthat)
> library(scMET)
>
> test_check("scMET")
[ FAIL 0 | WARN 0 | SKIP 0 | PASS 24 ]
>
> proc.time()
user system elapsed
3.781 0.263 7.233
scMET.Rcheck/scMET-Ex.timings
| name | user | system | elapsed | |
| bb_mle | 0.100 | 0.005 | 0.183 | |
| create_design_matrix | 0.002 | 0.000 | 0.003 | |
| sce_to_scmet | 6.877 | 0.232 | 12.686 | |
| scmet | 15.966 | 0.418 | 29.269 | |
| scmet_differential | 0.000 | 0.001 | 0.000 | |
| scmet_hvf_lvf | 15.174 | 0.362 | 27.674 | |
| scmet_plot_efdr_efnr_grid | 15.429 | 0.324 | 28.124 | |
| scmet_plot_estimated_vs_true | 23.276 | 0.421 | 40.715 | |
| scmet_plot_ma | 0 | 0 | 0 | |
| scmet_plot_mean_var | 15.382 | 0.330 | 27.939 | |
| scmet_plot_vf_tail_prob | 15.515 | 0.320 | 28.183 | |
| scmet_plot_volcano | 0 | 0 | 0 | |
| scmet_simulate | 0.021 | 0.000 | 0.042 | |
| scmet_simulate_diff | 0.044 | 0.000 | 0.079 | |
| scmet_to_sce | 0.192 | 0.002 | 0.346 | |