| Back to Mac ARM64 build report for BioC 3.17 |
|
This page was generated on 2023-10-20 09:38:10 -0400 (Fri, 20 Oct 2023).
| Hostname | OS | Arch (*) | R version | Installed pkgs |
|---|---|---|---|---|
| kjohnson2 | macOS 12.6.1 Monterey | arm64 | 4.3.1 (2023-06-16) -- "Beagle Scouts" | 4347 |
| Click on any hostname to see more info about the system (e.g. compilers) (*) as reported by 'uname -p', except on Windows and Mac OS X | ||||
| Package 1746/2230 | Hostname | OS / Arch | INSTALL | BUILD | CHECK | BUILD BIN | ||||||||
| rnaseqcomp 1.30.0 (landing page) Mingxiang Teng
| kjohnson2 | macOS 12.6.1 Monterey / arm64 | OK | OK | OK | OK | ||||||||
|
To the developers/maintainers of the rnaseqcomp package: - Use the following Renviron settings to reproduce errors and warnings. - If 'R CMD check' started to fail recently on the Linux builder(s) over a missing dependency, add the missing dependency to 'Suggests:' in your DESCRIPTION file. See Renviron.bioc for more information. |
| Package: rnaseqcomp |
| Version: 1.30.0 |
| Command: /Library/Frameworks/R.framework/Resources/bin/R CMD check --install=check:rnaseqcomp.install-out.txt --library=/Library/Frameworks/R.framework/Resources/library --no-vignettes --timings rnaseqcomp_1.30.0.tar.gz |
| StartedAt: 2023-10-18 20:02:49 -0400 (Wed, 18 Oct 2023) |
| EndedAt: 2023-10-18 20:03:54 -0400 (Wed, 18 Oct 2023) |
| EllapsedTime: 65.5 seconds |
| RetCode: 0 |
| Status: OK |
| CheckDir: rnaseqcomp.Rcheck |
| Warnings: 0 |
##############################################################################
##############################################################################
###
### Running command:
###
### /Library/Frameworks/R.framework/Resources/bin/R CMD check --install=check:rnaseqcomp.install-out.txt --library=/Library/Frameworks/R.framework/Resources/library --no-vignettes --timings rnaseqcomp_1.30.0.tar.gz
###
##############################################################################
##############################################################################
* using log directory ‘/Users/biocbuild/bbs-3.17-bioc-mac-arm64/meat/rnaseqcomp.Rcheck’
* using R version 4.3.1 (2023-06-16)
* using platform: aarch64-apple-darwin20 (64-bit)
* R was compiled by
Apple clang version 14.0.0 (clang-1400.0.29.202)
GNU Fortran (GCC) 12.2.0
* running under: macOS Monterey 12.6.7
* using session charset: UTF-8
* using option ‘--no-vignettes’
* checking for file ‘rnaseqcomp/DESCRIPTION’ ... OK
* this is package ‘rnaseqcomp’ version ‘1.30.0’
* checking package namespace information ... OK
* checking package dependencies ... OK
* checking if this is a source package ... OK
* checking if there is a namespace ... OK
* checking for hidden files and directories ... OK
* checking for portable file names ... OK
* checking for sufficient/correct file permissions ... OK
* checking whether package ‘rnaseqcomp’ can be installed ... OK
* checking installed package size ... OK
* checking package directory ... OK
* checking ‘build’ directory ... OK
* checking DESCRIPTION meta-information ... OK
* checking top-level files ... OK
* checking for left-over files ... OK
* checking index information ... OK
* checking package subdirectories ... OK
* checking R files for non-ASCII characters ... OK
* checking R files for syntax errors ... OK
* checking whether the package can be loaded ... OK
* checking whether the package can be loaded with stated dependencies ... OK
* checking whether the package can be unloaded cleanly ... OK
* checking whether the namespace can be loaded with stated dependencies ... OK
* checking whether the namespace can be unloaded cleanly ... OK
* checking dependencies in R code ... OK
* checking S3 generic/method consistency ... OK
* checking replacement functions ... OK
* checking foreign function calls ... OK
* checking R code for possible problems ... NOTE
plot2TX: no visible global function definition for ‘lines’
plot2TX: no visible global function definition for ‘box’
plot2TX: no visible global function definition for ‘legend’
plot2TX : <anonymous>: no visible binding for global variable ‘sd’
plot2TX : <anonymous>: no visible global function definition for ‘sd’
plotFC: no visible global function definition for ‘loess.smooth’
plotFC: no visible global function definition for ‘lines’
plotFC: no visible global function definition for ‘legend’
plotFC : <anonymous>: no visible global function definition for
‘median’
plotFC : <anonymous>: no visible global function definition for ‘sd’
plotNE: no visible global function definition for ‘lines’
plotNE: no visible global function definition for ‘points’
plotNE: no visible global function definition for ‘box’
plotNE: no visible global function definition for ‘legend’
plotROC: no visible global function definition for ‘median’
plotROC: no visible global function definition for ‘sd’
plotROC: no visible global function definition for ‘lines’
plotROC: no visible global function definition for ‘arrows’
plotROC: no visible global function definition for ‘abline’
plotROC: no visible global function definition for ‘legend’
plotSD : <anonymous>: no visible binding for global variable ‘sd’
plotSD: no visible global function definition for ‘loess.smooth’
plotSD: no visible global function definition for ‘lines’
plotSD: no visible global function definition for ‘box’
plotSD: no visible global function definition for ‘legend’
plotSD : <anonymous> : <anonymous>: no visible global function
definition for ‘median’
plotSD : <anonymous> : <anonymous>: no visible global function
definition for ‘mad’
signalCalibrate : <anonymous>: no visible binding for global variable
‘median’
signalCalibrate: no visible global function definition for ‘median’
Undefined global functions or variables:
abline arrows box legend lines loess.smooth mad median points sd
Consider adding
importFrom("graphics", "abline", "arrows", "box", "legend", "lines",
"points")
importFrom("stats", "loess.smooth", "mad", "median", "sd")
to your NAMESPACE file.
* checking Rd files ... OK
* checking Rd metadata ... OK
* checking Rd cross-references ... OK
* checking for missing documentation entries ... OK
* checking for code/documentation mismatches ... OK
* checking Rd \usage sections ... OK
* checking Rd contents ... OK
* checking for unstated dependencies in examples ... OK
* checking contents of ‘data’ directory ... OK
* checking data for non-ASCII characters ... OK
* checking data for ASCII and uncompressed saves ... OK
* checking files in ‘vignettes’ ... OK
* checking examples ... OK
Examples with CPU (user + system) or elapsed time > 5s
user system elapsed
plotROC 6.811 0.637 10.986
plotNE 3.066 0.296 5.172
* checking for unstated dependencies in vignettes ... OK
* checking package vignettes in ‘inst/doc’ ... OK
* checking running R code from vignettes ... SKIPPED
* checking re-building of vignette outputs ... SKIPPED
* checking PDF version of manual ... OK
* DONE
Status: 1 NOTE
See
‘/Users/biocbuild/bbs-3.17-bioc-mac-arm64/meat/rnaseqcomp.Rcheck/00check.log’
for details.
rnaseqcomp.Rcheck/00install.out
############################################################################## ############################################################################## ### ### Running command: ### ### /Library/Frameworks/R.framework/Resources/bin/R CMD INSTALL rnaseqcomp ### ############################################################################## ############################################################################## * installing to library ‘/Library/Frameworks/R.framework/Versions/4.3-arm64/Resources/library’ * installing *source* package ‘rnaseqcomp’ ... ** using staged installation ** R ** data ** inst ** byte-compile and prepare package for lazy loading ** help *** installing help indices ** building package indices ** installing vignettes ** testing if installed package can be loaded from temporary location ** testing if installed package can be loaded from final location ** testing if installed package keeps a record of temporary installation path * DONE (rnaseqcomp)
rnaseqcomp.Rcheck/rnaseqcomp-Ex.timings
| name | user | system | elapsed | |
| plot2TX | 0.495 | 0.042 | 0.828 | |
| plotFC | 0.236 | 0.017 | 0.394 | |
| plotNE | 3.066 | 0.296 | 5.172 | |
| plotROC | 6.811 | 0.637 | 10.986 | |
| plotSD | 1.276 | 0.028 | 2.004 | |
| signalCalibrate | 0.186 | 0.009 | 0.306 | |