| Back to Mac ARM64 build report for BioC 3.17 |
|
This page was generated on 2023-10-20 09:38:09 -0400 (Fri, 20 Oct 2023).
| Hostname | OS | Arch (*) | R version | Installed pkgs |
|---|---|---|---|---|
| kjohnson2 | macOS 12.6.1 Monterey | arm64 | 4.3.1 (2023-06-16) -- "Beagle Scouts" | 4347 |
| Click on any hostname to see more info about the system (e.g. compilers) (*) as reported by 'uname -p', except on Windows and Mac OS X | ||||
| Package 1638/2230 | Hostname | OS / Arch | INSTALL | BUILD | CHECK | BUILD BIN | ||||||||
| rBiopaxParser 2.40.0 (landing page) Frank Kramer
| kjohnson2 | macOS 12.6.1 Monterey / arm64 | OK | OK | OK | OK | ||||||||
|
To the developers/maintainers of the rBiopaxParser package: - Use the following Renviron settings to reproduce errors and warnings. - If 'R CMD check' started to fail recently on the Linux builder(s) over a missing dependency, add the missing dependency to 'Suggests:' in your DESCRIPTION file. See Renviron.bioc for more information. |
| Package: rBiopaxParser |
| Version: 2.40.0 |
| Command: /Library/Frameworks/R.framework/Resources/bin/R CMD check --install=check:rBiopaxParser.install-out.txt --library=/Library/Frameworks/R.framework/Resources/library --no-vignettes --timings rBiopaxParser_2.40.0.tar.gz |
| StartedAt: 2023-10-18 17:26:28 -0400 (Wed, 18 Oct 2023) |
| EndedAt: 2023-10-18 17:27:57 -0400 (Wed, 18 Oct 2023) |
| EllapsedTime: 89.3 seconds |
| RetCode: 0 |
| Status: OK |
| CheckDir: rBiopaxParser.Rcheck |
| Warnings: 0 |
##############################################################################
##############################################################################
###
### Running command:
###
### /Library/Frameworks/R.framework/Resources/bin/R CMD check --install=check:rBiopaxParser.install-out.txt --library=/Library/Frameworks/R.framework/Resources/library --no-vignettes --timings rBiopaxParser_2.40.0.tar.gz
###
##############################################################################
##############################################################################
* using log directory ‘/Users/biocbuild/bbs-3.17-bioc-mac-arm64/meat/rBiopaxParser.Rcheck’
* using R version 4.3.1 (2023-06-16)
* using platform: aarch64-apple-darwin20 (64-bit)
* R was compiled by
Apple clang version 14.0.0 (clang-1400.0.29.202)
GNU Fortran (GCC) 12.2.0
* running under: macOS Monterey 12.6.7
* using session charset: UTF-8
* using option ‘--no-vignettes’
* checking for file ‘rBiopaxParser/DESCRIPTION’ ... OK
* checking extension type ... Package
* this is package ‘rBiopaxParser’ version ‘2.40.0’
* checking package namespace information ... OK
* checking package dependencies ... OK
* checking if this is a source package ... OK
* checking if there is a namespace ... OK
* checking for hidden files and directories ... OK
* checking for portable file names ... OK
* checking for sufficient/correct file permissions ... OK
* checking whether package ‘rBiopaxParser’ can be installed ... OK
* checking installed package size ... OK
* checking package directory ... OK
* checking ‘build’ directory ... OK
* checking DESCRIPTION meta-information ... OK
* checking top-level files ... OK
* checking for left-over files ... OK
* checking index information ... OK
* checking package subdirectories ... OK
* checking R files for non-ASCII characters ... OK
* checking R files for syntax errors ... OK
* checking whether the package can be loaded ... OK
* checking whether the package can be loaded with stated dependencies ... OK
* checking whether the package can be unloaded cleanly ... OK
* checking whether the namespace can be loaded with stated dependencies ... OK
* checking whether the namespace can be unloaded cleanly ... OK
* checking dependencies in R code ... NOTE
'library' or 'require' calls in package code:
‘RBGL’ ‘RCurl’ ‘Rgraphviz’ ‘graph’ ‘igraph’
Please use :: or requireNamespace() instead.
See section 'Suggested packages' in the 'Writing R Extensions' manual.
* checking S3 generic/method consistency ... OK
* checking replacement functions ... OK
* checking foreign function calls ... OK
* checking R code for possible problems ... NOTE
addBiopaxInstance: no visible binding for global variable ‘property’
addBiopaxInstances: no visible binding for global variable ‘id’
addBiopaxInstances: no visible binding for global variable ‘property’
addPropertiesToBiopaxInstance: no visible binding for global variable
‘property’
colorGraphNodes: no visible global function definition for ‘hcl’
createBiopax: no visible binding for global variable ‘id’
createBiopax: no visible binding for global variable ‘property’
getReferencedIDs: no visible binding for global variable
‘property_attr’
getReferencedIDs: no visible binding for global variable ‘property’
getReferencingIDs: no visible binding for global variable
‘property_attr’
getReferencingIDs: no visible binding for global variable ‘property’
internal_XMLInstance2DF: no visible binding for global variable ‘i’
internal_XMLInstance2DF: no visible binding for global variable ‘p’
internal_generateXMLfromBiopax: no visible binding for global variable
‘id’
internal_getBiopaxModelAsDataFrame: no visible binding for global
variable ‘property’
internal_propertyListToDF: no visible binding for global variable
‘property’
layoutRegulatoryGraph: no visible global function definition for
‘nodes’
listInstances: no visible binding for global variable ‘property_value’
listInstances: no visible binding for global variable ‘property’
pathway2AdjacancyMatrix: no visible global function definition for ‘as’
pathway2Graph: no visible global function definition for ‘new’
pathway2Graph: no visible global function definition for ‘getClassDef’
pathway2Graph: no visible binding for global variable ‘id’
pathway2Graph: no visible binding for global variable ‘property’
pathway2RegulatoryGraph: no visible global function definition for
‘new’
pathway2RegulatoryGraph: no visible global function definition for
‘getClassDef’
pathway2RegulatoryGraph: no visible binding for global variable ‘id’
pathway2RegulatoryGraph: no visible binding for global variable
‘property’
plotRegulatoryGraph: no visible global function definition for ‘nodes’
removeDisconnectedParts: no visible global function definition for
‘removeNode’
removeNodes: no visible global function definition for ‘edgeWeights’
removeNodes: no visible global function definition for ‘na.omit’
removeNodes: no visible global function definition for ‘removeNode’
removeNodes: no visible global function definition for ‘addEdge’
removeProperties: no visible binding for global variable ‘property’
selectInstances: no visible binding for global variable
‘property_value’
Undefined global functions or variables:
addEdge as edgeWeights getClassDef hcl i id na.omit new nodes p
property property_attr property_value removeNode
Consider adding
importFrom("grDevices", "hcl")
importFrom("methods", "as", "getClassDef", "new")
importFrom("stats", "na.omit")
to your NAMESPACE file (and ensure that your DESCRIPTION Imports field
contains 'methods').
* checking Rd files ... OK
* checking Rd metadata ... OK
* checking Rd cross-references ... OK
* checking for missing documentation entries ... OK
* checking for code/documentation mismatches ... OK
* checking Rd \usage sections ... OK
* checking Rd contents ... OK
* checking for unstated dependencies in examples ... OK
* checking contents of ‘data’ directory ... OK
* checking data for non-ASCII characters ... NOTE
Note: found 1 marked UTF-8 string
* checking data for ASCII and uncompressed saves ... OK
* checking sizes of PDF files under ‘inst/doc’ ... OK
* checking files in ‘vignettes’ ... OK
* checking examples ... OK
* checking for unstated dependencies in ‘tests’ ... OK
* checking tests ...
Running ‘runTests.R’
OK
* checking for unstated dependencies in vignettes ... OK
* checking package vignettes in ‘inst/doc’ ... OK
* checking running R code from vignettes ... SKIPPED
* checking re-building of vignette outputs ... SKIPPED
* checking PDF version of manual ... OK
* DONE
Status: 3 NOTEs
See
‘/Users/biocbuild/bbs-3.17-bioc-mac-arm64/meat/rBiopaxParser.Rcheck/00check.log’
for details.
rBiopaxParser.Rcheck/00install.out
############################################################################## ############################################################################## ### ### Running command: ### ### /Library/Frameworks/R.framework/Resources/bin/R CMD INSTALL rBiopaxParser ### ############################################################################## ############################################################################## * installing to library ‘/Library/Frameworks/R.framework/Versions/4.3-arm64/Resources/library’ * installing *source* package ‘rBiopaxParser’ ... ** using staged installation ** R ** data ** inst ** byte-compile and prepare package for lazy loading ** help *** installing help indices ** building package indices ** installing vignettes ** testing if installed package can be loaded from temporary location ** testing if installed package can be loaded from final location ** testing if installed package keeps a record of temporary installation path * DONE (rBiopaxParser)
rBiopaxParser.Rcheck/tests/runTests.Rout
R version 4.3.1 (2023-06-16) -- "Beagle Scouts"
Copyright (C) 2023 The R Foundation for Statistical Computing
Platform: aarch64-apple-darwin20 (64-bit)
R is free software and comes with ABSOLUTELY NO WARRANTY.
You are welcome to redistribute it under certain conditions.
Type 'license()' or 'licence()' for distribution details.
R is a collaborative project with many contributors.
Type 'contributors()' for more information and
'citation()' on how to cite R or R packages in publications.
Type 'demo()' for some demos, 'help()' for on-line help, or
'help.start()' for an HTML browser interface to help.
Type 'q()' to quit R.
> BiocGenerics:::testPackage("rBiopaxParser")
RUNIT TEST PROTOCOL -- Wed Oct 18 17:27:41 2023
***********************************************
Number of test functions: 12
Number of errors: 0
Number of failures: 0
1 Test Suite :
rBiopaxParser RUnit Tests - 12 test functions, 0 errors, 0 failures
Number of test functions: 12
Number of errors: 0
Number of failures: 0
>
> proc.time()
user system elapsed
0.526 0.080 0.841
rBiopaxParser.Rcheck/rBiopaxParser-Ex.timings
| name | user | system | elapsed | |
| addBiochemicalReaction | 0.030 | 0.003 | 0.046 | |
| addBiopaxInstance | 0.005 | 0.000 | 0.006 | |
| addBiopaxInstances | 0.024 | 0.004 | 0.038 | |
| addControl | 0.020 | 0.001 | 0.028 | |
| addPathway | 0.028 | 0.002 | 0.043 | |
| addPathwayComponents | 0.030 | 0.002 | 0.051 | |
| addPhysicalEntity | 0.013 | 0.001 | 0.024 | |
| addPhysicalEntityParticipant | 0.014 | 0.001 | 0.024 | |
| addPropertiesToBiopaxInstance | 0.009 | 0.001 | 0.016 | |
| biopax | 0.018 | 0.005 | 0.039 | |
| calcGraphOverlap | 2.476 | 0.070 | 3.869 | |
| colorGraphNodes | 1.424 | 0.035 | 2.196 | |
| combineNodes | 0.004 | 0.001 | 0.008 | |
| createBiopax | 0.002 | 0.000 | 0.004 | |
| diffGraphs | 2.234 | 0.047 | 3.632 | |
| downloadBiopaxData | 0 | 0 | 0 | |
| getClassProperties | 0.002 | 0.000 | 0.003 | |
| getInstanceClass | 0.006 | 0.001 | 0.011 | |
| getInstanceProperty | 0.007 | 0.001 | 0.015 | |
| getReferencedIDs | 0.030 | 0.002 | 0.050 | |
| getReferencingIDs | 0.021 | 0.002 | 0.039 | |
| getSubClasses | 0 | 0 | 0 | |
| getSuperClasses | 0.000 | 0.000 | 0.001 | |
| getXrefAnnotations | 0.170 | 0.004 | 0.287 | |
| hasProperty | 0.003 | 0.001 | 0.006 | |
| intersectGraphs | 2.141 | 0.055 | 3.800 | |
| isOfClass | 0.004 | 0.001 | 0.006 | |
| layoutRegulatoryGraph | 1.370 | 0.028 | 2.055 | |
| listComplexComponents | 0.014 | 0.001 | 0.022 | |
| listInstances | 0.022 | 0.004 | 0.040 | |
| listInteractionComponents | 0.021 | 0.001 | 0.032 | |
| listPathwayComponents | 0.028 | 0.003 | 0.041 | |
| listPathways | 0.011 | 0.001 | 0.015 | |
| pathway2AdjacancyMatrix | 1.250 | 0.025 | 1.761 | |
| pathway2Geneset | 0.554 | 0.010 | 0.844 | |
| pathway2Graph | 1.032 | 0.031 | 1.631 | |
| pathway2RegulatoryGraph | 1.368 | 0.035 | 2.106 | |
| plotRegulatoryGraph | 1.227 | 0.025 | 1.891 | |
| print.biopax | 0.007 | 0.002 | 0.014 | |
| rBiopaxParser-package | 0 | 0 | 0 | |
| readBiopax | 0.004 | 0.002 | 0.006 | |
| removeInstance | 0.004 | 0.001 | 0.009 | |
| removeNodes | 1.288 | 0.035 | 1.998 | |
| removeProperties | 0.005 | 0.001 | 0.010 | |
| selectInstances | 0.016 | 0.003 | 0.028 | |
| splitComplex | 0.036 | 0.002 | 0.057 | |
| transitiveClosure | 1.132 | 0.034 | 1.711 | |
| transitiveReduction | 1.083 | 0.029 | 1.621 | |
| uniteGraphs | 2.180 | 0.062 | 3.143 | |
| writeBiopax | 0.001 | 0.001 | 0.005 | |