| Back to Mac ARM64 build report for BioC 3.17 |
|
This page was generated on 2023-10-20 09:38:09 -0400 (Fri, 20 Oct 2023).
| Hostname | OS | Arch (*) | R version | Installed pkgs |
|---|---|---|---|---|
| kjohnson2 | macOS 12.6.1 Monterey | arm64 | 4.3.1 (2023-06-16) -- "Beagle Scouts" | 4347 |
| Click on any hostname to see more info about the system (e.g. compilers) (*) as reported by 'uname -p', except on Windows and Mac OS X | ||||
| Package 1585/2230 | Hostname | OS / Arch | INSTALL | BUILD | CHECK | BUILD BIN | ||||||||
| puma 3.42.0 (landing page) Xuejun Liu
| kjohnson2 | macOS 12.6.1 Monterey / arm64 | OK | OK | WARNINGS | OK | ||||||||
|
To the developers/maintainers of the puma package: - Use the following Renviron settings to reproduce errors and warnings. - If 'R CMD check' started to fail recently on the Linux builder(s) over a missing dependency, add the missing dependency to 'Suggests:' in your DESCRIPTION file. See Renviron.bioc for more information. |
| Package: puma |
| Version: 3.42.0 |
| Command: /Library/Frameworks/R.framework/Resources/bin/R CMD INSTALL puma |
| StartedAt: 2023-10-15 16:05:13 -0400 (Sun, 15 Oct 2023) |
| EndedAt: 2023-10-15 16:06:24 -0400 (Sun, 15 Oct 2023) |
| EllapsedTime: 70.8 seconds |
| RetCode: 0 |
| Status: OK |
##############################################################################
##############################################################################
###
### Running command:
###
### /Library/Frameworks/R.framework/Resources/bin/R CMD INSTALL puma
###
##############################################################################
##############################################################################
* installing to library ‘/Library/Frameworks/R.framework/Versions/4.3-arm64/Resources/library’
* installing *source* package ‘puma’ ...
** using staged installation
** libs
using C compiler: ‘Apple clang version 14.0.0 (clang-1400.0.29.202)’
using SDK: ‘MacOSX11.3.sdk’
clang -arch arm64 -I"/Library/Frameworks/R.framework/Resources/include" -DNDEBUG -I/opt/R/arm64/include -fPIC -falign-functions=64 -Wall -g -O2 -c PMmultimgmos.c -o PMmultimgmos.o
clang -arch arm64 -I"/Library/Frameworks/R.framework/Resources/include" -DNDEBUG -I/opt/R/arm64/include -fPIC -falign-functions=64 -Wall -g -O2 -c cregistration.c -o cregistration.o
clang -arch arm64 -I"/Library/Frameworks/R.framework/Resources/include" -DNDEBUG -I/opt/R/arm64/include -fPIC -falign-functions=64 -Wall -g -O2 -c donlp2.c -o donlp2.o
donlp2.c:471:33: warning: variable 'infiny' set but not used [-Wunused-but-set-variable]
static DDOUBLE tol1,term, infiny;
^
donlp2.c:2034:1: warning: '/*' within block comment [-Wcomment]
/* **************************************************************************** */
^
donlp2.c:2707:1: warning: '/*' within block comment [-Wcomment]
/* inactive
^
donlp2.c:2079:44: warning: variable 'iumin' set but not used [-Wunused-but-set-variable]
static DDOUBLE delsig,delx,sum,term, iumin;
^
4 warnings generated.
clang -arch arm64 -I"/Library/Frameworks/R.framework/Resources/include" -DNDEBUG -I/opt/R/arm64/include -fPIC -falign-functions=64 -Wall -g -O2 -c gme.c -o gme.o
gme.c:266:9: warning: variable 'fstart' set but not used [-Wunused-but-set-variable]
double fstart;
^
1 warning generated.
clang -arch arm64 -I"/Library/Frameworks/R.framework/Resources/include" -DNDEBUG -I/opt/R/arm64/include -fPIC -falign-functions=64 -Wall -g -O2 -c ipplr_c.c -o ipplr_c.o
ipplr_c.c:255:118: warning: '&&' within '||' [-Wlogical-op-parentheses]
while((fmaxn_ipplr(diff_mu1,in_param.conds)>in_param.eps)||(fmaxn_ipplr(diff_lamda,in_param.conds)>in_param.eps)&& (n<2000))
~~~~~~~~~~~~~~~~~~~~~~~~~~~~~~~~~~~~~~~~~~~~~~~~~~~~~~~^~~~~~~~~~~
ipplr_c.c:255:118: note: place parentheses around the '&&' expression to silence this warning
while((fmaxn_ipplr(diff_mu1,in_param.conds)>in_param.eps)||(fmaxn_ipplr(diff_lamda,in_param.conds)>in_param.eps)&& (n<2000))
^
( )
1 warning generated.
clang -arch arm64 -I"/Library/Frameworks/R.framework/Resources/include" -DNDEBUG -I/opt/R/arm64/include -fPIC -falign-functions=64 -Wall -g -O2 -c multimgmos.c -o multimgmos.o
multimgmos.c:893:95: warning: suggest braces around initialization of subobject [-Wmissing-braces]
double alphaii[MAX_NUM_COND]={0.0}, s1[MAX_NUM_COND]={0.0}, s2[MAX_NUM_PROBE][MAX_NUM_COND]={0.0}, c, d_mmgmos, t1, s3, s4;
^~~
{ }
1 warning generated.
clang -arch arm64 -I"/Library/Frameworks/R.framework/Resources/include" -DNDEBUG -I/opt/R/arm64/include -fPIC -falign-functions=64 -Wall -g -O2 -c newx.c -o newx.o
clang -arch arm64 -I"/Library/Frameworks/R.framework/Resources/include" -DNDEBUG -I/opt/R/arm64/include -fPIC -falign-functions=64 -Wall -g -O2 -c pplr_c.c -o pplr_c.o
pplr_c.c:185:65: warning: unused variable 'x_temp' [-Wunused-variable]
double exp_c[MAX_NUM_REPLICATE], var_c[MAX_NUM_REPLICATE], x_temp[MAX_NUM_COND];
^
1 warning generated.
clang -arch arm64 -I"/Library/Frameworks/R.framework/Resources/include" -DNDEBUG -I/opt/R/arm64/include -fPIC -falign-functions=64 -Wall -g -O2 -c pumaclust_c.c -o pumaclust_c.o
pumaclust_c.c:181:24: warning: using integer absolute value function 'abs' when argument is of floating point type [-Wabsolute-value]
while (foptold-fopt > abs(in_param.eps*fopt))
^
pumaclust_c.c:181:24: note: use function 'fabs' instead
while (foptold-fopt > abs(in_param.eps*fopt))
^~~
fabs
1 warning generated.
clang -arch arm64 -I"/Library/Frameworks/R.framework/Resources/include" -DNDEBUG -I/opt/R/arm64/include -fPIC -falign-functions=64 -Wall -g -O2 -c pumaclustii_c.c -o pumaclustii_c.o
pumaclustii_c.c:255:42: warning: variable 'temp2' set but not used [-Wunused-but-set-variable]
double *exprs=NULL, *vars=NULL, temp, *temp2, temp3, **t3=NULL, *t4=NULL;
^
1 warning generated.
clang -arch arm64 -I"/Library/Frameworks/R.framework/Resources/include" -DNDEBUG -I/opt/R/arm64/include -fPIC -falign-functions=64 -Wall -g -O2 -c user_eval.c -o user_eval.o
clang -arch arm64 -dynamiclib -Wl,-headerpad_max_install_names -undefined dynamic_lookup -single_module -multiply_defined suppress -L/Library/Frameworks/R.framework/Resources/lib -L/opt/R/arm64/lib -o puma.so PMmultimgmos.o cregistration.o donlp2.o gme.o ipplr_c.o multimgmos.o newx.o pplr_c.o pumaclust_c.o pumaclustii_c.o user_eval.o -F/Library/Frameworks/R.framework/.. -framework R -Wl,-framework -Wl,CoreFoundation
installing to /Library/Frameworks/R.framework/Versions/4.3-arm64/Resources/library/00LOCK-puma/00new/puma/libs
** R
** data
** demo
** inst
** byte-compile and prepare package for lazy loading
** help
*** installing help indices
** building package indices
** installing vignettes
** testing if installed package can be loaded from temporary location
** checking absolute paths in shared objects and dynamic libraries
** testing if installed package can be loaded from final location
** testing if installed package keeps a record of temporary installation path
* DONE (puma)