| Back to Mac ARM64 build report for BioC 3.17 |
|
This page was generated on 2023-10-20 09:38:08 -0400 (Fri, 20 Oct 2023).
| Hostname | OS | Arch (*) | R version | Installed pkgs |
|---|---|---|---|---|
| kjohnson2 | macOS 12.6.1 Monterey | arm64 | 4.3.1 (2023-06-16) -- "Beagle Scouts" | 4347 |
| Click on any hostname to see more info about the system (e.g. compilers) (*) as reported by 'uname -p', except on Windows and Mac OS X | ||||
| Package 1491/2230 | Hostname | OS / Arch | INSTALL | BUILD | CHECK | BUILD BIN | ||||||||
| peakPantheR 1.14.0 (landing page) Arnaud Wolfer
| kjohnson2 | macOS 12.6.1 Monterey / arm64 | OK | OK | ERROR | OK | ||||||||
|
To the developers/maintainers of the peakPantheR package: - Use the following Renviron settings to reproduce errors and warnings. - If 'R CMD check' started to fail recently on the Linux builder(s) over a missing dependency, add the missing dependency to 'Suggests:' in your DESCRIPTION file. See Renviron.bioc for more information. |
| Package: peakPantheR |
| Version: 1.14.0 |
| Command: /Library/Frameworks/R.framework/Resources/bin/R CMD check --install=check:peakPantheR.install-out.txt --library=/Library/Frameworks/R.framework/Resources/library --no-vignettes --timings peakPantheR_1.14.0.tar.gz |
| StartedAt: 2023-10-18 13:57:46 -0400 (Wed, 18 Oct 2023) |
| EndedAt: 2023-10-18 14:24:55 -0400 (Wed, 18 Oct 2023) |
| EllapsedTime: 1628.4 seconds |
| RetCode: 1 |
| Status: ERROR |
| CheckDir: peakPantheR.Rcheck |
| Warnings: NA |
##############################################################################
##############################################################################
###
### Running command:
###
### /Library/Frameworks/R.framework/Resources/bin/R CMD check --install=check:peakPantheR.install-out.txt --library=/Library/Frameworks/R.framework/Resources/library --no-vignettes --timings peakPantheR_1.14.0.tar.gz
###
##############################################################################
##############################################################################
* using log directory ‘/Users/biocbuild/bbs-3.17-bioc-mac-arm64/meat/peakPantheR.Rcheck’
* using R version 4.3.1 (2023-06-16)
* using platform: aarch64-apple-darwin20 (64-bit)
* R was compiled by
Apple clang version 14.0.0 (clang-1400.0.29.202)
GNU Fortran (GCC) 12.2.0
* running under: macOS Monterey 12.6.7
* using session charset: UTF-8
* using option ‘--no-vignettes’
* checking for file ‘peakPantheR/DESCRIPTION’ ... OK
* this is package ‘peakPantheR’ version ‘1.14.0’
* package encoding: UTF-8
* checking package namespace information ... OK
* checking package dependencies ... OK
* checking if this is a source package ... OK
* checking if there is a namespace ... OK
* checking for hidden files and directories ... OK
* checking for portable file names ... OK
* checking for sufficient/correct file permissions ... OK
* checking whether package ‘peakPantheR’ can be installed ... OK
* checking installed package size ... OK
* checking package directory ... OK
* checking ‘build’ directory ... OK
* checking DESCRIPTION meta-information ... OK
* checking top-level files ... OK
* checking for left-over files ... OK
* checking index information ... OK
* checking package subdirectories ... OK
* checking R files for non-ASCII characters ... OK
* checking R files for syntax errors ... OK
* checking whether the package can be loaded ... OK
* checking whether the package can be loaded with stated dependencies ... OK
* checking whether the package can be unloaded cleanly ... OK
* checking whether the namespace can be loaded with stated dependencies ... OK
* checking whether the namespace can be unloaded cleanly ... OK
* checking startup messages can be suppressed ... OK
* checking dependencies in R code ... OK
* checking S3 generic/method consistency ... OK
* checking replacement functions ... OK
* checking foreign function calls ... OK
* checking R code for possible problems ... OK
* checking Rd files ... OK
* checking Rd metadata ... OK
* checking Rd cross-references ... OK
* checking for missing documentation entries ... OK
* checking for code/documentation mismatches ... OK
* checking Rd \usage sections ... OK
* checking Rd contents ... OK
* checking for unstated dependencies in examples ... OK
* checking files in ‘vignettes’ ... OK
* checking examples ... OK
Examples with CPU (user + system) or elapsed time > 5s
user system elapsed
peakPantheR_ROIStatistics 16.109 0.232 23.837
peakPantheR_parallelAnnotation 11.565 0.126 16.402
outputAnnotationDiagnostic-peakPantheRAnnotation-method 11.164 0.140 17.479
outputAnnotationResult-peakPantheRAnnotation-method 10.980 0.122 16.721
EICs-peakPantheRAnnotation-method 10.368 0.431 16.495
retentionTimeCorrection-peakPantheRAnnotation-method 7.614 0.087 11.549
peakPantheR_singleFileSearch 3.993 0.054 5.879
* checking for unstated dependencies in ‘tests’ ... OK
* checking tests ...
Running ‘testthat.R’
ERROR
Running the tests in ‘tests/testthat.R’ failed.
Last 13 lines of output:
Error: Test failures
In addition: Warning messages:
1: In .Internal(gc(verbose, reset, full)) :
closing unused connection 10 (/private/tmp/RtmpY4vfZZ/notValidXML.mzML)
2: In .Internal(gc(verbose, reset, full)) :
closing unused connection 9 (/private/tmp/RtmpY4vfZZ/notValidXML.mzML)
3: In .Internal(gc(verbose, reset, full)) :
closing unused connection 8 (/private/tmp/RtmpY4vfZZ/notValidXML.mzML)
4: In .Internal(gc(verbose, reset, full)) :
closing unused connection 7 (/private/tmp/RtmpY4vfZZ/notValidXML.mzML)
5: In .Internal(gc(verbose, reset, full)) :
closing unused connection 6 (/Library/Frameworks/R.framework/Versions/4.3-arm64/Resources/library/peakPantheR/extdata/test_fakemzML.mzML)
6: In .Internal(gc(verbose, reset, full)) :
closing unused connection 5 (/Library/Frameworks/R.framework/Versions/4.3-arm64/Resources/library/peakPantheR/extdata/test_fakemzML.mzML)
Execution halted
* checking for unstated dependencies in vignettes ... OK
* checking package vignettes in ‘inst/doc’ ... OK
* checking running R code from vignettes ... SKIPPED
* checking re-building of vignette outputs ... SKIPPED
* checking PDF version of manual ... OK
* DONE
Status: 1 ERROR
See
‘/Users/biocbuild/bbs-3.17-bioc-mac-arm64/meat/peakPantheR.Rcheck/00check.log’
for details.
peakPantheR.Rcheck/00install.out
############################################################################## ############################################################################## ### ### Running command: ### ### /Library/Frameworks/R.framework/Resources/bin/R CMD INSTALL peakPantheR ### ############################################################################## ############################################################################## * installing to library ‘/Library/Frameworks/R.framework/Versions/4.3-arm64/Resources/library’ * installing *source* package ‘peakPantheR’ ... ** using staged installation ** R ** inst ** byte-compile and prepare package for lazy loading ** help *** installing help indices *** copying figures ** building package indices ** installing vignettes ** testing if installed package can be loaded from temporary location ** testing if installed package can be loaded from final location ** testing if installed package keeps a record of temporary installation path * DONE (peakPantheR)
peakPantheR.Rcheck/tests/testthat.Rout.fail
R version 4.3.1 (2023-06-16) -- "Beagle Scouts"
Copyright (C) 2023 The R Foundation for Statistical Computing
Platform: aarch64-apple-darwin20 (64-bit)
R is free software and comes with ABSOLUTELY NO WARRANTY.
You are welcome to redistribute it under certain conditions.
Type 'license()' or 'licence()' for distribution details.
R is a collaborative project with many contributors.
Type 'contributors()' for more information and
'citation()' on how to cite R or R packages in publications.
Type 'demo()' for some demos, 'help()' for on-line help, or
'help.start()' for an HTML browser interface to help.
Type 'q()' to quit R.
> library(testthat)
> library(peakPantheR)
This is peakPantheR version 1.14.0
>
> test_check("peakPantheR")
2023-10-18 14:08:15.506 R[92557:44132491] XType: com.apple.fonts is not accessible.
2023-10-18 14:08:15.507 R[92557:44132491] XType: XTFontStaticRegistry is enabled.
2023-10-18 14:08:43.938 R[94409:44138954] XType: com.apple.fonts is not accessible.
2023-10-18 14:08:43.938 R[94409:44138954] XType: XTFontStaticRegistry is enabled.
2023-10-18 14:09:05.409 R[94442:44139155] XType: com.apple.fonts is not accessible.
2023-10-18 14:09:05.409 R[94442:44139155] XType: XTFontStaticRegistry is enabled.
2023-10-18 14:14:22.458 R[94794:44141999] XType: com.apple.fonts is not accessible.
2023-10-18 14:14:22.458 R[94794:44141999] XType: XTFontStaticRegistry is enabled.
[ FAIL 11 | WARN 0 | SKIP 0 | PASS 1427 ]
══ Failed tests ════════════════════════════════════════════════════════════════
── Failure ('test_findTargetFeatures.R:236:3'): ratio of fit residuals at apex or across maximum is superior to "maxApexResidualRatio", fit is rejected, verbose ──
result_foundPeaks$result not equal to `expected_foundPeaks`.
Component "peakTable": Component "found": 1 element mismatch
Component "peakTable": Component "rtMin": 'is.NA' value mismatch: 1 in current 0 in target
Component "peakTable": Component "rt": 'is.NA' value mismatch: 1 in current 0 in target
Component "peakTable": Component "rtMax": 'is.NA' value mismatch: 1 in current 0 in target
Component "peakTable": Component "mzMin": 'is.NA' value mismatch: 1 in current 0 in target
Component "peakTable": Component "mz": 'is.NA' value mismatch: 1 in current 0 in target
Component "peakTable": Component "mzMax": 'is.NA' value mismatch: 1 in current 0 in target
Component "peakTable": Component "peakArea": 'is.NA' value mismatch: 1 in current 0 in target
Component "peakTable": Component "peakAreaRaw": 'is.NA' value mismatch: 1 in current 0 in target
...
── Failure ('test_findTargetFeatures.R:239:3'): ratio of fit residuals at apex or across maximum is superior to "maxApexResidualRatio", fit is rejected, verbose ──
length(result_foundPeaks$messages) not equal to 5.
1/1 mismatches
[1] 4 - 5 == -1
── Failure ('test_findTargetFeatures.R:240:3'): ratio of fit residuals at apex or across maximum is superior to "maxApexResidualRatio", fit is rejected, verbose ──
result_foundPeaks$messages[1:4] not equal to `expected_messages`.
2/4 mismatches
x[3]: "Warning: rtMin/rtMax outside of ROI; datapoints cannot be used for mzMin/
x[3]: mzMax calculation, approximate mz and returning ROI$mzMin and ROI$mzMax fo
x[3]: r ROI #4\n"
y[3]: "Fit of ROI #3 is unsuccessful (apex residuals is 0.45 of max fit intensit
y[3]: y, max intensity residuals is 0.46 of max fit intensity)\n"
x[4]: "Found 4/4 features in 0.06 secs\n"
y[4]: "Warning: rtMin/rtMax outside of ROI; datapoints cannot be used for mzMin/
y[4]: mzMax calculation, approximate mz and returning ROI$mzMin and ROI$mzMax fo
y[4]: r ROI #4\n"
── Failure ('test_fitCurve.R:55:3'): fit emgGaussian, input params ─────────────
`result_fit` not equal to `expected_fit`.
Component "amplitude": Mean relative difference: 0.0498193
Component "center": Mean relative difference: 8.406796e-05
Component "gamma": Mean relative difference: 0.03903418
── Failure ('test_peakPantheR_ROIStatistics.R:77:3'): 3 files, save EICS, mean IS RT, save IS fit, with sampleColour, verbose, no verbose ──
length(result_ROIstatsV$messages) not equal to 64.
1/1 mismatches
[1] 63 - 64 == -1
── Failure ('test_peakPantheR_ROIStatistics.R:78:3'): 3 files, save EICS, mean IS RT, save IS fit, with sampleColour, verbose, no verbose ──
...[] not equal to `expected_message`.
4/23 mismatches
x[20]: "----------------\n"
y[20]: "Annotation object cannot be reordered by sample acquisition date\n"
x[21]: "Parallel annotation done in: 21.52 secs\n"
y[21]: "----------------\n"
x[22]: "Annotation parameters saved at /private/tmp/RtmpY4vfZZ/IS_search/annotati
x[22]: onParameters_summary.csv\n"
y[22]: " 0 failure(s)\n"
x[23]: " Compound 1/4 diagnostic plot saved at /private/tmp/RtmpY4vfZZ/IS_search
x[23]: /cpd_1.png\n"
y[23]: "Saving diagnostic plots:\n"
── Failure ('test_peakPantheR_ROIStatistics.R:156:3'): 3 files, no save EICs, mean IS RT, no IS fit, without sampleColour, verbose, no verbose ──
length(result_ROIstatsV$messages) not equal to 47.
1/1 mismatches
[1] 46 - 47 == -1
── Failure ('test_peakPantheR_ROIStatistics.R:157:3'): 3 files, no save EICs, mean IS RT, no IS fit, without sampleColour, verbose, no verbose ──
result_ROIstatsV$messages[c(1:2, 4:12, 44, 46)] not equal to `expected_message`.
2/13 mismatches
x[12]: "Parallel annotation done in: 22.74 secs\n"
y[12]: "----------------\n"
x[13]: "IS mean RT saved at /private/tmp/RtmpY4vfZZ/IS_mean_RT.csv\n"
y[13]: " 0 failure(s)\n"
── Failure ('test_peakPantheR_parallelAnnotation.R:138:3'): 3 files, 4 compounds, no uROI, no FIR, no getAcquTime, no verbose ──
result_parallelAnnotation$result$annotation not equal to `expected_annotation`.
Attributes: < Component "peakFit": Component 3: Component 3: Modes: list, logical >
Attributes: < Component "peakFit": Component 3: Component 3: names for target but not for current >
Attributes: < Component "peakFit": Component 3: Component 3: Attributes: < Modes: list, NULL > >
Attributes: < Component "peakFit": Component 3: Component 3: Attributes: < names for target but not for current > >
Attributes: < Component "peakFit": Component 3: Component 3: Attributes: < current is not list-like > >
Attributes: < Component "peakFit": Component 3: Component 3: Length mismatch: comparison on first 1 components >
Attributes: < Component "peakFit": Component 3: Component 3: Component 1: Modes: numeric, logical >
Attributes: < Component "peakFit": Component 3: Component 3: Component 1: target is numeric, current is logical >
Attributes: < Component "peakTables": Component 3: Component 1: 1 element mismatch >
...
── Failure ('test_peakPantheR_parallelAnnotation.R:171:3'): 3 files (1 missing), 4 compounds, no uROI, no FIR, no getAcquTime, no verbose ──
result_parallelAnnotation$result$annotation not equal to `expected_annotation`.
Attributes: < Component "peakFit": Component 2: Component 3: Modes: list, logical >
Attributes: < Component "peakFit": Component 2: Component 3: names for target but not for current >
Attributes: < Component "peakFit": Component 2: Component 3: Attributes: < Modes: list, NULL > >
Attributes: < Component "peakFit": Component 2: Component 3: Attributes: < names for target but not for current > >
Attributes: < Component "peakFit": Component 2: Component 3: Attributes: < current is not list-like > >
Attributes: < Component "peakFit": Component 2: Component 3: Length mismatch: comparison on first 1 components >
Attributes: < Component "peakFit": Component 2: Component 3: Component 1: Modes: numeric, logical >
Attributes: < Component "peakFit": Component 2: Component 3: Component 1: target is numeric, current is logical >
Attributes: < Component "peakTables": Component 2: Component 1: 1 element mismatch >
...
── Failure ('test_peakPantheR_parallelAnnotation.R:364:3'): 3 files, 4 compounds, uROI, no FIR, no fitGauss, no getAcquTime, no verbose ──
result_parallelAnnotation$result$annotation not equal to `expected_annotation`.
Attributes: < Component "peakFit": Component 3: Component 3: Modes: list, logical >
Attributes: < Component "peakFit": Component 3: Component 3: names for target but not for current >
Attributes: < Component "peakFit": Component 3: Component 3: Attributes: < Modes: list, NULL > >
Attributes: < Component "peakFit": Component 3: Component 3: Attributes: < names for target but not for current > >
Attributes: < Component "peakFit": Component 3: Component 3: Attributes: < current is not list-like > >
Attributes: < Component "peakFit": Component 3: Component 3: Length mismatch: comparison on first 1 components >
Attributes: < Component "peakFit": Component 3: Component 3: Component 1: Modes: numeric, logical >
Attributes: < Component "peakFit": Component 3: Component 3: Component 1: target is numeric, current is logical >
Attributes: < Component "peakTables": Component 3: Component 1: 1 element mismatch >
...
[ FAIL 11 | WARN 0 | SKIP 0 | PASS 1427 ]
Error: Test failures
In addition: Warning messages:
1: In .Internal(gc(verbose, reset, full)) :
closing unused connection 10 (/private/tmp/RtmpY4vfZZ/notValidXML.mzML)
2: In .Internal(gc(verbose, reset, full)) :
closing unused connection 9 (/private/tmp/RtmpY4vfZZ/notValidXML.mzML)
3: In .Internal(gc(verbose, reset, full)) :
closing unused connection 8 (/private/tmp/RtmpY4vfZZ/notValidXML.mzML)
4: In .Internal(gc(verbose, reset, full)) :
closing unused connection 7 (/private/tmp/RtmpY4vfZZ/notValidXML.mzML)
5: In .Internal(gc(verbose, reset, full)) :
closing unused connection 6 (/Library/Frameworks/R.framework/Versions/4.3-arm64/Resources/library/peakPantheR/extdata/test_fakemzML.mzML)
6: In .Internal(gc(verbose, reset, full)) :
closing unused connection 5 (/Library/Frameworks/R.framework/Versions/4.3-arm64/Resources/library/peakPantheR/extdata/test_fakemzML.mzML)
Execution halted
peakPantheR.Rcheck/peakPantheR-Ex.timings
| name | user | system | elapsed | |
| EICs-peakPantheRAnnotation-method | 10.368 | 0.431 | 16.495 | |
| FIR-peakPantheRAnnotation-method | 0.262 | 0.020 | 0.431 | |
| ROI-peakPantheRAnnotation-method | 0.260 | 0.021 | 0.436 | |
| TIC-peakPantheRAnnotation-method | 0.257 | 0.022 | 0.436 | |
| acquisitionTime-peakPantheRAnnotation-method | 0.267 | 0.024 | 0.446 | |
| annotationDiagnosticPlots-peakPantheRAnnotation-method | 0.259 | 0.023 | 0.430 | |
| annotationParamsDiagnostic-peakPantheRAnnotation-method | 0.261 | 0.023 | 0.428 | |
| annotationTable-peakPantheRAnnotation-method | 0.276 | 0.022 | 0.456 | |
| annotation_diagnostic_multiplot_UI_helper | 0.118 | 0.004 | 0.190 | |
| annotation_fit_summary_UI_helper | 0.008 | 0.000 | 0.009 | |
| annotation_showMethod_UI_helper | 0.004 | 0.000 | 0.008 | |
| annotation_showText_UI_helper | 0.001 | 0.000 | 0.004 | |
| cpdID-peakPantheRAnnotation-method | 0.255 | 0.015 | 0.405 | |
| cpdMetadata-peakPantheRAnnotation-method | 0.256 | 0.016 | 0.419 | |
| cpdName-peakPantheRAnnotation-method | 0.252 | 0.015 | 0.406 | |
| dataPoints-peakPantheRAnnotation-method | 0.265 | 0.019 | 0.436 | |
| filename-peakPantheRAnnotation-method | 0.260 | 0.017 | 0.423 | |
| filepath-peakPantheRAnnotation-method | 0.257 | 0.015 | 0.410 | |
| initialise_annotation_from_files_UI_helper | 0.014 | 0.001 | 0.024 | |
| isAnnotated-peakPantheRAnnotation-method | 0.258 | 0.016 | 0.419 | |
| load_annotation_from_file_UI_helper | 0.008 | 0.002 | 0.013 | |
| nbCompounds-peakPantheRAnnotation-method | 0.260 | 0.018 | 0.423 | |
| nbSamples-peakPantheRAnnotation-method | 0.282 | 0.017 | 0.456 | |
| outputAnnotationDiagnostic-peakPantheRAnnotation-method | 11.164 | 0.140 | 17.479 | |
| outputAnnotationFeatureMetadata_UI_helper | 0.006 | 0.000 | 0.009 | |
| outputAnnotationParamsCSV-peakPantheRAnnotation-method | 0.025 | 0.002 | 0.041 | |
| outputAnnotationResult-peakPantheRAnnotation-method | 10.980 | 0.122 | 16.721 | |
| outputAnnotationSpectraMetadata_UI_helper | 0.007 | 0.001 | 0.012 | |
| peakFit-peakPantheRAnnotation-method | 0.261 | 0.016 | 0.419 | |
| peakPantheRAnnotation | 0.270 | 0.017 | 0.427 | |
| peakPantheR_ROIStatistics | 16.109 | 0.232 | 23.837 | |
| peakPantheR_loadAnnotationParamsCSV | 0.008 | 0.001 | 0.010 | |
| peakPantheR_parallelAnnotation | 11.565 | 0.126 | 16.402 | |
| peakPantheR_plotEICFit | 0.390 | 0.007 | 0.610 | |
| peakPantheR_plotPeakwidth | 0.668 | 0.013 | 1.043 | |
| peakPantheR_singleFileSearch | 3.993 | 0.054 | 5.879 | |
| peakPantheR_start_GUI | 0.001 | 0.000 | 0.000 | |
| peakTables-peakPantheRAnnotation-method | 0.265 | 0.014 | 0.368 | |
| resetAnnotation-peakPantheRAnnotation-method | 0.274 | 0.016 | 0.372 | |
| resetFIR-peakPantheRAnnotation-method | 0.006 | 0.001 | 0.008 | |
| retentionTimeCorrection-peakPantheRAnnotation-method | 7.614 | 0.087 | 11.549 | |
| spectraMetadata-peakPantheRAnnotation-method | 0.270 | 0.016 | 0.445 | |
| spectraPaths_and_metadata_UI_helper | 0.003 | 0.001 | 0.005 | |
| spectra_metadata_colourScheme_UI_helper | 0.005 | 0.001 | 0.009 | |
| uROI-peakPantheRAnnotation-method | 0.265 | 0.016 | 0.429 | |
| uROIExist-peakPantheRAnnotation-method | 0.261 | 0.015 | 0.420 | |
| useFIR-peakPantheRAnnotation-method | 0.266 | 0.016 | 0.443 | |
| useUROI-peakPantheRAnnotation-method | 0.269 | 0.017 | 0.443 | |