| Back to Mac ARM64 build report for BioC 3.17 |
|
This page was generated on 2023-10-20 09:38:07 -0400 (Fri, 20 Oct 2023).
| Hostname | OS | Arch (*) | R version | Installed pkgs |
|---|---|---|---|---|
| kjohnson2 | macOS 12.6.1 Monterey | arm64 | 4.3.1 (2023-06-16) -- "Beagle Scouts" | 4347 |
| Click on any hostname to see more info about the system (e.g. compilers) (*) as reported by 'uname -p', except on Windows and Mac OS X | ||||
| Package 1404/2230 | Hostname | OS / Arch | INSTALL | BUILD | CHECK | BUILD BIN | ||||||||
| occugene 1.60.0 (landing page) Oliver Will
| kjohnson2 | macOS 12.6.1 Monterey / arm64 | OK | OK | OK | OK | ||||||||
|
To the developers/maintainers of the occugene package: - Use the following Renviron settings to reproduce errors and warnings. - If 'R CMD check' started to fail recently on the Linux builder(s) over a missing dependency, add the missing dependency to 'Suggests:' in your DESCRIPTION file. See Renviron.bioc for more information. |
| Package: occugene |
| Version: 1.60.0 |
| Command: /Library/Frameworks/R.framework/Resources/bin/R CMD check --install=check:occugene.install-out.txt --library=/Library/Frameworks/R.framework/Resources/library --no-vignettes --timings occugene_1.60.0.tar.gz |
| StartedAt: 2023-10-18 11:58:11 -0400 (Wed, 18 Oct 2023) |
| EndedAt: 2023-10-18 11:58:54 -0400 (Wed, 18 Oct 2023) |
| EllapsedTime: 43.5 seconds |
| RetCode: 0 |
| Status: OK |
| CheckDir: occugene.Rcheck |
| Warnings: 0 |
##############################################################################
##############################################################################
###
### Running command:
###
### /Library/Frameworks/R.framework/Resources/bin/R CMD check --install=check:occugene.install-out.txt --library=/Library/Frameworks/R.framework/Resources/library --no-vignettes --timings occugene_1.60.0.tar.gz
###
##############################################################################
##############################################################################
* using log directory ‘/Users/biocbuild/bbs-3.17-bioc-mac-arm64/meat/occugene.Rcheck’
* using R version 4.3.1 (2023-06-16)
* using platform: aarch64-apple-darwin20 (64-bit)
* R was compiled by
Apple clang version 14.0.0 (clang-1400.0.29.202)
GNU Fortran (GCC) 12.2.0
* running under: macOS Monterey 12.6.7
* using session charset: UTF-8
* using option ‘--no-vignettes’
* checking for file ‘occugene/DESCRIPTION’ ... OK
* this is package ‘occugene’ version ‘1.60.0’
* checking package namespace information ... OK
* checking package dependencies ... OK
* checking if this is a source package ... OK
* checking if there is a namespace ... OK
* checking for hidden files and directories ... OK
* checking for portable file names ... OK
* checking for sufficient/correct file permissions ... OK
* checking whether package ‘occugene’ can be installed ... OK
* checking installed package size ... OK
* checking package directory ... OK
* checking ‘build’ directory ... OK
* checking DESCRIPTION meta-information ... OK
* checking top-level files ... OK
* checking for left-over files ... OK
* checking index information ... OK
* checking package subdirectories ... OK
* checking R files for non-ASCII characters ... OK
* checking R files for syntax errors ... OK
* checking whether the package can be loaded ... OK
* checking whether the package can be loaded with stated dependencies ... OK
* checking whether the package can be unloaded cleanly ... OK
* checking whether the namespace can be loaded with stated dependencies ... OK
* checking whether the namespace can be unloaded cleanly ... OK
* checking dependencies in R code ... OK
* checking S3 generic/method consistency ... OK
* checking replacement functions ... OK
* checking foreign function calls ... OK
* checking R code for possible problems ... NOTE
binInsertHist: no visible global function definition for ‘hist’
delta0: no visible global function definition for ‘coef’
eMult : unequalApproxEMult: no visible global function definition for
‘runif’
eMult : unequalApproxEMult: no visible binding for global variable
‘hist’
fFit : expModel: no visible global function definition for ‘nls’
loadAnnotation: no visible global function definition for ‘read.table’
loadInsertions: no visible global function definition for ‘read.table’
unbiasB0 : simB0: no visible global function definition for ‘coef’
unbiasB0: no visible global function definition for ‘coef’
varMult : unequalApproxVarMult: no visible global function definition
for ‘runif’
varMult : unequalApproxVarMult: no visible binding for global variable
‘hist’
varMult : unequalApproxVarMult: no visible global function definition
for ‘var’
Undefined global functions or variables:
coef hist nls read.table runif var
Consider adding
importFrom("graphics", "hist")
importFrom("stats", "coef", "nls", "runif", "var")
importFrom("utils", "read.table")
to your NAMESPACE file.
* checking Rd files ... OK
* checking Rd metadata ... OK
* checking Rd cross-references ... OK
* checking for missing documentation entries ... OK
* checking for code/documentation mismatches ... OK
* checking Rd \usage sections ... OK
* checking Rd contents ... OK
* checking for unstated dependencies in examples ... OK
* checking contents of ‘data’ directory ... OK
* checking data for non-ASCII characters ... OK
* checking data for ASCII and uncompressed saves ... OK
* checking sizes of PDF files under ‘inst/doc’ ... OK
* checking files in ‘vignettes’ ... OK
* checking examples ... OK
* checking for unstated dependencies in vignettes ... OK
* checking package vignettes in ‘inst/doc’ ... OK
* checking running R code from vignettes ... SKIPPED
* checking re-building of vignette outputs ... SKIPPED
* checking PDF version of manual ... OK
* DONE
Status: 1 NOTE
See
‘/Users/biocbuild/bbs-3.17-bioc-mac-arm64/meat/occugene.Rcheck/00check.log’
for details.
occugene.Rcheck/00install.out
############################################################################## ############################################################################## ### ### Running command: ### ### /Library/Frameworks/R.framework/Resources/bin/R CMD INSTALL occugene ### ############################################################################## ############################################################################## * installing to library ‘/Library/Frameworks/R.framework/Versions/4.3-arm64/Resources/library’ * installing *source* package ‘occugene’ ... ** using staged installation ** R ** data ** byte-compile and prepare package for lazy loading ** help *** installing help indices ** building package indices ** installing vignettes ** testing if installed package can be loaded from temporary location ** testing if installed package can be loaded from final location ** testing if installed package keeps a record of temporary installation path * DONE (occugene)
occugene.Rcheck/occugene-Ex.timings
| name | user | system | elapsed | |
| binHist | 0.000 | 0.001 | 0.000 | |
| binInsert | 0.000 | 0.000 | 0.001 | |
| binInsertHist | 0 | 0 | 0 | |
| checkFormat | 0.017 | 0.004 | 0.038 | |
| delta0 | 0.043 | 0.004 | 0.067 | |
| eMult | 0.376 | 0.005 | 0.583 | |
| etDelta | 0.004 | 0.002 | 0.009 | |
| fCumul | 0 | 0 | 0 | |
| fFit | 0.037 | 0.005 | 0.064 | |
| loadAnnotation | 0.001 | 0.000 | 0.000 | |
| loadInsertions | 0 | 0 | 0 | |
| occup2Negenes | 0.005 | 0.003 | 0.012 | |
| unbiasB0 | 0.318 | 0.007 | 0.513 | |
| unbiasDelta0 | 0.402 | 0.008 | 0.633 | |
| varMult | 0.393 | 0.004 | 0.617 | |