| Back to Mac ARM64 build report for BioC 3.17 |
|
This page was generated on 2023-10-20 09:38:07 -0400 (Fri, 20 Oct 2023).
| Hostname | OS | Arch (*) | R version | Installed pkgs |
|---|---|---|---|---|
| kjohnson2 | macOS 12.6.1 Monterey | arm64 | 4.3.1 (2023-06-16) -- "Beagle Scouts" | 4347 |
| Click on any hostname to see more info about the system (e.g. compilers) (*) as reported by 'uname -p', except on Windows and Mac OS X | ||||
| Package 1385/2230 | Hostname | OS / Arch | INSTALL | BUILD | CHECK | BUILD BIN | ||||||||
| ngsReports 2.2.4 (landing page) Stevie Pederson
| kjohnson2 | macOS 12.6.1 Monterey / arm64 | OK | OK | OK | OK | ||||||||
|
To the developers/maintainers of the ngsReports package: - Use the following Renviron settings to reproduce errors and warnings. - If 'R CMD check' started to fail recently on the Linux builder(s) over a missing dependency, add the missing dependency to 'Suggests:' in your DESCRIPTION file. See Renviron.bioc for more information. |
| Package: ngsReports |
| Version: 2.2.4 |
| Command: /Library/Frameworks/R.framework/Resources/bin/R CMD check --install=check:ngsReports.install-out.txt --library=/Library/Frameworks/R.framework/Resources/library --no-vignettes --timings ngsReports_2.2.4.tar.gz |
| StartedAt: 2023-10-18 11:34:03 -0400 (Wed, 18 Oct 2023) |
| EndedAt: 2023-10-18 11:39:58 -0400 (Wed, 18 Oct 2023) |
| EllapsedTime: 355.2 seconds |
| RetCode: 0 |
| Status: OK |
| CheckDir: ngsReports.Rcheck |
| Warnings: 0 |
##############################################################################
##############################################################################
###
### Running command:
###
### /Library/Frameworks/R.framework/Resources/bin/R CMD check --install=check:ngsReports.install-out.txt --library=/Library/Frameworks/R.framework/Resources/library --no-vignettes --timings ngsReports_2.2.4.tar.gz
###
##############################################################################
##############################################################################
* using log directory ‘/Users/biocbuild/bbs-3.17-bioc-mac-arm64/meat/ngsReports.Rcheck’
* using R version 4.3.1 (2023-06-16)
* using platform: aarch64-apple-darwin20 (64-bit)
* R was compiled by
Apple clang version 14.0.0 (clang-1400.0.29.202)
GNU Fortran (GCC) 12.2.0
* running under: macOS Monterey 12.6.7
* using session charset: UTF-8
* using option ‘--no-vignettes’
* checking for file ‘ngsReports/DESCRIPTION’ ... OK
* this is package ‘ngsReports’ version ‘2.2.4’
* package encoding: UTF-8
* checking package namespace information ... OK
* checking package dependencies ... OK
* checking if this is a source package ... OK
* checking if there is a namespace ... OK
* checking for hidden files and directories ... OK
* checking for portable file names ... OK
* checking for sufficient/correct file permissions ... OK
* checking whether package ‘ngsReports’ can be installed ... OK
* checking installed package size ... OK
* checking package directory ... OK
* checking ‘build’ directory ... OK
* checking DESCRIPTION meta-information ... OK
* checking top-level files ... OK
* checking for left-over files ... OK
* checking index information ... OK
* checking package subdirectories ... OK
* checking R files for non-ASCII characters ... OK
* checking R files for syntax errors ... OK
* checking whether the package can be loaded ... OK
* checking whether the package can be loaded with stated dependencies ... OK
* checking whether the package can be unloaded cleanly ... OK
* checking whether the namespace can be loaded with stated dependencies ... OK
* checking whether the namespace can be unloaded cleanly ... OK
* checking dependencies in R code ... OK
* checking S3 generic/method consistency ... OK
* checking replacement functions ... OK
* checking foreign function calls ... OK
* checking R code for possible problems ... OK
* checking Rd files ... OK
* checking Rd metadata ... OK
* checking Rd cross-references ... OK
* checking for missing documentation entries ... OK
* checking for code/documentation mismatches ... OK
* checking Rd \usage sections ... OK
* checking Rd contents ... OK
* checking for unstated dependencies in examples ... OK
* checking contents of ‘data’ directory ... OK
* checking data for non-ASCII characters ... OK
* checking LazyData ... OK
* checking data for ASCII and uncompressed saves ... OK
* checking files in ‘vignettes’ ... OK
* checking examples ... OK
Examples with CPU (user + system) or elapsed time > 5s
user system elapsed
plotAdapterContent-methods 3.193 0.109 5.041
* checking for unstated dependencies in ‘tests’ ... OK
* checking tests ...
Running ‘testthat.R’
OK
* checking for unstated dependencies in vignettes ... OK
* checking package vignettes in ‘inst/doc’ ... OK
* checking running R code from vignettes ... SKIPPED
* checking re-building of vignette outputs ... SKIPPED
* checking PDF version of manual ... OK
* DONE
Status: OK
ngsReports.Rcheck/00install.out
############################################################################## ############################################################################## ### ### Running command: ### ### /Library/Frameworks/R.framework/Resources/bin/R CMD INSTALL ngsReports ### ############################################################################## ############################################################################## * installing to library ‘/Library/Frameworks/R.framework/Versions/4.3-arm64/Resources/library’ * installing *source* package ‘ngsReports’ ... ** using staged installation ** R ** data *** moving datasets to lazyload DB ** inst ** byte-compile and prepare package for lazy loading ** help *** installing help indices *** copying figures ** building package indices ** installing vignettes ** testing if installed package can be loaded from temporary location ** testing if installed package can be loaded from final location ** testing if installed package keeps a record of temporary installation path * DONE (ngsReports)
ngsReports.Rcheck/tests/testthat.Rout
R version 4.3.1 (2023-06-16) -- "Beagle Scouts"
Copyright (C) 2023 The R Foundation for Statistical Computing
Platform: aarch64-apple-darwin20 (64-bit)
R is free software and comes with ABSOLUTELY NO WARRANTY.
You are welcome to redistribute it under certain conditions.
Type 'license()' or 'licence()' for distribution details.
R is a collaborative project with many contributors.
Type 'contributors()' for more information and
'citation()' on how to cite R or R packages in publications.
Type 'demo()' for some demos, 'help()' for on-line help, or
'help.start()' for an HTML browser interface to help.
Type 'q()' to quit R.
> library(testthat)
> library(ngsReports)
Loading required package: BiocGenerics
Attaching package: 'BiocGenerics'
The following objects are masked from 'package:stats':
IQR, mad, sd, var, xtabs
The following objects are masked from 'package:base':
Filter, Find, Map, Position, Reduce, anyDuplicated, aperm, append,
as.data.frame, basename, cbind, colnames, dirname, do.call,
duplicated, eval, evalq, get, grep, grepl, intersect, is.unsorted,
lapply, mapply, match, mget, order, paste, pmax, pmax.int, pmin,
pmin.int, rank, rbind, rownames, sapply, setdiff, sort, table,
tapply, union, unique, unsplit, which.max, which.min
Loading required package: ggplot2
Loading required package: patchwork
Loading required package: tibble
>
> test_check("ngsReports")
[ FAIL 0 | WARN 0 | SKIP 0 | PASS 371 ]
>
> proc.time()
user system elapsed
60.607 1.865 96.605
ngsReports.Rcheck/ngsReports-Ex.timings
| name | user | system | elapsed | |
| FastqcData | 0.104 | 0.007 | 0.143 | |
| FastqcDataList | 0.436 | 0.022 | 0.601 | |
| TheoreticalGC-class | 0.087 | 0.005 | 0.124 | |
| dot-FastqcFile-class | 0.003 | 0.001 | 0.006 | |
| dot-addPercent | 0.000 | 0.000 | 0.001 | |
| dot-emptyPlot | 0.143 | 0.007 | 0.195 | |
| dot-makeDendro | 0.509 | 0.022 | 0.691 | |
| dot-makeLabels | 0.002 | 0.000 | 0.001 | |
| dot-splitByTab | 0.004 | 0.000 | 0.005 | |
| estGcDistn | 0.023 | 0.001 | 0.033 | |
| extract-methods | 0.437 | 0.019 | 0.599 | |
| fqName-methods | 0.427 | 0.017 | 0.580 | |
| fqcVersion | 0.469 | 0.018 | 0.641 | |
| gcAvail | 0.032 | 0.001 | 0.043 | |
| gcTheoretical | 0.049 | 0.001 | 0.060 | |
| getColours-methods | 0.003 | 0.000 | 0.004 | |
| getGC | 0.023 | 0.000 | 0.031 | |
| getModule | 0.487 | 0.016 | 0.705 | |
| getSummary | 0.443 | 0.017 | 0.594 | |
| importNgsLogs | 0.043 | 0.002 | 0.061 | |
| importSJ | 0.009 | 0.001 | 0.013 | |
| isCompressed | 0.002 | 0.002 | 0.005 | |
| mData | 0.025 | 0.000 | 0.038 | |
| maxAdapterContent | 0.543 | 0.018 | 0.724 | |
| overRep2Fasta-methods | 0.454 | 0.018 | 0.649 | |
| path | 0.575 | 0.017 | 0.896 | |
| plotAdapterContent-methods | 3.193 | 0.109 | 5.041 | |
| plotAlignmentSummary | 0.375 | 0.018 | 0.600 | |
| plotAssemblyStats | 0.704 | 0.011 | 1.097 | |
| plotBaseQuals-methods | 1.866 | 0.039 | 2.926 | |
| plotDupLevels-methods | 1.489 | 0.032 | 2.334 | |
| plotFastqcPCA-methods | 0.839 | 0.026 | 1.317 | |
| plotGcContent-methods | 1.181 | 0.029 | 1.866 | |
| plotInsertSize-methods | 0.769 | 0.013 | 1.193 | |
| plotKmers-methods | 1.878 | 0.040 | 2.443 | |
| plotNContent-methods | 0.966 | 0.013 | 1.242 | |
| plotOverrep-methods | 0.968 | 0.022 | 1.272 | |
| plotReadTotals-methods | 0.945 | 0.023 | 1.237 | |
| plotSeqContent-methods | 2.233 | 0.042 | 3.338 | |
| plotSeqLengthDistn-methods | 1.441 | 0.033 | 2.088 | |
| plotSeqQuals-methods | 1.453 | 0.032 | 2.141 | |
| plotSummary-methods | 0.73 | 0.02 | 1.04 | |
| pwf | 0.004 | 0.001 | 0.006 | |
| readTotals | 0.462 | 0.015 | 0.668 | |
| writeHtmlReport | 0.000 | 0.001 | 0.000 | |