| Back to Mac ARM64 build report for BioC 3.17 |
|
This page was generated on 2023-10-20 09:38:06 -0400 (Fri, 20 Oct 2023).
| Hostname | OS | Arch (*) | R version | Installed pkgs |
|---|---|---|---|---|
| kjohnson2 | macOS 12.6.1 Monterey | arm64 | 4.3.1 (2023-06-16) -- "Beagle Scouts" | 4347 |
| Click on any hostname to see more info about the system (e.g. compilers) (*) as reported by 'uname -p', except on Windows and Mac OS X | ||||
| Package 1283/2230 | Hostname | OS / Arch | INSTALL | BUILD | CHECK | BUILD BIN | ||||||||
| motifcounter 1.24.0 (landing page) Wolfgang Kopp
| kjohnson2 | macOS 12.6.1 Monterey / arm64 | OK | OK | OK | OK | ||||||||
|
To the developers/maintainers of the motifcounter package: - Use the following Renviron settings to reproduce errors and warnings. - If 'R CMD check' started to fail recently on the Linux builder(s) over a missing dependency, add the missing dependency to 'Suggests:' in your DESCRIPTION file. See Renviron.bioc for more information. |
| Package: motifcounter |
| Version: 1.24.0 |
| Command: /Library/Frameworks/R.framework/Resources/bin/R CMD check --install=check:motifcounter.install-out.txt --library=/Library/Frameworks/R.framework/Resources/library --no-vignettes --timings motifcounter_1.24.0.tar.gz |
| StartedAt: 2023-10-18 09:00:42 -0400 (Wed, 18 Oct 2023) |
| EndedAt: 2023-10-18 09:06:36 -0400 (Wed, 18 Oct 2023) |
| EllapsedTime: 353.7 seconds |
| RetCode: 0 |
| Status: OK |
| CheckDir: motifcounter.Rcheck |
| Warnings: 0 |
##############################################################################
##############################################################################
###
### Running command:
###
### /Library/Frameworks/R.framework/Resources/bin/R CMD check --install=check:motifcounter.install-out.txt --library=/Library/Frameworks/R.framework/Resources/library --no-vignettes --timings motifcounter_1.24.0.tar.gz
###
##############################################################################
##############################################################################
* using log directory ‘/Users/biocbuild/bbs-3.17-bioc-mac-arm64/meat/motifcounter.Rcheck’
* using R version 4.3.1 (2023-06-16)
* using platform: aarch64-apple-darwin20 (64-bit)
* R was compiled by
Apple clang version 14.0.0 (clang-1400.0.29.202)
GNU Fortran (GCC) 12.2.0
* running under: macOS Monterey 12.6.7
* using session charset: UTF-8
* using option ‘--no-vignettes’
* checking for file ‘motifcounter/DESCRIPTION’ ... OK
* checking extension type ... Package
* this is package ‘motifcounter’ version ‘1.24.0’
* checking package namespace information ... OK
* checking package dependencies ... OK
* checking if this is a source package ... OK
* checking if there is a namespace ... OK
* checking for hidden files and directories ... NOTE
Found the following hidden files and directories:
.zenodo.json
These were most likely included in error. See section ‘Package
structure’ in the ‘Writing R Extensions’ manual.
* checking for portable file names ... OK
* checking for sufficient/correct file permissions ... OK
* checking whether package ‘motifcounter’ can be installed ... OK
* used C compiler: ‘Apple clang version 14.0.0 (clang-1400.0.29.202)’
* used SDK: ‘MacOSX11.3.sdk’
* checking installed package size ... OK
* checking package directory ... OK
* checking ‘build’ directory ... OK
* checking DESCRIPTION meta-information ... OK
* checking top-level files ... OK
* checking for left-over files ... OK
* checking index information ... OK
* checking package subdirectories ... OK
* checking R files for non-ASCII characters ... OK
* checking R files for syntax errors ... OK
* checking whether the package can be loaded ... OK
* checking whether the package can be loaded with stated dependencies ... OK
* checking whether the package can be unloaded cleanly ... OK
* checking whether the namespace can be loaded with stated dependencies ... OK
* checking whether the namespace can be unloaded cleanly ... OK
* checking startup messages can be suppressed ... OK
* checking dependencies in R code ... OK
* checking S3 generic/method consistency ... OK
* checking replacement functions ... OK
* checking foreign function calls ... OK
* checking R code for possible problems ... OK
* checking Rd files ... OK
* checking Rd metadata ... OK
* checking Rd cross-references ... OK
* checking for missing documentation entries ... OK
* checking for code/documentation mismatches ... OK
* checking Rd \usage sections ... OK
* checking Rd contents ... OK
* checking for unstated dependencies in examples ... OK
* checking line endings in C/C++/Fortran sources/headers ... OK
* checking line endings in Makefiles ... OK
* checking compilation flags in Makevars ... OK
* checking for GNU extensions in Makefiles ... OK
* checking for portable use of $(BLAS_LIBS) and $(LAPACK_LIBS) ... OK
* checking use of PKG_*FLAGS in Makefiles ... OK
* checking compiled code ... NOTE
Note: information on .o files is not available
* checking files in ‘vignettes’ ... OK
* checking examples ... OK
Examples with CPU (user + system) or elapsed time > 5s
user system elapsed
simulateClumpSizeDist 12.957 0.233 20.388
motifEnrichment 3.275 0.033 5.101
* checking for unstated dependencies in ‘tests’ ... OK
* checking tests ...
Running ‘testthat.R’
OK
* checking for unstated dependencies in vignettes ... OK
* checking package vignettes in ‘inst/doc’ ... OK
* checking running R code from vignettes ... SKIPPED
* checking re-building of vignette outputs ... SKIPPED
* checking PDF version of manual ... OK
* DONE
Status: 2 NOTEs
See
‘/Users/biocbuild/bbs-3.17-bioc-mac-arm64/meat/motifcounter.Rcheck/00check.log’
for details.
motifcounter.Rcheck/00install.out
##############################################################################
##############################################################################
###
### Running command:
###
### /Library/Frameworks/R.framework/Resources/bin/R CMD INSTALL motifcounter
###
##############################################################################
##############################################################################
* installing to library ‘/Library/Frameworks/R.framework/Versions/4.3-arm64/Resources/library’
* installing *source* package ‘motifcounter’ ...
** using staged installation
** libs
using C compiler: ‘Apple clang version 14.0.0 (clang-1400.0.29.202)’
using SDK: ‘MacOSX11.3.sdk’
clang -arch arm64 -I"/Library/Frameworks/R.framework/Resources/include" -DNDEBUG -I/opt/R/arm64/include -DIN_R -fPIC -falign-functions=64 -Wall -g -O2 -c Rbackground.c -o Rbackground.o
clang -arch arm64 -I"/Library/Frameworks/R.framework/Resources/include" -DNDEBUG -I/opt/R/arm64/include -DIN_R -fPIC -falign-functions=64 -Wall -g -O2 -c Rcombinatorial.c -o Rcombinatorial.o
clang -arch arm64 -I"/Library/Frameworks/R.framework/Resources/include" -DNDEBUG -I/opt/R/arm64/include -DIN_R -fPIC -falign-functions=64 -Wall -g -O2 -c Rcompoundpoisson.c -o Rcompoundpoisson.o
clang -arch arm64 -I"/Library/Frameworks/R.framework/Resources/include" -DNDEBUG -I/opt/R/arm64/include -DIN_R -fPIC -falign-functions=64 -Wall -g -O2 -c Rminmaxscore.c -o Rminmaxscore.o
clang -arch arm64 -I"/Library/Frameworks/R.framework/Resources/include" -DNDEBUG -I/opt/R/arm64/include -DIN_R -fPIC -falign-functions=64 -Wall -g -O2 -c Roption.c -o Roption.o
clang -arch arm64 -I"/Library/Frameworks/R.framework/Resources/include" -DNDEBUG -I/opt/R/arm64/include -DIN_R -fPIC -falign-functions=64 -Wall -g -O2 -c Roverlap.c -o Roverlap.o
clang -arch arm64 -I"/Library/Frameworks/R.framework/Resources/include" -DNDEBUG -I/opt/R/arm64/include -DIN_R -fPIC -falign-functions=64 -Wall -g -O2 -c Rscore1d.c -o Rscore1d.o
clang -arch arm64 -I"/Library/Frameworks/R.framework/Resources/include" -DNDEBUG -I/opt/R/arm64/include -DIN_R -fPIC -falign-functions=64 -Wall -g -O2 -c Rsequence.c -o Rsequence.o
Rsequence.c:143:21: warning: unused variable 'noscores' [-Wunused-variable]
int mins, maxs, noscores;
^
1 warning generated.
clang -arch arm64 -I"/Library/Frameworks/R.framework/Resources/include" -DNDEBUG -I/opt/R/arm64/include -DIN_R -fPIC -falign-functions=64 -Wall -g -O2 -c Rsimulate.c -o Rsimulate.o
clang -arch arm64 -I"/Library/Frameworks/R.framework/Resources/include" -DNDEBUG -I/opt/R/arm64/include -DIN_R -fPIC -falign-functions=64 -Wall -g -O2 -c background.c -o background.o
clang -arch arm64 -I"/Library/Frameworks/R.framework/Resources/include" -DNDEBUG -I/opt/R/arm64/include -DIN_R -fPIC -falign-functions=64 -Wall -g -O2 -c combinatorial.c -o combinatorial.o
clang -arch arm64 -I"/Library/Frameworks/R.framework/Resources/include" -DNDEBUG -I/opt/R/arm64/include -DIN_R -fPIC -falign-functions=64 -Wall -g -O2 -c compoundpoisson.c -o compoundpoisson.o
clang -arch arm64 -I"/Library/Frameworks/R.framework/Resources/include" -DNDEBUG -I/opt/R/arm64/include -DIN_R -fPIC -falign-functions=64 -Wall -g -O2 -c markovchain.c -o markovchain.o
clang -arch arm64 -I"/Library/Frameworks/R.framework/Resources/include" -DNDEBUG -I/opt/R/arm64/include -DIN_R -fPIC -falign-functions=64 -Wall -g -O2 -c markovchain_single.c -o markovchain_single.o
clang -arch arm64 -I"/Library/Frameworks/R.framework/Resources/include" -DNDEBUG -I/opt/R/arm64/include -DIN_R -fPIC -falign-functions=64 -Wall -g -O2 -c matrix.c -o matrix.o
clang -arch arm64 -I"/Library/Frameworks/R.framework/Resources/include" -DNDEBUG -I/opt/R/arm64/include -DIN_R -fPIC -falign-functions=64 -Wall -g -O2 -c mdist_register.c -o mdist_register.o
clang -arch arm64 -I"/Library/Frameworks/R.framework/Resources/include" -DNDEBUG -I/opt/R/arm64/include -DIN_R -fPIC -falign-functions=64 -Wall -g -O2 -c minmaxscore.c -o minmaxscore.o
clang -arch arm64 -I"/Library/Frameworks/R.framework/Resources/include" -DNDEBUG -I/opt/R/arm64/include -DIN_R -fPIC -falign-functions=64 -Wall -g -O2 -c overlap.c -o overlap.o
clang -arch arm64 -I"/Library/Frameworks/R.framework/Resources/include" -DNDEBUG -I/opt/R/arm64/include -DIN_R -fPIC -falign-functions=64 -Wall -g -O2 -c score1d.c -o score1d.o
clang -arch arm64 -I"/Library/Frameworks/R.framework/Resources/include" -DNDEBUG -I/opt/R/arm64/include -DIN_R -fPIC -falign-functions=64 -Wall -g -O2 -c score2d.c -o score2d.o
score2d.c:597:25: warning: variable 'p1' set but not used [-Wunused-but-set-variable]
double p, p0 = 0.0, p1 = 0.0, ptmp;
^
score2d.c:597:15: warning: variable 'p0' set but not used [-Wunused-but-set-variable]
double p, p0 = 0.0, p1 = 0.0, ptmp;
^
2 warnings generated.
clang -arch arm64 -I"/Library/Frameworks/R.framework/Resources/include" -DNDEBUG -I/opt/R/arm64/include -DIN_R -fPIC -falign-functions=64 -Wall -g -O2 -c scorefunctions.c -o scorefunctions.o
scorefunctions.c:84:22: warning: unused variable 'cindex' [-Wunused-variable]
int j, i, index, cindex, ds;
^
scorefunctions.c:119:17: warning: unused variable 'cindex' [-Wunused-variable]
int s, index, cindex;
^
scorefunctions.c:159:19: warning: unused variable 'cindex' [-Wunused-variable]
int s, index, cindex;
^
3 warnings generated.
clang -arch arm64 -I"/Library/Frameworks/R.framework/Resources/include" -DNDEBUG -I/opt/R/arm64/include -DIN_R -fPIC -falign-functions=64 -Wall -g -O2 -c sequence.c -o sequence.o
clang -arch arm64 -I"/Library/Frameworks/R.framework/Resources/include" -DNDEBUG -I/opt/R/arm64/include -DIN_R -fPIC -falign-functions=64 -Wall -g -O2 -c simulate.c -o simulate.o
clang -arch arm64 -dynamiclib -Wl,-headerpad_max_install_names -undefined dynamic_lookup -single_module -multiply_defined suppress -L/Library/Frameworks/R.framework/Resources/lib -L/opt/R/arm64/lib -o motifcounter.so Rbackground.o Rcombinatorial.o Rcompoundpoisson.o Rminmaxscore.o Roption.o Roverlap.o Rscore1d.o Rsequence.o Rsimulate.o background.o combinatorial.o compoundpoisson.o markovchain.o markovchain_single.o matrix.o mdist_register.o minmaxscore.o overlap.o score1d.o score2d.o scorefunctions.o sequence.o simulate.o -F/Library/Frameworks/R.framework/.. -framework R -Wl,-framework -Wl,CoreFoundation
installing to /Library/Frameworks/R.framework/Versions/4.3-arm64/Resources/library/00LOCK-motifcounter/00new/motifcounter/libs
** R
** inst
** byte-compile and prepare package for lazy loading
** help
*** installing help indices
** building package indices
** installing vignettes
** testing if installed package can be loaded from temporary location
** checking absolute paths in shared objects and dynamic libraries
** testing if installed package can be loaded from final location
** testing if installed package keeps a record of temporary installation path
* DONE (motifcounter)
motifcounter.Rcheck/tests/testthat.Rout
R version 4.3.1 (2023-06-16) -- "Beagle Scouts"
Copyright (C) 2023 The R Foundation for Statistical Computing
Platform: aarch64-apple-darwin20 (64-bit)
R is free software and comes with ABSOLUTELY NO WARRANTY.
You are welcome to redistribute it under certain conditions.
Type 'license()' or 'licence()' for distribution details.
R is a collaborative project with many contributors.
Type 'contributors()' for more information and
'citation()' on how to cite R or R packages in publications.
Type 'demo()' for some demos, 'help()' for on-line help, or
'help.start()' for an HTML browser interface to help.
Type 'q()' to quit R.
> library(testthat)
> library(motifcounter)
>
> test_check("motifcounter")
[ FAIL 0 | WARN 1 | SKIP 0 | PASS 841 ]
[ FAIL 0 | WARN 1 | SKIP 0 | PASS 841 ]
>
> proc.time()
user system elapsed
103.242 1.752 162.004
motifcounter.Rcheck/motifcounter-Ex.timings
| name | user | system | elapsed | |
| clumpSizeDist | 0.177 | 0.020 | 0.303 | |
| combinatorialDist | 0.257 | 0.017 | 0.426 | |
| compoundPoissonDist | 0.170 | 0.018 | 0.294 | |
| computeClumpStartProb | 0.121 | 0.005 | 0.190 | |
| generateDNAString | 0.091 | 0.004 | 0.145 | |
| generateDNAStringSet | 0.149 | 0.006 | 0.239 | |
| hitStrand | 0.094 | 0.005 | 0.153 | |
| lenSequences | 0.095 | 0.010 | 0.164 | |
| markovModel | 0.110 | 0.007 | 0.179 | |
| motifAndBackgroundValid | 0.085 | 0.002 | 0.134 | |
| motifEnrichment | 3.275 | 0.033 | 5.101 | |
| motifHitProfile | 0.084 | 0.005 | 0.138 | |
| motifHits | 0.087 | 0.004 | 0.142 | |
| motifValid | 0.002 | 0.000 | 0.002 | |
| motifcounter-package | 0.824 | 0.019 | 1.284 | |
| motifcounterOptions | 0.000 | 0.001 | 0.000 | |
| normalizeMotif | 0.002 | 0.001 | 0.002 | |
| numMotifHits | 0.664 | 0.013 | 1.037 | |
| probOverlapHit | 0.136 | 0.004 | 0.218 | |
| readBackground | 0.087 | 0.002 | 0.142 | |
| revcompMotif | 0.002 | 0.001 | 0.004 | |
| scoreDist | 0.089 | 0.003 | 0.147 | |
| scoreDistBf | 0.118 | 0.004 | 0.189 | |
| scoreDistEmpirical | 2.856 | 0.047 | 4.497 | |
| scoreHistogram | 0.215 | 0.009 | 0.358 | |
| scoreHistogramSingleSeq | 0.085 | 0.007 | 0.145 | |
| scoreProfile | 0.457 | 0.008 | 0.735 | |
| scoreSequence | 0.090 | 0.004 | 0.147 | |
| scoreStrand | 0.085 | 0.003 | 0.138 | |
| scoreThreshold | 0.083 | 0.002 | 0.130 | |
| sigLevel | 0 | 0 | 0 | |
| simulateClumpSizeDist | 12.957 | 0.233 | 20.388 | |
| simulateNumHitsDist | 2.210 | 0.036 | 3.488 | |